Workbook
Name オゾン層: [1]ラベル語彙集!$BG$15:$BG$17
Name 眼: [1]ラベル語彙集!$R$15:$R$27
Name 吸引性: [1]ラベル語彙集!$AV$15:$AV$21
Name 吸入: [1]ラベル語彙集!$J$15:$J$23
Name 経口: [1]ラベル語彙集!$B$15:$B$22
Name 経皮: [1]ラベル語彙集!$F$15:$F$22
Name 呼吸器気体: [1]ラベル語彙集!$X$15:$X$22
Name 呼吸器固体液体: [1]ラベル語彙集!$V$15:$V$22
Name 授乳影響: [1]ラベル語彙集!$AH$28:$AH$29
Name 水生急: [1]ラベル語彙集!$AY$15:$AY$22
Name 水生慢性: [1]ラベル語彙集!$BC$15:$BC$23
Name 生殖細胞: [1]ラベル語彙集!$Z$15:$Z$21
Name 生殖毒性: [1]ラベル語彙集!$AH$15:$AH$23
Name 特区分３: [1]ラベル語彙集!$AP$15:$AP$22
Name 特定1単: [1]ラベル語彙集!$AL$15:$AL$20
Name 特定１反: [1]ラベル語彙集!$AR$15:$AR$21
Name 特定２単: [1]ラベル語彙集!$AO$15:$AO$20
Name 特定２反: [1]ラベル語彙集!$AS$15:$AS$21
Name 特定単３: [1]ラベル語彙集!$AP$15:$AP$21
Name 発がん性: [1]ラベル語彙集!$AD$15:$AD$24
Name 皮膚: [1]ラベル語彙集!$N$15:$N$26
Name 皮膚感作性: [1]ラベル語彙集!$Y$15:$Y$22
Name 非加成性: [1]ラベル語彙集!#REF!
Name 非加成性: [1]ラベル語彙集!#REF!
Name 非加成性: [1]ラベル語彙集!#REF!
Name 非加成性: [1]ラベル語彙集!#REF!
Name 非加成性: [1]ラベル語彙集!#REF!
Name 非加成性: [1]ラベル語彙集!#REF!

Sheet ① Request for Information
C3: Request for Providing Product Information
W5: Dainichiseika Color & Chemicals Mfg. Co., Ltd.
W6: Ver8.1
C7: As a chemical manufacturer that plays a part in the supply chain from upstream (raw materials) to downstream (final products), and as part of our CSR activities, we are promoting the compilation of data on the chemical composition of raw materials in order to properly manage chemical substances with the aim of reducing environmental impact and ensuring product safety. Surveys of chemical substances contained in raw materials are not only subject to the compilation of data on chemical substances contained in raw materials, but also to raw materials that are already being supplied. We ask for your understanding and cooperation in the survey of chemical substances contained in raw materials.
C14: 1. Product name and contact information
C15: 1 | D15: Date of preparation | K15: Y | M15: M | O15: D
C16: 2 | D16: Name of your product
C18: 3 | D18: Contact info | F18: Company
F19: Dept.
F20: Person in charge
F21: Address
F22: Phone No.
F23: E-mail
C24: 4 | D24: Name of manufacturer
C27: 2. Documents to be submitted
C28: 1 | D28: SDS | H28: Please submit an updated SDS prepared in the Japanese language in compliance with the applicable laws of Japan.
C30: 2 | D30: Raw Material Survey Sheet | H30: Please fill in the sheets listed below (with the following names) in this Excel file and submit it to us.
H32: ① Request for Information
H33: ② DNS Prohibited Materials
H34: ③-1 Component Composition Data
H35: ③-2 Overseas inventory
H36: ④ Procurement of Minerals
C37: 3 | D37: chemSHERPA | H37: Please submit the latest version of chemSHERPA.
H38: Refer to the website below for how to prepare the document.
H39: https://chemsherpa.net/

Sheet ① Request for Information (Exp)
C3: Request for Providing Product Information
W5: Dainichiseika Color & Chemicals Mfg. Co., Ltd.
W6: Ver8.1
C7: As a chemical manufacturer that plays a part in the supply chain from upstream (raw materials) to downstream (final products), and as part of our CSR activities, we are promoting the compilation of data on the chemical composition of raw materials in order to properly manage chemical substances with the aim of reducing environmental impact and ensuring product safety. Surveys of chemical substances contained in raw materials are not only subject to the compilation of data on chemical substances contained in raw materials, but also to raw materials that are already being supplied. We ask for your understanding and cooperation in the survey of chemical substances contained in raw materials.
C14: 1. Product name and contact information
C15: 1 | D15: Date of preparation | H15: 2024 | K15: Y | L15: July | M15: M | N15: 30 | O15: D
C16: 2 | D16: Name of your product | H16: daicolor1-123
C18: 3 | D18: Contact info | F18: Company | H18: Dainichiseika Color & Chemicals Mfg. Co., Ltd.
F19: Dept. | H19: Quality Products Supervisory Department, CSR/ESG Promotion Group Headquarters
F20: Person in charge | H20: Taro Dainichi
F21: Address | H21: 1-9-4, Nihonnbashibakurocyo, Cyuo-ku, Tokyo, JAPAN
F22: Phone No. | H22: +81-1-2345-6789
F23: E-mail | H23: abc@daicolor.co.jp
C24: 4 | D24: Name of manufacturer | H24: Dainichiseika Color & Chemicals Mfg. Co., Ltd.
C27: 2. Documents to be submitted
C28: 1 | D28: SDS | H28: Please submit an updated SDS prepared in the Japanese language in compliance with the applicable laws of Japan.
C30: 2 | D30: Raw Material Survey Sheet | H30: Please fill in the sheets listed below (with the following names) in this Excel file and submit it to us.
H32: ① Request for Information
H33: ② DNS Prohibited Materials
H34: ③-1 Component Composition Data
H35: ③-2 Overseas inventory
H36: ④ Procurement of Minerals
C37: 3 | D37: chemSHERPA | H37: Please submit the latest version of chemSHERPA.
H38: Refer to the website below for how to prepare the document.
H39: https://chemsherpa.net/

Sheet ② DNS Prohibited Materials
C2: Status of Use of Substances Prohibited by Dainichiseika Group
C5: Name of your product | G5: ='① Request for Information'!H16 -> 0
C8: Date of preparation | G8: =IF('① Request for Information'!$N$15="","",'① Request for Information'!$H$15&"."&'① Request for Information'!$L$15&'① Request for Information'!$N$15)
C9: Company name | G9: ='① Request for Information'!H18 -> 0
C10: Department | G10: ='① Request for Information'!H19 -> 0
C11: Person in charge | G11: ='① Request for Information'!H20 -> 0
C14: Status of use of substances prohibited by Dainichiseika Group
J16: If you do not reply, we may not be able to purchase the product.
C17: Substances prohibited by Dainichiseika Group
C18: The substances that Dainichiseika Group prohibits to be used in the raw materials are either those restricted by the regulations below or those Dainichiseika autonomously designates as such. The chemical substances for which the relevant regulations set forth the upper limit thereof are prohibited to be used in the amount equivalent to or above the regulated upper limit. The current regulations provided by the relevant authorities at the time of preparation of the survey report shall apply.
C22: No. | E22: Name of regulation | U22: Country or region
C24: 1 | E24: Chemical Substances Control Law ・Class I Specified Chemical Substances | U24: Japan
C26: 2 | E26: Industrial Safety and Health Act ・Hazardous substances, etc. prohibited to be manufactured | U26: Japan
C28: 3 | E28: Poisonous and Deleterious Substances Control Act ・Specified poisonous substances | U28: Japan
C30: 4 | E30: RoHS Directive ・Hazardous substances restricted in their use | U30: EU
C32: 5 | E32: Substances designated by Dainichiseika Group 5-1: Specified azo dyes and pigments (generating certain amines) 5-2: Substances destroying the ozone layer (Act for Protection of the Ozone Layer through Regulation of Specified Substances and Other Measures) 5-3: Polychlorinated terphenyls (PCTs) 5-4: Radioactive substances (IEC 62474 DSL ) 5-5: Specified tributyl tin (TBT), triphenyl tin (TPT) *5-1, 5-3, 5-5 are mentioned in "REACH Rules, List of Restricted Substances, Annex XVII"
C39: *For the chemical substances restricted in each of the regulations, please refer to "National Institute of Technology and Evaluation: Chemical Risk Information Platform (NITE-CHRIP)" below
C41: https://www.chem-info.nite.go.jp/chem/chrip/chrip_search/systemTop
C42: Special notes: please list up any prohibited substances being used

Sheet ② DNS Prohibited Materials(Exp)
C2: Status of Use of Substances Prohibited by Dainichiseika Group
C5: Name of your product | G5: ='① Request for Information (Exp)'!H16 -> daicolor1-123
C8: Date of preparation | G8: =IF('① Request for Information (Exp)'!$N$15="","",'① Request for Information (Exp)'!$H$15&"."&'① Request for Information (Exp)'!$L$15&'① Request for Information (Exp)'!$N$15) -> 2024.July30
C9: Company name | G9: ='① Request for Information (Exp)'!H18 -> Dainichiseika Color & Chemicals Mfg. Co., Ltd.
C10: Department | G10: ='① Request for Information (Exp)'!H19 -> Quality Products Supervisory Department, CSR/ESG Promotion Group Headquarters
C11: Person in charge | G11: ='① Request for Information (Exp)'!H20 -> Taro Dainichi
C14: Status of use of substances prohibited by Dainichiseika Group | L14: Contains some
J16: If you do not reply, we may not be able to purchase the product.
C17: Substances prohibited by Dainichiseika Group
C18: The substances that Dainichiseika Group prohibits to be used in the raw materials are either those restricted by the regulations below or those Dainichiseika autonomously designates as such. The chemical substances for which the relevant regulations set forth the upper limit thereof are prohibited to be used in the amount equivalent to or above the regulated upper limit. The current regulations provided by the relevant authorities at the time of preparation of the survey report shall apply.
C22: No. | E22: Name of regulation | U22: Country or region
C24: 1 | E24: Chemical Substances Control Law ・Class I Specified Chemical Substances | U24: Japan
C26: 2 | E26: Industrial Safety and Health Act ・Hazardous substances, etc. prohibited to be manufactured | U26: Japan
C28: 3 | E28: Poisonous and Deleterious Substances Control Act ・Specified poisonous substances | U28: Japan
C30: 4 | E30: RoHS Directive ・Hazardous substances restricted in their use | U30: EU
C32: 5 | E32: Substances designated by Dainichiseika Group 5-1: Specified azo dyes and pigments (generating certain amines) 5-2: Substances destroying the ozone layer (Act for Protection of the Ozone Layer through Regulation of Specified Substances and Other Measures) 5-3: Polychlorinated terphenyls (PCTs) 5-4: Radioactive substances (IEC 62474 DSL ) 5-5: Specified tributyl tin (TBT), triphenyl tin (TPT) *5-1, 5-3, 5-5 are mentioned in "REACH Rules, List of Restricted Substances, Annex XVII"
C39: *For the chemical substances restricted in each of the regulations, please refer to "National Institute of Technology and Evaluation: Chemical Risk Information Platform (NITE-CHRIP)" below
C41: https://www.chem-info.nite.go.jp/chem/chrip/chrip_search/systemTop
C42: Special notes: please list up any prohibited substances being used
C43: ・Contains PCB as an impurity.

Sheet ③-1 Component Composition Data
B2: ="Dainichiseika Group: Raw Material Survey Sheet "&'① Request for Information'!$W$6 -> Dainichiseika Group: Raw Material Survey Sheet Ver8.1 | Y2: [Reminders for filling in the survey sheet] (Information on product components) ① Content ratio Please provide representational values to the extent possible. ② Impurities defined by Dainichiseika Group Non-reacting raw materials, reacting catalysts, indicators, byproducts (generated through chemical reactions not intended originally) ③ Composite oxides A complex oxide is a chemical substance that is created by combining two or more types of oxides to form a new bonding pattern. (1) Please describe them as a single substance. (2) If the substance is not a complex oxide, there is no need to enter anything in the cells of "Column W" and "Column X." (3) If the substance is a complex oxide, please enter the name and content of each of the constituent metal oxides. [Japan: information on applicable regulations on components and existing registration of chemical substances] Please enter the legal and regulatory information on a substance-by-substance basis. Please follow the latest information issued by relevant ministries and agencies as of the preparation date of this questionnaire. If there are multiple official gazette announcement numbers or cabinet order numbers for the Chemical Substances Control Law, the Industrial Safety and Health Law, etc., please list them all, separated by commas. If the substance falls under the Chemical Substances Control Law, you must enter the conversion factor for the metal element content (conversion factor) of the target metal.
B4: Name of your product | F4: ='① Request for Information'!H16 -> 0 | AZ4: No
AZ5: explosive substances
B6: Date of preparation | F6: =IF('① Request for Information'!$N$15="","",'① Request for Information'!$H$15&"."&'① Request for Information'!$L$15&'① Request for Information'!$N$15) | AZ6: combustible substances
B7: Company name | F7: ='① Request for Information'!H18 -> 0 | AZ7: oxidizing substances
B8: Department | F8: ='① Request for Information'!H19 -> 0 | AZ8: inflammable substances
B9: Person in charge | F9: ='① Request for Information'!H20 -> 0 | AZ9: combustible substances
B11: Product Components Information | Y11: Japan: information on applicable regulations on components and existing registration of chemical substances "Red": Required items, "Blue": Fill in if applicable, "Black": Optional items (fill in if possible)
C12: CAS Registration Number (CAS RN) | G12: Upper row : Component name（JPN） Lower row : Component name（ENG） | P12: Content ratio (%) | S12: Impurity or not | U12: Composite oxide or not | Y12: Japan | AV12: remarks
U13: YES or No | W13: Each Composite oxide name | X13: Content ratio (%) | Y13: Chemical Substances Control Law | AB13: Industrial Safety and Health Act | AP13: PRTR-SDS Law | AT13: Poisonous and Deleterious Substances Control Act
Y14: ENCS | Z14: MITI No. | AA14: Regulation | AB14: ISHL | AC14: ISHA No. | AD14: Obligation for labelling and notification | AE14: Cabinet Order Number | AF14: Mutagenic chemicals | AG14: Cabinet Order Number | AH14: Specified Chemicals Ordinance | AI14: Cabinet Order Number | AJ14: Organic Solvents Ordinance | AK14: Ordinance on Prevention of Lead Poisoning | AL14: Ordinance on Prevention of Tetraalkyl Lead Poisoning | AM14: Skin disorders, chemical substances, etc. | AN14: chemical substances of Carcinogens | AO14: dangerous goods | AP14: Regulation | AQ14: Control number | AR14: Metal elements, etc. | AS14: Conversion factor | AT14: Regulation | AU14: Cabinet Order Number | AZ14: 数字だけ | BC14: 15 | BD14: 14 | BE14: 13 | BF14: 12 | BG14: 11 | BH14: 10 | BI14: 9 | BJ14: 8 | BK14: 7 | BL14: 6 | BM14: 5 | BN14: 4 | BO14: 3 | BP14: 2 | BQ14: 1 | BR14: チェック
B15: 1 | AZ15: =SUBSTITUTE(C15,"-","") | BA15: =$AZ15*1 -> #VALUE! | BB15: =IFERROR($BA15,0) -> 0 | BC15: =IFERROR(MID(TEXT($AZ15,"????????????????"),COLUMN(A1),1)*1,"") | BD15: =IFERROR(MID(TEXT($AZ15,"????????????????"),COLUMN(B1),1)*1,"") | BE15: =IFERROR(MID(TEXT($AZ15,"????????????????"),COLUMN(C1),1)*1,"") | BF15: =IFERROR(MID(TEXT($AZ15,"????????????????"),COLUMN(D1),1)*1,"") | BG15: =IFERROR(MID(TEXT($AZ15,"????????????????"),COLUMN(E1),1)*1,"") | BH15: =IFERROR(MID(TEXT($AZ15,"????????????????"),COLUMN(F1),1)*1,"") | BI15: =IFERROR(MID(TEXT($AZ15,"????????????????"),COLUMN(G1),1)*1,"") | BJ15: =IFERROR(MID(TEXT($AZ15,"????????????????"),COLUMN(H1),1)*1,"") | ... BR15: =IFERROR(MID(TEXT($AZ15,"????????????????"),COLUMN(P1),1)*1,"")
BB16: =$BB15 -> 0 | BC16: =IF(BC15="",0,BC15) -> 0 | BD16: =IF(BD15="",0,BD15) -> 0 | BE16: =IF(BE15="",0,BE15) -> 0 | BF16: =IF(BF15="",0,BF15) -> 0 | BG16: =IF(BG15="",0,BG15) -> 0 | BH16: =IF(BH15="",0,BH15) -> 0 | BI16: =IF(BI15="",0,BI15) -> 0 | BJ16: =IF(BJ15="",0,BJ15) -> 0 | ... BR16: =IF(BR15="",0,BR15) -> 0 | BS16: =($BC$14*$BC16+$BD$14*$BD16+$BE$14*$BE16+$BF$14*$BF16+$BG$14*$BG16+$BH$14*$BH16+$BI$14*$BI16+$BJ$14*$BJ16+$BK$14*$BK16+$BL$14*$BL16+$BM$14*$BM16+$BN$14*$BN16+$BO$14*$BO16+$BP$14*$BP16+$BQ$14*$BQ16)/10 -> 0 | BT16: =MOD($BS16,1) -> 0 | BU16: =$BT16*10 -> 0 | BV16: =ROUND(BU16,1) -> 0 | BW16: =IF($BB16=0,300,(IF($BR16=$BV16,100,200))) -> 300 | BX16: =BR16-BU16 -> 0
B19: 2 | AZ19: =SUBSTITUTE(C19,"-","") | BA19: =$AZ19*1 -> #VALUE! | BB19: =IFERROR($BA19,0) -> 0 | BC19: =IFERROR(MID(TEXT($AZ19,"????????????????"),COLUMN(A5),1)*1,"") | BD19: =IFERROR(MID(TEXT($AZ19,"????????????????"),COLUMN(B5),1)*1,"") | BE19: =IFERROR(MID(TEXT($AZ19,"????????????????"),COLUMN(C5),1)*1,"") | BF19: =IFERROR(MID(TEXT($AZ19,"????????????????"),COLUMN(D5),1)*1,"") | BG19: =IFERROR(MID(TEXT($AZ19,"????????????????"),COLUMN(E5),1)*1,"") | BH19: =IFERROR(MID(TEXT($AZ19,"????????????????"),COLUMN(F5),1)*1,"") | BI19: =IFERROR(MID(TEXT($AZ19,"????????????????"),COLUMN(G5),1)*1,"") | BJ19: =IFERROR(MID(TEXT($AZ19,"????????????????"),COLUMN(H5),1)*1,"") | ... BR19: =IFERROR(MID(TEXT($AZ19,"????????????????"),COLUMN(P5),1)*1,"")
BB20: =$BB19 -> 0 | BC20: =IF(BC19="",0,BC19) -> 0 | BD20: =IF(BD19="",0,BD19) -> 0 | BE20: =IF(BE19="",0,BE19) -> 0 | BF20: =IF(BF19="",0,BF19) -> 0 | BG20: =IF(BG19="",0,BG19) -> 0 | BH20: =IF(BH19="",0,BH19) -> 0 | BI20: =IF(BI19="",0,BI19) -> 0 | BJ20: =IF(BJ19="",0,BJ19) -> 0 | ... BR20: =IF(BR19="",0,BR19) -> 0 | BS20: =($BC$14*$BC20+$BD$14*$BD20+$BE$14*$BE20+$BF$14*$BF20+$BG$14*$BG20+$BH$14*$BH20+$BI$14*$BI20+$BJ$14*$BJ20+$BK$14*$BK20+$BL$14*$BL20+$BM$14*$BM20+$BN$14*$BN20+$BO$14*$BO20+$BP$14*$BP20+$BQ$14*$BQ20)/10 -> 0 | BT20: =MOD($BS20,1) -> 0 | BU20: =$BT20*10 -> 0 | BV20: =ROUND(BU20,1) -> 0 | BW20: =IF($BB20=0,300,(IF($BR20=$BV20,100,200))) -> 300 | BX20: =BR20-BU20 -> 0
B23: 3 | AZ23: =SUBSTITUTE(C23,"-","") | BA23: =$AZ23*1 -> #VALUE! | BB23: =IFERROR($BA23,0) -> 0 | BC23: =IFERROR(MID(TEXT($AZ23,"????????????????"),COLUMN(A9),1)*1,"") | BD23: =IFERROR(MID(TEXT($AZ23,"????????????????"),COLUMN(B9),1)*1,"") | BE23: =IFERROR(MID(TEXT($AZ23,"????????????????"),COLUMN(C9),1)*1,"") | BF23: =IFERROR(MID(TEXT($AZ23,"????????????????"),COLUMN(D9),1)*1,"") | BG23: =IFERROR(MID(TEXT($AZ23,"????????????????"),COLUMN(E9),1)*1,"") | BH23: =IFERROR(MID(TEXT($AZ23,"????????????????"),COLUMN(F9),1)*1,"") | BI23: =IFERROR(MID(TEXT($AZ23,"????????????????"),COLUMN(G9),1)*1,"") | BJ23: =IFERROR(MID(TEXT($AZ23,"????????????????"),COLUMN(H9),1)*1,"") | ... BR23: =IFERROR(MID(TEXT($AZ23,"????????????????"),COLUMN(P9),1)*1,"")
BB24: =$BB23 -> 0 | BC24: =IF(BC23="",0,BC23) -> 0 | BD24: =IF(BD23="",0,BD23) -> 0 | BE24: =IF(BE23="",0,BE23) -> 0 | BF24: =IF(BF23="",0,BF23) -> 0 | BG24: =IF(BG23="",0,BG23) -> 0 | BH24: =IF(BH23="",0,BH23) -> 0 | BI24: =IF(BI23="",0,BI23) -> 0 | BJ24: =IF(BJ23="",0,BJ23) -> 0 | ... BR24: =IF(BR23="",0,BR23) -> 0 | BS24: =($BC$14*$BC24+$BD$14*$BD24+$BE$14*$BE24+$BF$14*$BF24+$BG$14*$BG24+$BH$14*$BH24+$BI$14*$BI24+$BJ$14*$BJ24+$BK$14*$BK24+$BL$14*$BL24+$BM$14*$BM24+$BN$14*$BN24+$BO$14*$BO24+$BP$14*$BP24+$BQ$14*$BQ24)/10 -> 0 | BT24: =MOD($BS24,1) -> 0 | BU24: =$BT24*10 -> 0 | BV24: =ROUND(BU24,1) -> 0 | BW24: =IF($BB24=0,300,(IF($BR24=$BV24,100,200))) -> 300 | BX24: =BR24-BU24 -> 0
B27: 4 | AZ27: =SUBSTITUTE(C27,"-","") | BA27: =$AZ27*1 -> #VALUE! | BB27: =IFERROR($BA27,0) -> 0 | BC27: =IFERROR(MID(TEXT($AZ27,"????????????????"),COLUMN(A13),1)*1,"") | BD27: =IFERROR(MID(TEXT($AZ27,"????????????????"),COLUMN(B13),1)*1,"") | BE27: =IFERROR(MID(TEXT($AZ27,"????????????????"),COLUMN(C13),1)*1,"") | BF27: =IFERROR(MID(TEXT($AZ27,"????????????????"),COLUMN(D13),1)*1,"") | BG27: =IFERROR(MID(TEXT($AZ27,"????????????????"),COLUMN(E13),1)*1,"") | BH27: =IFERROR(MID(TEXT($AZ27,"????????????????"),COLUMN(F13),1)*1,"") | BI27: =IFERROR(MID(TEXT($AZ27,"????????????????"),COLUMN(G13),1)*1,"") | BJ27: =IFERROR(MID(TEXT($AZ27,"????????????????"),COLUMN(H13),1)*1,"") | ... BR27: =IFERROR(MID(TEXT($AZ27,"????????????????"),COLUMN(P13),1)*1,"")
BB28: =$BB27 -> 0 | BC28: =IF(BC27="",0,BC27) -> 0 | BD28: =IF(BD27="",0,BD27) -> 0 | BE28: =IF(BE27="",0,BE27) -> 0 | BF28: =IF(BF27="",0,BF27) -> 0 | BG28: =IF(BG27="",0,BG27) -> 0 | BH28: =IF(BH27="",0,BH27) -> 0 | BI28: =IF(BI27="",0,BI27) -> 0 | BJ28: =IF(BJ27="",0,BJ27) -> 0 | ... BR28: =IF(BR27="",0,BR27) -> 0 | BS28: =($BC$14*$BC28+$BD$14*$BD28+$BE$14*$BE28+$BF$14*$BF28+$BG$14*$BG28+$BH$14*$BH28+$BI$14*$BI28+$BJ$14*$BJ28+$BK$14*$BK28+$BL$14*$BL28+$BM$14*$BM28+$BN$14*$BN28+$BO$14*$BO28+$BP$14*$BP28+$BQ$14*$BQ28)/10 -> 0 | BT28: =MOD($BS28,1) -> 0 | BU28: =$BT28*10 -> 0 | BV28: =ROUND(BU28,1) -> 0 | BW28: =IF($BB28=0,300,(IF($BR28=$BV28,100,200))) -> 300 | BX28: =BR28-BU28 -> 0
B31: 5 | AZ31: =SUBSTITUTE(C31,"-","") | BA31: =$AZ31*1 -> #VALUE! | BB31: =IFERROR($BA31,0) -> 0 | BC31: =IFERROR(MID(TEXT($AZ31,"????????????????"),COLUMN(A17),1)*1,"") | BD31: =IFERROR(MID(TEXT($AZ31,"????????????????"),COLUMN(B17),1)*1,"") | BE31: =IFERROR(MID(TEXT($AZ31,"????????????????"),COLUMN(C17),1)*1,"") | BF31: =IFERROR(MID(TEXT($AZ31,"????????????????"),COLUMN(D17),1)*1,"") | BG31: =IFERROR(MID(TEXT($AZ31,"????????????????"),COLUMN(E17),1)*1,"") | BH31: =IFERROR(MID(TEXT($AZ31,"????????????????"),COLUMN(F17),1)*1,"") | BI31: =IFERROR(MID(TEXT($AZ31,"????????????????"),COLUMN(G17),1)*1,"") | BJ31: =IFERROR(MID(TEXT($AZ31,"????????????????"),COLUMN(H17),1)*1,"") | ... BR31: =IFERROR(MID(TEXT($AZ31,"????????????????"),COLUMN(P17),1)*1,"")
BB32: =$BB31 -> 0 | BC32: =IF(BC31="",0,BC31) -> 0 | BD32: =IF(BD31="",0,BD31) -> 0 | BE32: =IF(BE31="",0,BE31) -> 0 | BF32: =IF(BF31="",0,BF31) -> 0 | BG32: =IF(BG31="",0,BG31) -> 0 | BH32: =IF(BH31="",0,BH31) -> 0 | BI32: =IF(BI31="",0,BI31) -> 0 | BJ32: =IF(BJ31="",0,BJ31) -> 0 | ... BR32: =IF(BR31="",0,BR31) -> 0 | BS32: =($BC$14*$BC32+$BD$14*$BD32+$BE$14*$BE32+$BF$14*$BF32+$BG$14*$BG32+$BH$14*$BH32+$BI$14*$BI32+$BJ$14*$BJ32+$BK$14*$BK32+$BL$14*$BL32+$BM$14*$BM32+$BN$14*$BN32+$BO$14*$BO32+$BP$14*$BP32+$BQ$14*$BQ32)/10 -> 0 | BT32: =MOD($BS32,1) -> 0 | BU32: =$BT32*10 -> 0 | BV32: =ROUND(BU32,1) -> 0 | BW32: =IF($BB32=0,300,(IF($BR32=$BV32,100,200))) -> 300
B35: 6 | AZ35: =SUBSTITUTE(C35,"-","") | BA35: =$AZ35*1 -> #VALUE! | BB35: =IFERROR($BA35,0) -> 0 | BC35: =IFERROR(MID(TEXT($AZ35,"????????????????"),COLUMN(A21),1)*1,"") | BD35: =IFERROR(MID(TEXT($AZ35,"????????????????"),COLUMN(B21),1)*1,"") | BE35: =IFERROR(MID(TEXT($AZ35,"????????????????"),COLUMN(C21),1)*1,"") | BF35: =IFERROR(MID(TEXT($AZ35,"????????????????"),COLUMN(D21),1)*1,"") | BG35: =IFERROR(MID(TEXT($AZ35,"????????????????"),COLUMN(E21),1)*1,"") | BH35: =IFERROR(MID(TEXT($AZ35,"????????????????"),COLUMN(F21),1)*1,"") | BI35: =IFERROR(MID(TEXT($AZ35,"????????????????"),COLUMN(G21),1)*1,"") | BJ35: =IFERROR(MID(TEXT($AZ35,"????????????????"),COLUMN(H21),1)*1,"") | ... BR35: =IFERROR(MID(TEXT($AZ35,"????????????????"),COLUMN(P21),1)*1,"")
BB36: =$BB35 -> 0 | BC36: =IF(BC35="",0,BC35) -> 0 | BD36: =IF(BD35="",0,BD35) -> 0 | BE36: =IF(BE35="",0,BE35) -> 0 | BF36: =IF(BF35="",0,BF35) -> 0 | BG36: =IF(BG35="",0,BG35) -> 0 | BH36: =IF(BH35="",0,BH35) -> 0 | BI36: =IF(BI35="",0,BI35) -> 0 | BJ36: =IF(BJ35="",0,BJ35) -> 0 | ... BR36: =IF(BR35="",0,BR35) -> 0 | BS36: =($BC$14*$BC36+$BD$14*$BD36+$BE$14*$BE36+$BF$14*$BF36+$BG$14*$BG36+$BH$14*$BH36+$BI$14*$BI36+$BJ$14*$BJ36+$BK$14*$BK36+$BL$14*$BL36+$BM$14*$BM36+$BN$14*$BN36+$BO$14*$BO36+$BP$14*$BP36+$BQ$14*$BQ36)/10 -> 0 | BT36: =MOD($BS36,1) -> 0 | BU36: =$BT36*10 -> 0 | BV36: =ROUND(BU36,1) -> 0 | BW36: =IF($BB36=0,300,(IF($BR36=$BV36,100,200))) -> 300
B39: 7 | AZ39: =SUBSTITUTE(C39,"-","") | BA39: =$AZ39*1 -> #VALUE! | BB39: =IFERROR($BA39,0) -> 0 | BC39: =IFERROR(MID(TEXT($AZ39,"????????????????"),COLUMN(A25),1)*1,"") | BD39: =IFERROR(MID(TEXT($AZ39,"????????????????"),COLUMN(B25),1)*1,"") | BE39: =IFERROR(MID(TEXT($AZ39,"????????????????"),COLUMN(C25),1)*1,"") | BF39: =IFERROR(MID(TEXT($AZ39,"????????????????"),COLUMN(D25),1)*1,"") | BG39: =IFERROR(MID(TEXT($AZ39,"????????????????"),COLUMN(E25),1)*1,"") | BH39: =IFERROR(MID(TEXT($AZ39,"????????????????"),COLUMN(F25),1)*1,"") | BI39: =IFERROR(MID(TEXT($AZ39,"????????????????"),COLUMN(G25),1)*1,"") | BJ39: =IFERROR(MID(TEXT($AZ39,"????????????????"),COLUMN(H25),1)*1,"") | ... BR39: =IFERROR(MID(TEXT($AZ39,"????????????????"),COLUMN(P25),1)*1,"")
BB40: =$BB39 -> 0 | BC40: =IF(BC39="",0,BC39) -> 0 | BD40: =IF(BD39="",0,BD39) -> 0 | BE40: =IF(BE39="",0,BE39) -> 0 | BF40: =IF(BF39="",0,BF39) -> 0 | BG40: =IF(BG39="",0,BG39) -> 0 | BH40: =IF(BH39="",0,BH39) -> 0 | BI40: =IF(BI39="",0,BI39) -> 0 | BJ40: =IF(BJ39="",0,BJ39) -> 0 | ... BR40: =IF(BR39="",0,BR39) -> 0 | BS40: =($BC$14*$BC40+$BD$14*$BD40+$BE$14*$BE40+$BF$14*$BF40+$BG$14*$BG40+$BH$14*$BH40+$BI$14*$BI40+$BJ$14*$BJ40+$BK$14*$BK40+$BL$14*$BL40+$BM$14*$BM40+$BN$14*$BN40+$BO$14*$BO40+$BP$14*$BP40+$BQ$14*$BQ40)/10 -> 0 | BT40: =MOD($BS40,1) -> 0 | BU40: =$BT40*10 -> 0 | BV40: =ROUND(BU40,1) -> 0 | BW40: =IF($BB40=0,300,(IF($BR40=$BV40,100,200))) -> 300
B43: 8 | AZ43: =SUBSTITUTE(C43,"-","") | BA43: =$AZ43*1 -> #VALUE! | BB43: =IFERROR($BA43,0) -> 0 | BC43: =IFERROR(MID(TEXT($AZ43,"????????????????"),COLUMN(A29),1)*1,"") | BD43: =IFERROR(MID(TEXT($AZ43,"????????????????"),COLUMN(B29),1)*1,"") | BE43: =IFERROR(MID(TEXT($AZ43,"????????????????"),COLUMN(C29),1)*1,"") | BF43: =IFERROR(MID(TEXT($AZ43,"????????????????"),COLUMN(D29),1)*1,"") | BG43: =IFERROR(MID(TEXT($AZ43,"????????????????"),COLUMN(E29),1)*1,"") | BH43: =IFERROR(MID(TEXT($AZ43,"????????????????"),COLUMN(F29),1)*1,"") | BI43: =IFERROR(MID(TEXT($AZ43,"????????????????"),COLUMN(G29),1)*1,"") | BJ43: =IFERROR(MID(TEXT($AZ43,"????????????????"),COLUMN(H29),1)*1,"") | ... BR43: =IFERROR(MID(TEXT($AZ43,"????????????????"),COLUMN(P29),1)*1,"")
BB44: =$BB43 -> 0 | BC44: =IF(BC43="",0,BC43) -> 0 | BD44: =IF(BD43="",0,BD43) -> 0 | BE44: =IF(BE43="",0,BE43) -> 0 | BF44: =IF(BF43="",0,BF43) -> 0 | BG44: =IF(BG43="",0,BG43) -> 0 | BH44: =IF(BH43="",0,BH43) -> 0 | BI44: =IF(BI43="",0,BI43) -> 0 | BJ44: =IF(BJ43="",0,BJ43) -> 0 | ... BR44: =IF(BR43="",0,BR43) -> 0 | BS44: =($BC$14*$BC44+$BD$14*$BD44+$BE$14*$BE44+$BF$14*$BF44+$BG$14*$BG44+$BH$14*$BH44+$BI$14*$BI44+$BJ$14*$BJ44+$BK$14*$BK44+$BL$14*$BL44+$BM$14*$BM44+$BN$14*$BN44+$BO$14*$BO44+$BP$14*$BP44+$BQ$14*$BQ44)/10 -> 0 | BT44: =MOD($BS44,1) -> 0 | BU44: =$BT44*10 -> 0 | BV44: =ROUND(BU44,1) -> 0 | BW44: =IF($BB44=0,300,(IF($BR44=$BV44,100,200))) -> 300
B47: 9 | AZ47: =SUBSTITUTE(C47,"-","") | BA47: =$AZ47*1 -> #VALUE! | BB47: =IFERROR($BA47,0) -> 0 | BC47: =IFERROR(MID(TEXT($AZ47,"????????????????"),COLUMN(A33),1)*1,"") | BD47: =IFERROR(MID(TEXT($AZ47,"????????????????"),COLUMN(B33),1)*1,"") | BE47: =IFERROR(MID(TEXT($AZ47,"????????????????"),COLUMN(C33),1)*1,"") | BF47: =IFERROR(MID(TEXT($AZ47,"????????????????"),COLUMN(D33),1)*1,"") | BG47: =IFERROR(MID(TEXT($AZ47,"????????????????"),COLUMN(E33),1)*1,"") | BH47: =IFERROR(MID(TEXT($AZ47,"????????????????"),COLUMN(F33),1)*1,"") | BI47: =IFERROR(MID(TEXT($AZ47,"????????????????"),COLUMN(G33),1)*1,"") | BJ47: =IFERROR(MID(TEXT($AZ47,"????????????????"),COLUMN(H33),1)*1,"") | ... BR47: =IFERROR(MID(TEXT($AZ47,"????????????????"),COLUMN(P33),1)*1,"")
BB48: =$BB47 -> 0 | BC48: =IF(BC47="",0,BC47) -> 0 | BD48: =IF(BD47="",0,BD47) -> 0 | BE48: =IF(BE47="",0,BE47) -> 0 | BF48: =IF(BF47="",0,BF47) -> 0 | BG48: =IF(BG47="",0,BG47) -> 0 | BH48: =IF(BH47="",0,BH47) -> 0 | BI48: =IF(BI47="",0,BI47) -> 0 | BJ48: =IF(BJ47="",0,BJ47) -> 0 | ... BR48: =IF(BR47="",0,BR47) -> 0 | BS48: =($BC$14*$BC48+$BD$14*$BD48+$BE$14*$BE48+$BF$14*$BF48+$BG$14*$BG48+$BH$14*$BH48+$BI$14*$BI48+$BJ$14*$BJ48+$BK$14*$BK48+$BL$14*$BL48+$BM$14*$BM48+$BN$14*$BN48+$BO$14*$BO48+$BP$14*$BP48+$BQ$14*$BQ48)/10 -> 0 | BT48: =MOD($BS48,1) -> 0 | BU48: =$BT48*10 -> 0 | BV48: =ROUND(BU48,1) -> 0 | BW48: =IF($BB48=0,300,(IF($BR48=$BV48,100,200))) -> 300
B51: 10 | AZ51: =SUBSTITUTE(C51,"-","") | BA51: =$AZ51*1 -> #VALUE! | BB51: =IFERROR($BA51,0) -> 0 | BC51: =IFERROR(MID(TEXT($AZ51,"????????????????"),COLUMN(A37),1)*1,"") | BD51: =IFERROR(MID(TEXT($AZ51,"????????????????"),COLUMN(B37),1)*1,"") | BE51: =IFERROR(MID(TEXT($AZ51,"????????????????"),COLUMN(C37),1)*1,"") | BF51: =IFERROR(MID(TEXT($AZ51,"????????????????"),COLUMN(D37),1)*1,"") | BG51: =IFERROR(MID(TEXT($AZ51,"????????????????"),COLUMN(E37),1)*1,"") | BH51: =IFERROR(MID(TEXT($AZ51,"????????????????"),COLUMN(F37),1)*1,"") | BI51: =IFERROR(MID(TEXT($AZ51,"????????????????"),COLUMN(G37),1)*1,"") | BJ51: =IFERROR(MID(TEXT($AZ51,"????????????????"),COLUMN(H37),1)*1,"") | ... BR51: =IFERROR(MID(TEXT($AZ51,"????????????????"),COLUMN(P37),1)*1,"")
BB52: =$BB51 -> 0 | BC52: =IF(BC51="",0,BC51) -> 0 | BD52: =IF(BD51="",0,BD51) -> 0 | BE52: =IF(BE51="",0,BE51) -> 0 | BF52: =IF(BF51="",0,BF51) -> 0 | BG52: =IF(BG51="",0,BG51) -> 0 | BH52: =IF(BH51="",0,BH51) -> 0 | BI52: =IF(BI51="",0,BI51) -> 0 | BJ52: =IF(BJ51="",0,BJ51) -> 0 | ... BR52: =IF(BR51="",0,BR51) -> 0 | BS52: =($BC$14*$BC52+$BD$14*$BD52+$BE$14*$BE52+$BF$14*$BF52+$BG$14*$BG52+$BH$14*$BH52+$BI$14*$BI52+$BJ$14*$BJ52+$BK$14*$BK52+$BL$14*$BL52+$BM$14*$BM52+$BN$14*$BN52+$BO$14*$BO52+$BP$14*$BP52+$BQ$14*$BQ52)/10 -> 0 | BT52: =MOD($BS52,1) -> 0 | BU52: =$BT52*10 -> 0 | BV52: =ROUND(BU52,1) -> 0 | BW52: =IF($BB52=0,300,(IF($BR52=$BV52,100,200))) -> 300
B55: 11 | AZ55: =SUBSTITUTE(C55,"-","") | BA55: =$AZ55*1 -> #VALUE! | BB55: =IFERROR($BA55,0) -> 0 | BC55: =IFERROR(MID(TEXT($AZ55,"????????????????"),COLUMN(A41),1)*1,"") | BD55: =IFERROR(MID(TEXT($AZ55,"????????????????"),COLUMN(B41),1)*1,"") | BE55: =IFERROR(MID(TEXT($AZ55,"????????????????"),COLUMN(C41),1)*1,"") | BF55: =IFERROR(MID(TEXT($AZ55,"????????????????"),COLUMN(D41),1)*1,"") | BG55: =IFERROR(MID(TEXT($AZ55,"????????????????"),COLUMN(E41),1)*1,"") | BH55: =IFERROR(MID(TEXT($AZ55,"????????????????"),COLUMN(F41),1)*1,"") | BI55: =IFERROR(MID(TEXT($AZ55,"????????????????"),COLUMN(G41),1)*1,"") | BJ55: =IFERROR(MID(TEXT($AZ55,"????????????????"),COLUMN(H41),1)*1,"") | ... BR55: =IFERROR(MID(TEXT($AZ55,"????????????????"),COLUMN(P41),1)*1,"")
BB56: =$BB55 -> 0 | BC56: =IF(BC55="",0,BC55) -> 0 | BD56: =IF(BD55="",0,BD55) -> 0 | BE56: =IF(BE55="",0,BE55) -> 0 | BF56: =IF(BF55="",0,BF55) -> 0 | BG56: =IF(BG55="",0,BG55) -> 0 | BH56: =IF(BH55="",0,BH55) -> 0 | BI56: =IF(BI55="",0,BI55) -> 0 | BJ56: =IF(BJ55="",0,BJ55) -> 0 | ... BR56: =IF(BR55="",0,BR55) -> 0 | BS56: =($BC$14*$BC56+$BD$14*$BD56+$BE$14*$BE56+$BF$14*$BF56+$BG$14*$BG56+$BH$14*$BH56+$BI$14*$BI56+$BJ$14*$BJ56+$BK$14*$BK56+$BL$14*$BL56+$BM$14*$BM56+$BN$14*$BN56+$BO$14*$BO56+$BP$14*$BP56+$BQ$14*$BQ56)/10 -> 0 | BT56: =MOD($BS56,1) -> 0 | BU56: =$BT56*10 -> 0 | BV56: =ROUND(BU56,1) -> 0 | BW56: =IF($BB56=0,300,(IF($BR56=$BV56,100,200))) -> 300
B59: 12 | AZ59: =SUBSTITUTE(C59,"-","") | BA59: =$AZ59*1 -> #VALUE! | BB59: =IFERROR($BA59,0) -> 0 | BC59: =IFERROR(MID(TEXT($AZ59,"????????????????"),COLUMN(A45),1)*1,"") | BD59: =IFERROR(MID(TEXT($AZ59,"????????????????"),COLUMN(B45),1)*1,"") | BE59: =IFERROR(MID(TEXT($AZ59,"????????????????"),COLUMN(C45),1)*1,"") | BF59: =IFERROR(MID(TEXT($AZ59,"????????????????"),COLUMN(D45),1)*1,"") | BG59: =IFERROR(MID(TEXT($AZ59,"????????????????"),COLUMN(E45),1)*1,"") | BH59: =IFERROR(MID(TEXT($AZ59,"????????????????"),COLUMN(F45),1)*1,"") | BI59: =IFERROR(MID(TEXT($AZ59,"????????????????"),COLUMN(G45),1)*1,"") | BJ59: =IFERROR(MID(TEXT($AZ59,"????????????????"),COLUMN(H45),1)*1,"") | ... BR59: =IFERROR(MID(TEXT($AZ59,"????????????????"),COLUMN(P45),1)*1,"")
BB60: =$BB59 -> 0 | BC60: =IF(BC59="",0,BC59) -> 0 | BD60: =IF(BD59="",0,BD59) -> 0 | BE60: =IF(BE59="",0,BE59) -> 0 | BF60: =IF(BF59="",0,BF59) -> 0 | BG60: =IF(BG59="",0,BG59) -> 0 | BH60: =IF(BH59="",0,BH59) -> 0 | BI60: =IF(BI59="",0,BI59) -> 0 | BJ60: =IF(BJ59="",0,BJ59) -> 0 | ... BR60: =IF(BR59="",0,BR59) -> 0 | BS60: =($BC$14*$BC60+$BD$14*$BD60+$BE$14*$BE60+$BF$14*$BF60+$BG$14*$BG60+$BH$14*$BH60+$BI$14*$BI60+$BJ$14*$BJ60+$BK$14*$BK60+$BL$14*$BL60+$BM$14*$BM60+$BN$14*$BN60+$BO$14*$BO60+$BP$14*$BP60+$BQ$14*$BQ60)/10 -> 0 | BT60: =MOD($BS60,1) -> 0 | BU60: =$BT60*10 -> 0 | BV60: =ROUND(BU60,1) -> 0 | BW60: =IF($BB60=0,300,(IF($BR60=$BV60,100,200))) -> 300
B63: 13 | AZ63: =SUBSTITUTE(C63,"-","") | BA63: =$AZ63*1 -> #VALUE! | BB63: =IFERROR($BA63,0) -> 0 | BC63: =IFERROR(MID(TEXT($AZ63,"????????????????"),COLUMN(A49),1)*1,"") | BD63: =IFERROR(MID(TEXT($AZ63,"????????????????"),COLUMN(B49),1)*1,"") | BE63: =IFERROR(MID(TEXT($AZ63,"????????????????"),COLUMN(C49),1)*1,"") | BF63: =IFERROR(MID(TEXT($AZ63,"????????????????"),COLUMN(D49),1)*1,"") | BG63: =IFERROR(MID(TEXT($AZ63,"????????????????"),COLUMN(E49),1)*1,"") | BH63: =IFERROR(MID(TEXT($AZ63,"????????????????"),COLUMN(F49),1)*1,"") | BI63: =IFERROR(MID(TEXT($AZ63,"????????????????"),COLUMN(G49),1)*1,"") | BJ63: =IFERROR(MID(TEXT($AZ63,"????????????????"),COLUMN(H49),1)*1,"") | ... BR63: =IFERROR(MID(TEXT($AZ63,"????????????????"),COLUMN(P49),1)*1,"")
BB64: =$BB63 -> 0 | BC64: =IF(BC63="",0,BC63) -> 0 | BD64: =IF(BD63="",0,BD63) -> 0 | BE64: =IF(BE63="",0,BE63) -> 0 | BF64: =IF(BF63="",0,BF63) -> 0 | BG64: =IF(BG63="",0,BG63) -> 0 | BH64: =IF(BH63="",0,BH63) -> 0 | BI64: =IF(BI63="",0,BI63) -> 0 | BJ64: =IF(BJ63="",0,BJ63) -> 0 | ... BR64: =IF(BR63="",0,BR63) -> 0 | BS64: =($BC$14*$BC64+$BD$14*$BD64+$BE$14*$BE64+$BF$14*$BF64+$BG$14*$BG64+$BH$14*$BH64+$BI$14*$BI64+$BJ$14*$BJ64+$BK$14*$BK64+$BL$14*$BL64+$BM$14*$BM64+$BN$14*$BN64+$BO$14*$BO64+$BP$14*$BP64+$BQ$14*$BQ64)/10 -> 0 | BT64: =MOD($BS64,1) -> 0 | BU64: =$BT64*10 -> 0 | BV64: =ROUND(BU64,1) -> 0 | BW64: =IF($BB64=0,300,(IF($BR64=$BV64,100,200))) -> 300
B67: 14 | AZ67: =SUBSTITUTE(C67,"-","") | BA67: =$AZ67*1 -> #VALUE! | BB67: =IFERROR($BA67,0) -> 0 | BC67: =IFERROR(MID(TEXT($AZ67,"????????????????"),COLUMN(A53),1)*1,"") | BD67: =IFERROR(MID(TEXT($AZ67,"????????????????"),COLUMN(B53),1)*1,"") | BE67: =IFERROR(MID(TEXT($AZ67,"????????????????"),COLUMN(C53),1)*1,"") | BF67: =IFERROR(MID(TEXT($AZ67,"????????????????"),COLUMN(D53),1)*1,"") | BG67: =IFERROR(MID(TEXT($AZ67,"????????????????"),COLUMN(E53),1)*1,"") | BH67: =IFERROR(MID(TEXT($AZ67,"????????????????"),COLUMN(F53),1)*1,"") | BI67: =IFERROR(MID(TEXT($AZ67,"????????????????"),COLUMN(G53),1)*1,"") | BJ67: =IFERROR(MID(TEXT($AZ67,"????????????????"),COLUMN(H53),1)*1,"") | ... BR67: =IFERROR(MID(TEXT($AZ67,"????????????????"),COLUMN(P53),1)*1,"")
BB68: =$BB67 -> 0 | BC68: =IF(BC67="",0,BC67) -> 0 | BD68: =IF(BD67="",0,BD67) -> 0 | BE68: =IF(BE67="",0,BE67) -> 0 | BF68: =IF(BF67="",0,BF67) -> 0 | BG68: =IF(BG67="",0,BG67) -> 0 | BH68: =IF(BH67="",0,BH67) -> 0 | BI68: =IF(BI67="",0,BI67) -> 0 | BJ68: =IF(BJ67="",0,BJ67) -> 0 | ... BR68: =IF(BR67="",0,BR67) -> 0 | BS68: =($BC$14*$BC68+$BD$14*$BD68+$BE$14*$BE68+$BF$14*$BF68+$BG$14*$BG68+$BH$14*$BH68+$BI$14*$BI68+$BJ$14*$BJ68+$BK$14*$BK68+$BL$14*$BL68+$BM$14*$BM68+$BN$14*$BN68+$BO$14*$BO68+$BP$14*$BP68+$BQ$14*$BQ68)/10 -> 0 | BT68: =MOD($BS68,1) -> 0 | BU68: =$BT68*10 -> 0 | BV68: =ROUND(BU68,1) -> 0 | BW68: =IF($BB68=0,300,(IF($BR68=$BV68,100,200))) -> 300
B71: 15 | AZ71: =SUBSTITUTE(C71,"-","") | BA71: =$AZ71*1 -> #VALUE! | BB71: =IFERROR($BA71,0) -> 0 | BC71: =IFERROR(MID(TEXT($AZ71,"????????????????"),COLUMN(A57),1)*1,"") | BD71: =IFERROR(MID(TEXT($AZ71,"????????????????"),COLUMN(B57),1)*1,"") | BE71: =IFERROR(MID(TEXT($AZ71,"????????????????"),COLUMN(C57),1)*1,"") | BF71: =IFERROR(MID(TEXT($AZ71,"????????????????"),COLUMN(D57),1)*1,"") | BG71: =IFERROR(MID(TEXT($AZ71,"????????????????"),COLUMN(E57),1)*1,"") | BH71: =IFERROR(MID(TEXT($AZ71,"????????????????"),COLUMN(F57),1)*1,"") | BI71: =IFERROR(MID(TEXT($AZ71,"????????????????"),COLUMN(G57),1)*1,"") | BJ71: =IFERROR(MID(TEXT($AZ71,"????????????????"),COLUMN(H57),1)*1,"") | ... BR71: =IFERROR(MID(TEXT($AZ71,"????????????????"),COLUMN(P57),1)*1,"")
BB72: =$BB71 -> 0 | BC72: =IF(BC71="",0,BC71) -> 0 | BD72: =IF(BD71="",0,BD71) -> 0 | BE72: =IF(BE71="",0,BE71) -> 0 | BF72: =IF(BF71="",0,BF71) -> 0 | BG72: =IF(BG71="",0,BG71) -> 0 | BH72: =IF(BH71="",0,BH71) -> 0 | BI72: =IF(BI71="",0,BI71) -> 0 | BJ72: =IF(BJ71="",0,BJ71) -> 0 | ... BR72: =IF(BR71="",0,BR71) -> 0 | BS72: =($BC$14*$BC72+$BD$14*$BD72+$BE$14*$BE72+$BF$14*$BF72+$BG$14*$BG72+$BH$14*$BH72+$BI$14*$BI72+$BJ$14*$BJ72+$BK$14*$BK72+$BL$14*$BL72+$BM$14*$BM72+$BN$14*$BN72+$BO$14*$BO72+$BP$14*$BP72+$BQ$14*$BQ72)/10 -> 0 | BT72: =MOD($BS72,1) -> 0 | BU72: =$BT72*10 -> 0 | BV72: =ROUND(BU72,1) -> 0 | BW72: =IF($BB72=0,300,(IF($BR72=$BV72,100,200))) -> 300
B75: [Make sure the total to be 100%] | P75: =SUM(P23:R74) -> 0 | S75: %
B77: Special Notes: please describe below any information on the product components to be noted
Y88: Existing chemical substances | AA88: General Chemical Substances | AB88: Existing chemical substances | AH88: No | AJ88: No
Y89: Chemical substances before public notice | AA89: Specific General Chemical Substances | AB89: Chemical substances before public notice | AH89: 1-Group substances | AJ89: I Class Organic Solvents, etc.
Y90: New chemical substances in a small quantity | AA90: Priority Assessment Chemical Substances | AB90: New chemical substances in a small quantity | AH90: 2-Group substances | AJ90: II Class Organic Solvents, etc.
Y91: New chemical substances with low production volume | AA91: Chemical Substances subject to monitoring | AB91: Chemical substances used for research purposes | AH91: 2-Group substances (Special organic solvents) | AJ91: III Class Organic Solvents, etc.
Y92: Low concern high molecular compounds (Polymers) | AA92: Class I Specified Chemical Substances | AB92: Out of scope | AH92: 3-Group substances
Y93: Intermediates | AA93: Class II Specified Chemical Substances
Y94: Chemical substances used for research purposes | AJ94: No,I Class Organic Solvents, etc.,II Class Organic Solvents, etc.,III Class Organic Solvents, etc.
Y95: Out of scope

Sheet ③-1 Component Composition D (E)
AZ1: No
B2: ="Dainichiseika Group: Raw Material Survey Sheet "&'① Request for Information'!$W$6 -> Dainichiseika Group: Raw Material Survey Sheet Ver8.1 | Y2: [Reminders for filling in the survey sheet] (Information on product components) ① Content ratio Please provide representational values to the extent possible. ② Impurities defined by Dainichiseika Group Non-reacting raw materials, reacting catalysts, indicators, byproducts (generated through chemical reactions not intended originally) ③ Composite oxides A complex oxide is a chemical substance that is created by combining two or more types of oxides to form a new bonding pattern. (1) Please describe them as a single substance. (2) If the substance is not a complex oxide, there is no need to enter anything in the cells of "Column W" and "Column X." (3) If the substance is a complex oxide, please enter the name and content of each of the constituent metal oxides. [Japan: information on applicable regulations on components and existing registration of chemical substances] Please enter the legal and regulatory information on a substance-by-substance basis. Please follow the latest information issued by relevant ministries and agencies as of the preparation date of this questionnaire. If there are multiple official gazette announcement numbers or cabinet order numbers for the Chemical Substances Control Law, the Industrial Safety and Health Law, etc., please list them all, separated by commas. If the substance falls under the Chemical Substances Control Law, you must enter the conversion factor for the metal element content (conversion factor) of the target metal. | AZ2: explosive substances
AZ3: combustible substances
B4: Name of your product | F4: ='① Request for Information (Exp)'!H16 -> daicolor1-123 | AZ4: oxidizing substances
AZ5: inflammable substances
B6: Date of preparation | F6: =IF('① Request for Information (Exp)'!$N$15="","",'① Request for Information (Exp)'!$H$15&"."&'① Request for Information (Exp)'!$L$15&'① Request for Information (Exp)'!$N$15) -> 2024.July30 | AZ6: combustible substances
B7: Company name | F7: ='① Request for Information (Exp)'!H18 -> Dainichiseika Color & Chemicals Mfg. Co., Ltd.
B8: Department | F8: ='① Request for Information (Exp)'!H19 -> Quality Products Supervisory Department, CSR/ESG Promotion Group Headquarters
B9: Person in charge | F9: ='① Request for Information (Exp)'!H20 -> Taro Dainichi
B11: Product Components Information | Y11: Japan: information on applicable regulations on components and existing registration of chemical substances "Red": Required items, "Blue": Fill in if applicable, "Black": Optional items (fill in if possible)
C12: CAS Registration Number (CAS RN) | G12: Upper row : Component name（JPN） Lower row : Component name（ENG） | P12: Content ratio (%) | S12: Impurity or not | U12: Composite oxide or not | Y12: Japan | AV12: remarks
U13: YES or No | W13: Each Composite oxide name | X13: Content ratio (%) | Y13: Chemical Substances Control Law | AB13: Industrial Safety and Health Act | AP13: PRTR-SDS Law | AT13: Poisonous and Deleterious Substances Control Act
Y14: ENCS | Z14: MITI No. | AA14: Regulation | AB14: ISHL | AC14: ISHA No. | AD14: Obligation for labelling and notification | AE14: Cabinet Order Number | AF14: Mutagenic chemicals | AG14: Cabinet Order Number | AH14: Specified Chemicals Ordinance | AI14: Cabinet Order Number | AJ14: Organic Solvents Ordinance | AK14: Ordinance on Prevention of Lead Poisoning | AL14: Ordinance on Prevention of Tetraalkyl Lead Poisoning | AM14: Skin disorders, chemical substances, etc. | AN14: chemical substances of Carcinogens | AO14: dangerous goods | AP14: Regulation | AQ14: Control number | AR14: Metal elements, etc. | AS14: Conversion factor | AT14: Regulation | AU14: Cabinet Order Number | AZ14: 数字だけ | BC14: 15 | BD14: 14 | BE14: 13 | BF14: 12 | BG14: 11 | BH14: 10 | BI14: 9 | BJ14: 8 | BK14: 7 | BL14: 6 | BM14: 5 | BN14: 4 | BO14: 3 | BP14: 2 | BQ14: 1 | BR14: チェック
B15: 1 | C15: 1309-64-4 | P15: 40 | U15: No | Y15: Existing chemical substances | Z15: 1-543 | AA15: General Chemical Substances | AB15: Existing chemical substances | AC15: 1-543 | AD15: Yes | AE15: 9-38 | AF15: No | AH15: 2-Group substances | AI15: 15-2 | AJ15: No | AK15: No | AL15: No | AM15: No | AN15: No | AO15: No | AP15: Class I Designated Chemical Substances | AQ15: 31 | AR15: Sb | AS15: 0.835 | AT15: Specific poisonous substance | AU15: 7 | AZ15: =SUBSTITUTE(C15,"-","") -> 1309644 | BA15: =$AZ15*1 -> 1309644 | BB15: =IFERROR($BA15,0) -> 1309644 | BC15: =IFERROR(MID(TEXT($AZ15,"????????????????"),COLUMN(A1),1)*1,"") | BD15: =IFERROR(MID(TEXT($AZ15,"????????????????"),COLUMN(B1),1)*1,"") | BE15: =IFERROR(MID(TEXT($AZ15,"????????????????"),COLUMN(C1),1)*1,"") | BF15: =IFERROR(MID(TEXT($AZ15,"????????????????"),COLUMN(D1),1)*1,"") | BG15: =IFERROR(MID(TEXT($AZ15,"????????????????"),COLUMN(E1),1)*1,"") | BH15: =IFERROR(MID(TEXT($AZ15,"????????????????"),COLUMN(F1),1)*1,"") | BI15: =IFERROR(MID(TEXT($AZ15,"????????????????"),COLUMN(G1),1)*1,"") | BJ15: =IFERROR(MID(TEXT($AZ15,"????????????????"),COLUMN(H1),1)*1,"") | ... BR15: =IFERROR(MID(TEXT($AZ15,"????????????????"),COLUMN(P1),1)*1,"") -> 4
BB16: =$BB15 -> 1309644 | BC16: =IF(BC15="",0,BC15) -> 0 | BD16: =IF(BD15="",0,BD15) -> 0 | BE16: =IF(BE15="",0,BE15) -> 0 | BF16: =IF(BF15="",0,BF15) -> 0 | BG16: =IF(BG15="",0,BG15) -> 0 | BH16: =IF(BH15="",0,BH15) -> 0 | BI16: =IF(BI15="",0,BI15) -> 0 | BJ16: =IF(BJ15="",0,BJ15) -> 0 | ... BR16: =IF(BR15="",0,BR15) -> 4 | BS16: =($BC$14*$BC16+$BD$14*$BD16+$BE$14*$BE16+$BF$14*$BF16+$BG$14*$BG16+$BH$14*$BH16+$BI$14*$BI16+$BJ$14*$BJ16+$BK$14*$BK16+$BL$14*$BL16+$BM$14*$BM16+$BN$14*$BN16+$BO$14*$BO16+$BP$14*$BP16+$BQ$14*$BQ16)/10 -> 6.4 | BT16: =MOD($BS16,1) -> 0.4 | BU16: =$BT16*10 -> 4 | BV16: =ROUND(BU16,1) -> 4 | BW16: =IF($BB16=0,300,(IF($BR16=$BV16,100,200))) -> 100 | BX16: =BR16-BU16 -> 0
G17: Diantimony trioxide
B19: 2 | C19: 68187-11-1 | P19: 20 | U19: Yes | W19: Aluminium oxide | X19: 18.9 | Y19: Existing chemical substances | Z19: 1-23,1-267,1-284 | AA19: General Chemical Substances | AB19: Existing chemical substances | AC19: 1-23,1-267,1-284 | AD19: Yes | AF19: No | AJ19: No | AK19: No | AL19: No | AM19: No | AN19: No | AO19: No | AP19: Class I Designated Chemical Substances | AQ19: 132 | AR19: Co | AS19: 0.294 | AT19: No | AZ19: =SUBSTITUTE(C19,"-","") -> 68187111 | BA19: =$AZ19*1 -> 68187111 | BB19: =IFERROR($BA19,0) -> 68187111 | BC19: =IFERROR(MID(TEXT($AZ19,"????????????????"),COLUMN(A5),1)*1,"") | BD19: =IFERROR(MID(TEXT($AZ19,"????????????????"),COLUMN(B5),1)*1,"") | BE19: =IFERROR(MID(TEXT($AZ19,"????????????????"),COLUMN(C5),1)*1,"") | BF19: =IFERROR(MID(TEXT($AZ19,"????????????????"),COLUMN(D5),1)*1,"") | BG19: =IFERROR(MID(TEXT($AZ19,"????????????????"),COLUMN(E5),1)*1,"") | BH19: =IFERROR(MID(TEXT($AZ19,"????????????????"),COLUMN(F5),1)*1,"") | BI19: =IFERROR(MID(TEXT($AZ19,"????????????????"),COLUMN(G5),1)*1,"") | BJ19: =IFERROR(MID(TEXT($AZ19,"????????????????"),COLUMN(H5),1)*1,"") | ... BR19: =IFERROR(MID(TEXT($AZ19,"????????????????"),COLUMN(P5),1)*1,"") -> 1
W20: Cobalt oxide | X20: 37.6 | AE20: 9-172 | AH20: 2-Group substances | AI20: 13-2 | AP20: Class I Designated Chemical Substances | AQ20: 87 | AR20: Cr | AS20: 0.249 | BB20: =$BB19 -> 68187111 | BC20: =IF(BC19="",0,BC19) -> 0 | BD20: =IF(BD19="",0,BD19) -> 0 | BE20: =IF(BE19="",0,BE19) -> 0 | BF20: =IF(BF19="",0,BF19) -> 0 | BG20: =IF(BG19="",0,BG19) -> 0 | BH20: =IF(BH19="",0,BH19) -> 0 | BI20: =IF(BI19="",0,BI19) -> 0 | BJ20: =IF(BJ19="",0,BJ19) -> 0 | ... BR20: =IF(BR19="",0,BR19) -> 1 | BS20: =($BC$14*$BC20+$BD$14*$BD20+$BE$14*$BE20+$BF$14*$BF20+$BG$14*$BG20+$BH$14*$BH20+$BI$14*$BI20+$BJ$14*$BJ20+$BK$14*$BK20+$BL$14*$BL20+$BM$14*$BM20+$BN$14*$BN20+$BO$14*$BO20+$BP$14*$BP20+$BQ$14*$BQ20)/10 -> 15.1 | BT20: =MOD($BS20,1) -> 0.1 | BU20: =$BT20*10 -> 1 | BV20: =ROUND(BU20,1) -> 1 | BW20: =IF($BB20=0,300,(IF($BR20=$BV20,100,200))) -> 100 | BX20: =BR20-BU20 -> 3.5527137e-15
G21: C.I. Pigment blue 36 | W21: Chromium oxide | X21: 43.5 | AE21: 9-142
B23: 3 | C23: Non | P23: 15 | U23: No | Y23: Existing chemical substances | Z23: Listed | AA23: General Chemical Substances | AB23: Existing chemical substances | AC23: Non-disclosure | AD23: No | AF23: No | AH23: No | AJ23: No | AK23: No | AL23: No | AM23: No | AN23: No | AO23: No | AP23: No | AT23: No | AZ23: =SUBSTITUTE(C23,"-","") -> Non | BA23: =$AZ23*1 -> #VALUE! | BB23: =IFERROR($BA23,0) -> 0 | BC23: =IFERROR(MID(TEXT($AZ23,"????????????????"),COLUMN(A9),1)*1,"") | BD23: =IFERROR(MID(TEXT($AZ23,"????????????????"),COLUMN(B9),1)*1,"") | BE23: =IFERROR(MID(TEXT($AZ23,"????????????????"),COLUMN(C9),1)*1,"") | BF23: =IFERROR(MID(TEXT($AZ23,"????????????????"),COLUMN(D9),1)*1,"") | BG23: =IFERROR(MID(TEXT($AZ23,"????????????????"),COLUMN(E9),1)*1,"") | BH23: =IFERROR(MID(TEXT($AZ23,"????????????????"),COLUMN(F9),1)*1,"") | BI23: =IFERROR(MID(TEXT($AZ23,"????????????????"),COLUMN(G9),1)*1,"") | BJ23: =IFERROR(MID(TEXT($AZ23,"????????????????"),COLUMN(H9),1)*1,"") | ... BR23: =IFERROR(MID(TEXT($AZ23,"????????????????"),COLUMN(P9),1)*1,"")
BB24: =$BB23 -> 0 | BC24: =IF(BC23="",0,BC23) -> 0 | BD24: =IF(BD23="",0,BD23) -> 0 | BE24: =IF(BE23="",0,BE23) -> 0 | BF24: =IF(BF23="",0,BF23) -> 0 | BG24: =IF(BG23="",0,BG23) -> 0 | BH24: =IF(BH23="",0,BH23) -> 0 | BI24: =IF(BI23="",0,BI23) -> 0 | BJ24: =IF(BJ23="",0,BJ23) -> 0 | ... BR24: =IF(BR23="",0,BR23) -> 0 | BS24: =($BC$14*$BC24+$BD$14*$BD24+$BE$14*$BE24+$BF$14*$BF24+$BG$14*$BG24+$BH$14*$BH24+$BI$14*$BI24+$BJ$14*$BJ24+$BK$14*$BK24+$BL$14*$BL24+$BM$14*$BM24+$BN$14*$BN24+$BO$14*$BO24+$BP$14*$BP24+$BQ$14*$BQ24)/10 -> 0 | BT24: =MOD($BS24,1) -> 0 | BU24: =$BT24*10 -> 0 | BV24: =ROUND(BU24,1) -> 0 | BW24: =IF($BB24=0,300,(IF($BR24=$BV24,100,200))) -> 300 | BX24: =BR24-BU24 -> 0
G25: Epoxy/acid adduct resin
B27: 4 | C27: 108-88-3 | P27: 11.997999 | U27: No | Y27: Existing chemical substances | Z27: 3-2,3-60 | AA27: General Chemical Substances | AB27: Existing chemical substances | AC27: 3-2,3-60 | AD27: Yes | AE27: 9-407 | AF27: No | AH27: No | AJ27: II Class Organic Solvents | AK27: No | AL27: No | AM27: Yes | AN27: No | AO27: inflammable substances | AP27: Class I Designated Chemical Substances | AQ27: 300 | AT27: Hazardous substance | AU27: 76-2 | AZ27: =SUBSTITUTE(C27,"-","") -> 108883 | BA27: =$AZ27*1 -> 108883 | BB27: =IFERROR($BA27,0) -> 108883 | BC27: =IFERROR(MID(TEXT($AZ27,"????????????????"),COLUMN(A13),1)*1,"") | BD27: =IFERROR(MID(TEXT($AZ27,"????????????????"),COLUMN(B13),1)*1,"") | BE27: =IFERROR(MID(TEXT($AZ27,"????????????????"),COLUMN(C13),1)*1,"") | BF27: =IFERROR(MID(TEXT($AZ27,"????????????????"),COLUMN(D13),1)*1,"") | BG27: =IFERROR(MID(TEXT($AZ27,"????????????????"),COLUMN(E13),1)*1,"") | BH27: =IFERROR(MID(TEXT($AZ27,"????????????????"),COLUMN(F13),1)*1,"") | BI27: =IFERROR(MID(TEXT($AZ27,"????????????????"),COLUMN(G13),1)*1,"") | BJ27: =IFERROR(MID(TEXT($AZ27,"????????????????"),COLUMN(H13),1)*1,"") | ... BR27: =IFERROR(MID(TEXT($AZ27,"????????????????"),COLUMN(P13),1)*1,"") -> 3
BB28: =$BB27 -> 108883 | BC28: =IF(BC27="",0,BC27) -> 0 | BD28: =IF(BD27="",0,BD27) -> 0 | BE28: =IF(BE27="",0,BE27) -> 0 | BF28: =IF(BF27="",0,BF27) -> 0 | BG28: =IF(BG27="",0,BG27) -> 0 | BH28: =IF(BH27="",0,BH27) -> 0 | BI28: =IF(BI27="",0,BI27) -> 0 | BJ28: =IF(BJ27="",0,BJ27) -> 0 | ... BR28: =IF(BR27="",0,BR27) -> 3 | BS28: =($BC$14*$BC28+$BD$14*$BD28+$BE$14*$BE28+$BF$14*$BF28+$BG$14*$BG28+$BH$14*$BH28+$BI$14*$BI28+$BJ$14*$BJ28+$BK$14*$BK28+$BL$14*$BL28+$BM$14*$BM28+$BN$14*$BN28+$BO$14*$BO28+$BP$14*$BP28+$BQ$14*$BQ28)/10 -> 5.3 | BT28: =MOD($BS28,1) -> 0.3 | BU28: =$BT28*10 -> 3 | BV28: =ROUND(BU28,1) -> 3 | BW28: =IF($BB28=0,300,(IF($BR28=$BV28,100,200))) -> 100 | BX28: =BR28-BU28 -> 0
G29: Toluene
B31: 5 | C31: 103-11-7 | P31: 6 | S31: Impurity | U31: No | Y31: Existing chemical substances | Z31: Non-disclosure | AA31: General Chemical Substances | AB31: Existing chemical substances | AC31: Non-disclosure | AD31: No | AF31: No | AH31: No | AJ31: No | AK31: No | AL31: No | AM31: No | AN31: No | AO31: No | AP31: No | AT31: No | AZ31: =SUBSTITUTE(C31,"-","") -> 103117 | BA31: =$AZ31*1 -> 103117 | BB31: =IFERROR($BA31,0) -> 103117 | BC31: =IFERROR(MID(TEXT($AZ31,"????????????????"),COLUMN(A17),1)*1,"") | BD31: =IFERROR(MID(TEXT($AZ31,"????????????????"),COLUMN(B17),1)*1,"") | BE31: =IFERROR(MID(TEXT($AZ31,"????????????????"),COLUMN(C17),1)*1,"") | BF31: =IFERROR(MID(TEXT($AZ31,"????????????????"),COLUMN(D17),1)*1,"") | BG31: =IFERROR(MID(TEXT($AZ31,"????????????????"),COLUMN(E17),1)*1,"") | BH31: =IFERROR(MID(TEXT($AZ31,"????????????????"),COLUMN(F17),1)*1,"") | BI31: =IFERROR(MID(TEXT($AZ31,"????????????????"),COLUMN(G17),1)*1,"") | BJ31: =IFERROR(MID(TEXT($AZ31,"????????????????"),COLUMN(H17),1)*1,"") | ... BR31: =IFERROR(MID(TEXT($AZ31,"????????????????"),COLUMN(P17),1)*1,"") -> 7
BB32: =$BB31 -> 103117 | BC32: =IF(BC31="",0,BC31) -> 0 | BD32: =IF(BD31="",0,BD31) -> 0 | BE32: =IF(BE31="",0,BE31) -> 0 | BF32: =IF(BF31="",0,BF31) -> 0 | BG32: =IF(BG31="",0,BG31) -> 0 | BH32: =IF(BH31="",0,BH31) -> 0 | BI32: =IF(BI31="",0,BI31) -> 0 | BJ32: =IF(BJ31="",0,BJ31) -> 0 | ... BR32: =IF(BR31="",0,BR31) -> 7 | BS32: =($BC$14*$BC32+$BD$14*$BD32+$BE$14*$BE32+$BF$14*$BF32+$BG$14*$BG32+$BH$14*$BH32+$BI$14*$BI32+$BJ$14*$BJ32+$BK$14*$BK32+$BL$14*$BL32+$BM$14*$BM32+$BN$14*$BN32+$BO$14*$BO32+$BP$14*$BP32+$BQ$14*$BQ32)/10 -> 1.7 | BT32: =MOD($BS32,1) -> 0.7 | BU32: =$BT32*10 -> 7 | BV32: =ROUND(BU32,1) -> 7 | BW32: =IF($BB32=0,300,(IF($BR32=$BV32,100,200))) -> 100
G33: Others
B35: 6 | C35: 7681-65-4 | P35: 5 | U35: No | Y35: Existing chemical substances | Z35: 1-295 | AA35: General Chemical Substances | AB35: Existing chemical substances | AC35: 1-295 | AD35: Yes | AE35: 9-379 | AF35: No | AH35: No | AJ35: No | AK35: No | AL35: No | AM35: No | AN35: No | AO35: No | AP35: No | AT35: Hazardous substance | AU35: Inorganic copper salts | AZ35: =SUBSTITUTE(C35,"-","") -> 7681654 | BA35: =$AZ35*1 -> 7681654 | BB35: =IFERROR($BA35,0) -> 7681654 | BC35: =IFERROR(MID(TEXT($AZ35,"????????????????"),COLUMN(A21),1)*1,"") | BD35: =IFERROR(MID(TEXT($AZ35,"????????????????"),COLUMN(B21),1)*1,"") | BE35: =IFERROR(MID(TEXT($AZ35,"????????????????"),COLUMN(C21),1)*1,"") | BF35: =IFERROR(MID(TEXT($AZ35,"????????????????"),COLUMN(D21),1)*1,"") | BG35: =IFERROR(MID(TEXT($AZ35,"????????????????"),COLUMN(E21),1)*1,"") | BH35: =IFERROR(MID(TEXT($AZ35,"????????????????"),COLUMN(F21),1)*1,"") | BI35: =IFERROR(MID(TEXT($AZ35,"????????????????"),COLUMN(G21),1)*1,"") | BJ35: =IFERROR(MID(TEXT($AZ35,"????????????????"),COLUMN(H21),1)*1,"") | ... BR35: =IFERROR(MID(TEXT($AZ35,"????????????????"),COLUMN(P21),1)*1,"") -> 4
AE36: 9-605 | BB36: =$BB35 -> 7681654 | BC36: =IF(BC35="",0,BC35) -> 0 | BD36: =IF(BD35="",0,BD35) -> 0 | BE36: =IF(BE35="",0,BE35) -> 0 | BF36: =IF(BF35="",0,BF35) -> 0 | BG36: =IF(BG35="",0,BG35) -> 0 | BH36: =IF(BH35="",0,BH35) -> 0 | BI36: =IF(BI35="",0,BI35) -> 0 | BJ36: =IF(BJ35="",0,BJ35) -> 0 | ... BR36: =IF(BR35="",0,BR35) -> 4 | BS36: =($BC$14*$BC36+$BD$14*$BD36+$BE$14*$BE36+$BF$14*$BF36+$BG$14*$BG36+$BH$14*$BH36+$BI$14*$BI36+$BJ$14*$BJ36+$BK$14*$BK36+$BL$14*$BL36+$BM$14*$BM36+$BN$14*$BN36+$BO$14*$BO36+$BP$14*$BP36+$BQ$14*$BQ36)/10 -> 12.4 | BT36: =MOD($BS36,1) -> 0.4 | BU36: =$BT36*10 -> 4 | BV36: =ROUND(BU36,1) -> 4 | BW36: =IF($BB36=0,300,(IF($BR36=$BV36,100,200))) -> 100
G37: Copper iodide
B39: 7 | C39: 103-11-7 | P39: 1.1 | U39: No | Y39: Existing chemical substances | Z39: 2-990 | AA39: General Chemical Substances | AB39: Existing chemical substances | AC39: 2-990 | AD39: No | AF39: No | AH39: No | AJ39: No | AK39: No | AL39: No | AM39: Yes | AN39: No | AO39: No | AP39: Class I Designated Chemical Substances | AQ39: 564 | AT39: No | AZ39: =SUBSTITUTE(C39,"-","") -> 103117 | BA39: =$AZ39*1 -> 103117 | BB39: =IFERROR($BA39,0) -> 103117 | BC39: =IFERROR(MID(TEXT($AZ39,"????????????????"),COLUMN(A25),1)*1,"") | BD39: =IFERROR(MID(TEXT($AZ39,"????????????????"),COLUMN(B25),1)*1,"") | BE39: =IFERROR(MID(TEXT($AZ39,"????????????????"),COLUMN(C25),1)*1,"") | BF39: =IFERROR(MID(TEXT($AZ39,"????????????????"),COLUMN(D25),1)*1,"") | BG39: =IFERROR(MID(TEXT($AZ39,"????????????????"),COLUMN(E25),1)*1,"") | BH39: =IFERROR(MID(TEXT($AZ39,"????????????????"),COLUMN(F25),1)*1,"") | BI39: =IFERROR(MID(TEXT($AZ39,"????????????????"),COLUMN(G25),1)*1,"") | BJ39: =IFERROR(MID(TEXT($AZ39,"????????????????"),COLUMN(H25),1)*1,"") | ... BR39: =IFERROR(MID(TEXT($AZ39,"????????????????"),COLUMN(P25),1)*1,"") -> 7
BB40: =$BB39 -> 103117 | BC40: =IF(BC39="",0,BC39) -> 0 | BD40: =IF(BD39="",0,BD39) -> 0 | BE40: =IF(BE39="",0,BE39) -> 0 | BF40: =IF(BF39="",0,BF39) -> 0 | BG40: =IF(BG39="",0,BG39) -> 0 | BH40: =IF(BH39="",0,BH39) -> 0 | BI40: =IF(BI39="",0,BI39) -> 0 | BJ40: =IF(BJ39="",0,BJ39) -> 0 | ... BR40: =IF(BR39="",0,BR39) -> 7 | BS40: =($BC$14*$BC40+$BD$14*$BD40+$BE$14*$BE40+$BF$14*$BF40+$BG$14*$BG40+$BH$14*$BH40+$BI$14*$BI40+$BJ$14*$BJ40+$BK$14*$BK40+$BL$14*$BL40+$BM$14*$BM40+$BN$14*$BN40+$BO$14*$BO40+$BP$14*$BP40+$BQ$14*$BQ40)/10 -> 1.7 | BT40: =MOD($BS40,1) -> 0.7 | BU40: =$BT40*10 -> 7 | BV40: =ROUND(BU40,1) -> 7 | BW40: =IF($BB40=0,300,(IF($BR40=$BV40,100,200))) -> 100
G41: 2-Ethylhexyl acrylate
B43: 8 | C43: Non-disclosure | P43: 0.9 | U43: No | Y43: Existing chemical substances | Z43: Non-disclosure | AA43: General Chemical Substances | AB43: Existing chemical substances | AC43: Non-disclosure | AD43: Yes | AE43: Non-disclosure | AF43: No | AH43: No | AJ43: No | AK43: No | AL43: No | AM43: No | AN43: No | AO43: No | AP43: No | AT43: No | AV43: Industrial Safety and Health Act (notification, display) → below threshold | AZ43: =SUBSTITUTE(C43,"-","") -> Nondisclosure | BA43: =$AZ43*1 -> #VALUE! | BB43: =IFERROR($BA43,0) -> 0 | BC43: =IFERROR(MID(TEXT($AZ43,"????????????????"),COLUMN(A29),1)*1,"") | BD43: =IFERROR(MID(TEXT($AZ43,"????????????????"),COLUMN(B29),1)*1,"") | BE43: =IFERROR(MID(TEXT($AZ43,"????????????????"),COLUMN(C29),1)*1,"") | BF43: =IFERROR(MID(TEXT($AZ43,"????????????????"),COLUMN(D29),1)*1,"") | BG43: =IFERROR(MID(TEXT($AZ43,"????????????????"),COLUMN(E29),1)*1,"") | BH43: =IFERROR(MID(TEXT($AZ43,"????????????????"),COLUMN(F29),1)*1,"") | BI43: =IFERROR(MID(TEXT($AZ43,"????????????????"),COLUMN(G29),1)*1,"") | BJ43: =IFERROR(MID(TEXT($AZ43,"????????????????"),COLUMN(H29),1)*1,"") | ... BR43: =IFERROR(MID(TEXT($AZ43,"????????????????"),COLUMN(P29),1)*1,"")
BB44: =$BB43 -> 0 | BC44: =IF(BC43="",0,BC43) -> 0 | BD44: =IF(BD43="",0,BD43) -> 0 | BE44: =IF(BE43="",0,BE43) -> 0 | BF44: =IF(BF43="",0,BF43) -> 0 | BG44: =IF(BG43="",0,BG43) -> 0 | BH44: =IF(BH43="",0,BH43) -> 0 | BI44: =IF(BI43="",0,BI43) -> 0 | BJ44: =IF(BJ43="",0,BJ43) -> 0 | ... BR44: =IF(BR43="",0,BR43) -> 0 | BS44: =($BC$14*$BC44+$BD$14*$BD44+$BE$14*$BE44+$BF$14*$BF44+$BG$14*$BG44+$BH$14*$BH44+$BI$14*$BI44+$BJ$14*$BJ44+$BK$14*$BK44+$BL$14*$BL44+$BM$14*$BM44+$BN$14*$BN44+$BO$14*$BO44+$BP$14*$BP44+$BQ$14*$BQ44)/10 -> 0 | BT44: =MOD($BS44,1) -> 0 | BU44: =$BT44*10 -> 0 | BV44: =ROUND(BU44,1) -> 0 | BW44: =IF($BB44=0,300,(IF($BR44=$BV44,100,200))) -> 300
G45: Antioxidant
B47: 9 | C47: Non-disclosure | P47: 0.002 | U47: No | Y47: Existing chemical substances | Z47: Non-disclosure | AA47: General Chemical Substances | AB47: Existing chemical substances | AC47: Non-disclosure | AD47: Yes | AE47: Non-disclosure | AF47: No | AH47: No | AJ47: No | AK47: No | AL47: No | AM47: No | AN47: No | AO47: inflammable substances | AP47: No | AT47: No | AV47: Industrial Safety and Health Act (notification, display) → below threshold | AZ47: =SUBSTITUTE(C47,"-","") -> Nondisclosure | BA47: =$AZ47*1 -> #VALUE! | BB47: =IFERROR($BA47,0) -> 0 | BC47: =IFERROR(MID(TEXT($AZ47,"????????????????"),COLUMN(A33),1)*1,"") | BD47: =IFERROR(MID(TEXT($AZ47,"????????????????"),COLUMN(B33),1)*1,"") | BE47: =IFERROR(MID(TEXT($AZ47,"????????????????"),COLUMN(C33),1)*1,"") | BF47: =IFERROR(MID(TEXT($AZ47,"????????????????"),COLUMN(D33),1)*1,"") | BG47: =IFERROR(MID(TEXT($AZ47,"????????????????"),COLUMN(E33),1)*1,"") | BH47: =IFERROR(MID(TEXT($AZ47,"????????????????"),COLUMN(F33),1)*1,"") | BI47: =IFERROR(MID(TEXT($AZ47,"????????????????"),COLUMN(G33),1)*1,"") | BJ47: =IFERROR(MID(TEXT($AZ47,"????????????????"),COLUMN(H33),1)*1,"") | ... BR47: =IFERROR(MID(TEXT($AZ47,"????????????????"),COLUMN(P33),1)*1,"")
BB48: =$BB47 -> 0 | BC48: =IF(BC47="",0,BC47) -> 0 | BD48: =IF(BD47="",0,BD47) -> 0 | BE48: =IF(BE47="",0,BE47) -> 0 | BF48: =IF(BF47="",0,BF47) -> 0 | BG48: =IF(BG47="",0,BG47) -> 0 | BH48: =IF(BH47="",0,BH47) -> 0 | BI48: =IF(BI47="",0,BI47) -> 0 | BJ48: =IF(BJ47="",0,BJ47) -> 0 | ... BR48: =IF(BR47="",0,BR47) -> 0 | BS48: =($BC$14*$BC48+$BD$14*$BD48+$BE$14*$BE48+$BF$14*$BF48+$BG$14*$BG48+$BH$14*$BH48+$BI$14*$BI48+$BJ$14*$BJ48+$BK$14*$BK48+$BL$14*$BL48+$BM$14*$BM48+$BN$14*$BN48+$BO$14*$BO48+$BP$14*$BP48+$BQ$14*$BQ48)/10 -> 0 | BT48: =MOD($BS48,1) -> 0 | BU48: =$BT48*10 -> 0 | BV48: =ROUND(BU48,1) -> 0 | BW48: =IF($BB48=0,300,(IF($BR48=$BV48,100,200))) -> 300
G49: Additive
B51: 10 | C51: 1336-36-3 | P51: 1e-06 | S51: Impurity | U51: No | Y51: Existing chemical substances | Z51: - | AA51: Class I Specified Chemical Substances | AB51: Existing chemical substances | AC51: - | AD51: Yes | AE51: 3-1-3 | AF51: No | AH51: 1-Group substances | AI51: 3 | AJ51: No | AK51: No | AL51: No | AM51: Yes | AN51: Yes | AO51: No | AP51: Specific Class I Designated Chemical Substances | AQ51: 406 | AT51: No | AV51: BAT applied | AZ51: =SUBSTITUTE(C51,"-","") -> 1336363 | BA51: =$AZ51*1 -> 1336363 | BB51: =IFERROR($BA51,0) -> 1336363 | BC51: =IFERROR(MID(TEXT($AZ51,"????????????????"),COLUMN(A37),1)*1,"") | BD51: =IFERROR(MID(TEXT($AZ51,"????????????????"),COLUMN(B37),1)*1,"") | BE51: =IFERROR(MID(TEXT($AZ51,"????????????????"),COLUMN(C37),1)*1,"") | BF51: =IFERROR(MID(TEXT($AZ51,"????????????????"),COLUMN(D37),1)*1,"") | BG51: =IFERROR(MID(TEXT($AZ51,"????????????????"),COLUMN(E37),1)*1,"") | BH51: =IFERROR(MID(TEXT($AZ51,"????????????????"),COLUMN(F37),1)*1,"") | BI51: =IFERROR(MID(TEXT($AZ51,"????????????????"),COLUMN(G37),1)*1,"") | BJ51: =IFERROR(MID(TEXT($AZ51,"????????????????"),COLUMN(H37),1)*1,"") | ... BR51: =IFERROR(MID(TEXT($AZ51,"????????????????"),COLUMN(P37),1)*1,"") -> 3
BB52: =$BB51 -> 1336363 | BC52: =IF(BC51="",0,BC51) -> 0 | BD52: =IF(BD51="",0,BD51) -> 0 | BE52: =IF(BE51="",0,BE51) -> 0 | BF52: =IF(BF51="",0,BF51) -> 0 | BG52: =IF(BG51="",0,BG51) -> 0 | BH52: =IF(BH51="",0,BH51) -> 0 | BI52: =IF(BI51="",0,BI51) -> 0 | BJ52: =IF(BJ51="",0,BJ51) -> 0 | ... BR52: =IF(BR51="",0,BR51) -> 3 | BS52: =($BC$14*$BC52+$BD$14*$BD52+$BE$14*$BE52+$BF$14*$BF52+$BG$14*$BG52+$BH$14*$BH52+$BI$14*$BI52+$BJ$14*$BJ52+$BK$14*$BK52+$BL$14*$BL52+$BM$14*$BM52+$BN$14*$BN52+$BO$14*$BO52+$BP$14*$BP52+$BQ$14*$BQ52)/10 -> 6.3 | BT52: =MOD($BS52,1) -> 0.3 | BU52: =$BT52*10 -> 3 | BV52: =ROUND(BU52,1) -> 3 | BW52: =IF($BB52=0,300,(IF($BR52=$BV52,100,200))) -> 100
G53: Polychlorobiphenyl
B55: 11 | AZ55: =SUBSTITUTE(C55,"-","") | BA55: =$AZ55*1 -> #VALUE! | BB55: =IFERROR($BA55,0) -> 0 | BC55: =IFERROR(MID(TEXT($AZ55,"????????????????"),COLUMN(A41),1)*1,"") | BD55: =IFERROR(MID(TEXT($AZ55,"????????????????"),COLUMN(B41),1)*1,"") | BE55: =IFERROR(MID(TEXT($AZ55,"????????????????"),COLUMN(C41),1)*1,"") | BF55: =IFERROR(MID(TEXT($AZ55,"????????????????"),COLUMN(D41),1)*1,"") | BG55: =IFERROR(MID(TEXT($AZ55,"????????????????"),COLUMN(E41),1)*1,"") | BH55: =IFERROR(MID(TEXT($AZ55,"????????????????"),COLUMN(F41),1)*1,"") | BI55: =IFERROR(MID(TEXT($AZ55,"????????????????"),COLUMN(G41),1)*1,"") | BJ55: =IFERROR(MID(TEXT($AZ55,"????????????????"),COLUMN(H41),1)*1,"") | ... BR55: =IFERROR(MID(TEXT($AZ55,"????????????????"),COLUMN(P41),1)*1,"")
BB56: =$BB55 -> 0 | BC56: =IF(BC55="",0,BC55) -> 0 | BD56: =IF(BD55="",0,BD55) -> 0 | BE56: =IF(BE55="",0,BE55) -> 0 | BF56: =IF(BF55="",0,BF55) -> 0 | BG56: =IF(BG55="",0,BG55) -> 0 | BH56: =IF(BH55="",0,BH55) -> 0 | BI56: =IF(BI55="",0,BI55) -> 0 | BJ56: =IF(BJ55="",0,BJ55) -> 0 | ... BR56: =IF(BR55="",0,BR55) -> 0 | BS56: =($BC$14*$BC56+$BD$14*$BD56+$BE$14*$BE56+$BF$14*$BF56+$BG$14*$BG56+$BH$14*$BH56+$BI$14*$BI56+$BJ$14*$BJ56+$BK$14*$BK56+$BL$14*$BL56+$BM$14*$BM56+$BN$14*$BN56+$BO$14*$BO56+$BP$14*$BP56+$BQ$14*$BQ56)/10 -> 0 | BT56: =MOD($BS56,1) -> 0 | BU56: =$BT56*10 -> 0 | BV56: =ROUND(BU56,1) -> 0 | BW56: =IF($BB56=0,300,(IF($BR56=$BV56,100,200))) -> 300
B59: 12 | AZ59: =SUBSTITUTE(C59,"-","") | BA59: =$AZ59*1 -> #VALUE! | BB59: =IFERROR($BA59,0) -> 0 | BC59: =IFERROR(MID(TEXT($AZ59,"????????????????"),COLUMN(A45),1)*1,"") | BD59: =IFERROR(MID(TEXT($AZ59,"????????????????"),COLUMN(B45),1)*1,"") | BE59: =IFERROR(MID(TEXT($AZ59,"????????????????"),COLUMN(C45),1)*1,"") | BF59: =IFERROR(MID(TEXT($AZ59,"????????????????"),COLUMN(D45),1)*1,"") | BG59: =IFERROR(MID(TEXT($AZ59,"????????????????"),COLUMN(E45),1)*1,"") | BH59: =IFERROR(MID(TEXT($AZ59,"????????????????"),COLUMN(F45),1)*1,"") | BI59: =IFERROR(MID(TEXT($AZ59,"????????????????"),COLUMN(G45),1)*1,"") | BJ59: =IFERROR(MID(TEXT($AZ59,"????????????????"),COLUMN(H45),1)*1,"") | ... BR59: =IFERROR(MID(TEXT($AZ59,"????????????????"),COLUMN(P45),1)*1,"")
BB60: =$BB59 -> 0 | BC60: =IF(BC59="",0,BC59) -> 0 | BD60: =IF(BD59="",0,BD59) -> 0 | BE60: =IF(BE59="",0,BE59) -> 0 | BF60: =IF(BF59="",0,BF59) -> 0 | BG60: =IF(BG59="",0,BG59) -> 0 | BH60: =IF(BH59="",0,BH59) -> 0 | BI60: =IF(BI59="",0,BI59) -> 0 | BJ60: =IF(BJ59="",0,BJ59) -> 0 | ... BR60: =IF(BR59="",0,BR59) -> 0 | BS60: =($BC$14*$BC60+$BD$14*$BD60+$BE$14*$BE60+$BF$14*$BF60+$BG$14*$BG60+$BH$14*$BH60+$BI$14*$BI60+$BJ$14*$BJ60+$BK$14*$BK60+$BL$14*$BL60+$BM$14*$BM60+$BN$14*$BN60+$BO$14*$BO60+$BP$14*$BP60+$BQ$14*$BQ60)/10 -> 0 | BT60: =MOD($BS60,1) -> 0 | BU60: =$BT60*10 -> 0 | BV60: =ROUND(BU60,1) -> 0 | BW60: =IF($BB60=0,300,(IF($BR60=$BV60,100,200))) -> 300
B63: 13 | AZ63: =SUBSTITUTE(C63,"-","") | BA63: =$AZ63*1 -> #VALUE! | BB63: =IFERROR($BA63,0) -> 0 | BC63: =IFERROR(MID(TEXT($AZ63,"????????????????"),COLUMN(A49),1)*1,"") | BD63: =IFERROR(MID(TEXT($AZ63,"????????????????"),COLUMN(B49),1)*1,"") | BE63: =IFERROR(MID(TEXT($AZ63,"????????????????"),COLUMN(C49),1)*1,"") | BF63: =IFERROR(MID(TEXT($AZ63,"????????????????"),COLUMN(D49),1)*1,"") | BG63: =IFERROR(MID(TEXT($AZ63,"????????????????"),COLUMN(E49),1)*1,"") | BH63: =IFERROR(MID(TEXT($AZ63,"????????????????"),COLUMN(F49),1)*1,"") | BI63: =IFERROR(MID(TEXT($AZ63,"????????????????"),COLUMN(G49),1)*1,"") | BJ63: =IFERROR(MID(TEXT($AZ63,"????????????????"),COLUMN(H49),1)*1,"") | ... BR63: =IFERROR(MID(TEXT($AZ63,"????????????????"),COLUMN(P49),1)*1,"")
BB64: =$BB63 -> 0 | BC64: =IF(BC63="",0,BC63) -> 0 | BD64: =IF(BD63="",0,BD63) -> 0 | BE64: =IF(BE63="",0,BE63) -> 0 | BF64: =IF(BF63="",0,BF63) -> 0 | BG64: =IF(BG63="",0,BG63) -> 0 | BH64: =IF(BH63="",0,BH63) -> 0 | BI64: =IF(BI63="",0,BI63) -> 0 | BJ64: =IF(BJ63="",0,BJ63) -> 0 | ... BR64: =IF(BR63="",0,BR63) -> 0 | BS64: =($BC$14*$BC64+$BD$14*$BD64+$BE$14*$BE64+$BF$14*$BF64+$BG$14*$BG64+$BH$14*$BH64+$BI$14*$BI64+$BJ$14*$BJ64+$BK$14*$BK64+$BL$14*$BL64+$BM$14*$BM64+$BN$14*$BN64+$BO$14*$BO64+$BP$14*$BP64+$BQ$14*$BQ64)/10 -> 0 | BT64: =MOD($BS64,1) -> 0 | BU64: =$BT64*10 -> 0 | BV64: =ROUND(BU64,1) -> 0 | BW64: =IF($BB64=0,300,(IF($BR64=$BV64,100,200))) -> 300
B67: 14 | AZ67: =SUBSTITUTE(C67,"-","") | BA67: =$AZ67*1 -> #VALUE! | BB67: =IFERROR($BA67,0) -> 0 | BC67: =IFERROR(MID(TEXT($AZ67,"????????????????"),COLUMN(A53),1)*1,"") | BD67: =IFERROR(MID(TEXT($AZ67,"????????????????"),COLUMN(B53),1)*1,"") | BE67: =IFERROR(MID(TEXT($AZ67,"????????????????"),COLUMN(C53),1)*1,"") | BF67: =IFERROR(MID(TEXT($AZ67,"????????????????"),COLUMN(D53),1)*1,"") | BG67: =IFERROR(MID(TEXT($AZ67,"????????????????"),COLUMN(E53),1)*1,"") | BH67: =IFERROR(MID(TEXT($AZ67,"????????????????"),COLUMN(F53),1)*1,"") | BI67: =IFERROR(MID(TEXT($AZ67,"????????????????"),COLUMN(G53),1)*1,"") | BJ67: =IFERROR(MID(TEXT($AZ67,"????????????????"),COLUMN(H53),1)*1,"") | ... BR67: =IFERROR(MID(TEXT($AZ67,"????????????????"),COLUMN(P53),1)*1,"")
BB68: =$BB67 -> 0 | BC68: =IF(BC67="",0,BC67) -> 0 | BD68: =IF(BD67="",0,BD67) -> 0 | BE68: =IF(BE67="",0,BE67) -> 0 | BF68: =IF(BF67="",0,BF67) -> 0 | BG68: =IF(BG67="",0,BG67) -> 0 | BH68: =IF(BH67="",0,BH67) -> 0 | BI68: =IF(BI67="",0,BI67) -> 0 | BJ68: =IF(BJ67="",0,BJ67) -> 0 | ... BR68: =IF(BR67="",0,BR67) -> 0 | BS68: =($BC$14*$BC68+$BD$14*$BD68+$BE$14*$BE68+$BF$14*$BF68+$BG$14*$BG68+$BH$14*$BH68+$BI$14*$BI68+$BJ$14*$BJ68+$BK$14*$BK68+$BL$14*$BL68+$BM$14*$BM68+$BN$14*$BN68+$BO$14*$BO68+$BP$14*$BP68+$BQ$14*$BQ68)/10 -> 0 | BT68: =MOD($BS68,1) -> 0 | BU68: =$BT68*10 -> 0 | BV68: =ROUND(BU68,1) -> 0 | BW68: =IF($BB68=0,300,(IF($BR68=$BV68,100,200))) -> 300
B71: 15 | AZ71: =SUBSTITUTE(C71,"-","") | BA71: =$AZ71*1 -> #VALUE! | BB71: =IFERROR($BA71,0) -> 0 | BC71: =IFERROR(MID(TEXT($AZ71,"????????????????"),COLUMN(A57),1)*1,"") | BD71: =IFERROR(MID(TEXT($AZ71,"????????????????"),COLUMN(B57),1)*1,"") | BE71: =IFERROR(MID(TEXT($AZ71,"????????????????"),COLUMN(C57),1)*1,"") | BF71: =IFERROR(MID(TEXT($AZ71,"????????????????"),COLUMN(D57),1)*1,"") | BG71: =IFERROR(MID(TEXT($AZ71,"????????????????"),COLUMN(E57),1)*1,"") | BH71: =IFERROR(MID(TEXT($AZ71,"????????????????"),COLUMN(F57),1)*1,"") | BI71: =IFERROR(MID(TEXT($AZ71,"????????????????"),COLUMN(G57),1)*1,"") | BJ71: =IFERROR(MID(TEXT($AZ71,"????????????????"),COLUMN(H57),1)*1,"") | ... BR71: =IFERROR(MID(TEXT($AZ71,"????????????????"),COLUMN(P57),1)*1,"")
BB72: =$BB71 -> 0 | BC72: =IF(BC71="",0,BC71) -> 0 | BD72: =IF(BD71="",0,BD71) -> 0 | BE72: =IF(BE71="",0,BE71) -> 0 | BF72: =IF(BF71="",0,BF71) -> 0 | BG72: =IF(BG71="",0,BG71) -> 0 | BH72: =IF(BH71="",0,BH71) -> 0 | BI72: =IF(BI71="",0,BI71) -> 0 | BJ72: =IF(BJ71="",0,BJ71) -> 0 | ... BR72: =IF(BR71="",0,BR71) -> 0 | BS72: =($BC$14*$BC72+$BD$14*$BD72+$BE$14*$BE72+$BF$14*$BF72+$BG$14*$BG72+$BH$14*$BH72+$BI$14*$BI72+$BJ$14*$BJ72+$BK$14*$BK72+$BL$14*$BL72+$BM$14*$BM72+$BN$14*$BN72+$BO$14*$BO72+$BP$14*$BP72+$BQ$14*$BQ72)/10 -> 0 | BT72: =MOD($BS72,1) -> 0 | BU72: =$BT72*10 -> 0 | BV72: =ROUND(BU72,1) -> 0 | BW72: =IF($BB72=0,300,(IF($BR72=$BV72,100,200))) -> 300
B75: [Make sure the total to be 100%] | P75: =SUM(P15:R74) -> 100 | S75: %
B77: Special Notes: please describe below any information on the product components to be noted
Y88: Existing chemical substances | AA88: General Chemical Substances | AB88: Existing chemical substances | AH88: No | AJ88: No
Y89: Chemical substances before public notice | AA89: Specific General Chemical Substances | AB89: Chemical substances before public notice | AH89: 1-Group substances | AJ89: I Class Organic Solvents, etc.
Y90: New chemical substances in a small quantity | AA90: Priority Assessment Chemical Substances | AB90: New chemical substances in a small quantity | AH90: 2-Group substances | AJ90: II Class Organic Solvents, etc.
Y91: New chemical substances with low production volume | AA91: Chemical Substances subject to monitoring | AB91: Chemical substances used for research purposes | AH91: 2-Group substances (Special organic solvents) | AJ91: III Class Organic Solvents, etc.
Y92: Low concern high molecular compounds (Polymers) | AA92: Class I Specified Chemical Substances | AB92: Out of scope | AH92: 3-Group substances
Y93: Intermediates | AA93: Class II Specified Chemical Substances
Y94: Chemical substances used for research purposes | AJ94: No,I Class Organic Solvents, etc.,II Class Organic Solvents, etc.,III Class Organic Solvents, etc.
Y95: Out of scope

Sheet ③-2 Overseas inventory
B2: ="Dainichiseika Group: Raw Material Survey Sheet "&'① Request for Information'!$W$6 -> Dainichiseika Group: Raw Material Survey Sheet Ver8.1
B4: Name of your product | F4: ='① Request for Information'!H16 -> 0 | S4: (Information on applicable regulations on components and existing registration of chemical substances) Please comply with the latest information provided by the relevant authorities at the date of preparation of the survey sheet. Information required by Japanese regulations is obligatory. In case the foreign regulations are not known, select "Unknown". In case multiple answers are possible for the Industrial Safety Act, etc, select one from them, and describe the other possible answers in the section of Special Notes. With regard to Vietnam and Thailand, the official inventory has not been publicized, and therefore please describe the information available at the time of preparation of this survey sheet.
B6: Date of preparation | F6: =IF('① Request for Information'!$N$15="","",'① Request for Information'!$H$15&"."&'① Request for Information'!$L$15&'① Request for Information'!$N$15)
B7: Company name | F7: ='① Request for Information'!H18 -> 0
B8: Department | F8: ='① Request for Information'!H19 -> 0
B9: Person in charge | F9: ='① Request for Information'!H20 -> 0
B11: Product Components Information | O11: Foreign countries: information on existing chemical substance registration : Optional items (fill in if possible)
C12: CAS Registration Number (CAS RN) | F12: Upper row : Component name（JPN） Lower row : Component name（ENG） | O12: U.S.A. | P12: Canada | Q12: EU | R12: U.K. | S12: Switzerland | T12: Turkey | U12: Australia | V12: New Zealand | W12: China | X12: South Korea | Z12: Taiwan | AA12: Philippines | AB12: Vietnam | AC12: Thailand
O13: TSCA | P13: CEPA 1999 | Q13: REACH | R13: UK-REACH | S13: Chem O | T13: KKDIK | U13: 2019 ICA | V13: HSNO | W13: China REACH | X13: K-REACH | Y13: OSHA | Z13: TCCSCA | AA13: RA No.6969 | AB13: Law on Chemicals in Vietnam | AC13: Hazardous Substance Control Act
P14: DSL/NDSL | U14: AIIC | V14: NZIoC | W14: IECSC | Z14: TCSI | AA14: PICCS | AB14: VNECI
B15: 1 | C15: ='③-1 Component Composition Data'!C15 -> 0 | F15: ='③-1 Component Composition Data'!G15 -> 0
F17: ='③-1 Component Composition Data'!G17 -> 0
B19: 2 | C19: ='③-1 Component Composition Data'!C19 -> 0 | F19: ='③-1 Component Composition Data'!G19 -> 0
F21: ='③-1 Component Composition Data'!G21 -> 0
B23: 3 | C23: ='③-1 Component Composition Data'!C23 -> 0 | F23: ='③-1 Component Composition Data'!G23 -> 0
F25: ='③-1 Component Composition Data'!G25 -> 0
B27: 4 | C27: ='③-1 Component Composition Data'!C27 -> 0 | F27: ='③-1 Component Composition Data'!G27 -> 0
F29: ='③-1 Component Composition Data'!G29 -> 0
B31: 5 | C31: ='③-1 Component Composition Data'!C31 -> 0 | F31: ='③-1 Component Composition Data'!G31 -> 0
F33: ='③-1 Component Composition Data'!G33 -> 0
B35: 6 | C35: ='③-1 Component Composition Data'!C35 -> 0 | F35: ='③-1 Component Composition Data'!G35 -> 0
F37: ='③-1 Component Composition Data'!G37 -> 0
B39: 7 | C39: ='③-1 Component Composition Data'!C39 -> 0 | F39: ='③-1 Component Composition Data'!G39 -> 0
F41: ='③-1 Component Composition Data'!G41 -> 0
B43: 8 | C43: ='③-1 Component Composition Data'!C43 -> 0 | F43: ='③-1 Component Composition Data'!G43 -> 0
F45: ='③-1 Component Composition Data'!G45 -> 0
B47: 9 | C47: ='③-1 Component Composition Data'!C47 -> 0 | F47: ='③-1 Component Composition Data'!G47 -> 0
F49: ='③-1 Component Composition Data'!G49 -> 0
B51: 10 | C51: ='③-1 Component Composition Data'!C51 -> 0 | F51: ='③-1 Component Composition Data'!G51 -> 0
F53: ='③-1 Component Composition Data'!G53 -> 0
B55: 11 | C55: ='③-1 Component Composition Data'!C55 -> 0 | F55: ='③-1 Component Composition Data'!G55 -> 0
F57: ='③-1 Component Composition Data'!G57 -> 0
B59: 12 | C59: ='③-1 Component Composition Data'!C59 -> 0 | F59: ='③-1 Component Composition Data'!G59 -> 0
F61: ='③-1 Component Composition Data'!G61 -> 0
B63: 13 | C63: ='③-1 Component Composition Data'!C63 -> 0 | F63: ='③-1 Component Composition Data'!G63 -> 0
F65: ='③-1 Component Composition Data'!G65 -> 0
B67: 14 | C67: ='③-1 Component Composition Data'!C67 -> 0 | F67: ='③-1 Component Composition Data'!G67 -> 0
F69: ='③-1 Component Composition Data'!G69 -> 0
B71: 15 | C71: ='③-1 Component Composition Data'!C71 -> 0 | F71: ='③-1 Component Composition Data'!G71 -> 0
F73: ='③-1 Component Composition Data'!G73 -> 0
B76: Special Notes: please describe below any information on existing registration of chemical substances or numbers outside Japan

Sheet ③-2 Overseas inventory (Exp.)
B2: ="Dainichiseika Group: Raw Material Survey Sheet "&'① Request for Information'!$W$6 -> Dainichiseika Group: Raw Material Survey Sheet Ver8.1
B4: Name of your product | F4: ='① Request for Information (Exp)'!H16 -> daicolor1-123 | S4: (Information on applicable regulations on components and existing registration of chemical substances) Please comply with the latest information provided by the relevant authorities at the date of preparation of the survey sheet. Information required by Japanese regulations is obligatory. In case the foreign regulations are not known, select "Unknown". In case multiple answers are possible for the Industrial Safety Act, etc, select one from them, and describe the other possible answers in the section of Special Notes. With regard to Vietnam and Thailand, the official inventory has not been publicized, and therefore please describe the information available at the time of preparation of this survey sheet.
B6: Date of preparation | F6: =IF('① Request for Information (Exp)'!$N$15="","",'① Request for Information (Exp)'!$H$15&"."&'① Request for Information (Exp)'!$L$15&'① Request for Information (Exp)'!$N$15) -> 2024.July30
B7: Company name | F7: ='① Request for Information (Exp)'!H18 -> Dainichiseika Color & Chemicals Mfg. Co., Ltd.
B8: Department | F8: ='① Request for Information (Exp)'!H19 -> Quality Products Supervisory Department, CSR/ESG Promotion Group Headquarters
B9: Person in charge | F9: ='① Request for Information (Exp)'!H20 -> Taro Dainichi
B11: Product Components Information | O11: Foreign countries: information on existing chemical substance registration : Optional items (fill in if possible)
C12: CAS Registration Number (CAS RN) | F12: Upper row : Component name（JPN） Lower row : Component name（ENG） | O12: U.S.A. | P12: Canada | Q12: EU | R12: U.K. | S12: Switzerland | T12: Turkey | U12: Australia | V12: New Zealand | W12: China | X12: South Korea | Z12: Taiwan | AA12: Philippines | AB12: Vietnam | AC12: Thailand
O13: TSCA | P13: CEPA 1999 | Q13: REACH | R13: UK-REACH | S13: Chem O | T13: KKDIK | U13: 2019 ICA | V13: HSNO | W13: China REACH | X13: K-REACH | Y13: OSHA | Z13: TCCSCA | AA13: RA No.6969 | AB13: Law on Chemicals in Vietnam | AC13: Hazardous Substance Control Act
P14: DSL/NDSL | U14: AIIC | V14: NZIoC | W14: IECSC | Z14: TCSI | AA14: PICCS | AB14: VNECI
B15: 1 | C15: ='③-1 Component Composition D (E)'!C15 -> 1309-64-4 | F15: ='③-1 Component Composition D (E)'!G15 -> 0 | O15: Listed as active substance | P15: Listed in DSL | Q15: Registered | R15: Registered | S15: Registered in EU-REACH | T15: Resistered | U15: Listed | V15: Listed | W15: Listed | X15: Existing chemical substances registered | Y15: Listed | Z15: Existing chemical substances for which standard registration should be completed | AA15: Listed | AB15: Unknown | AC15: Not listed
F17: ='③-1 Component Composition D (E)'!G17 -> Diantimony trioxide
B19: 2 | C19: ='③-1 Component Composition D (E)'!C19 -> 68187-11-1 | F19: ='③-1 Component Composition D (E)'!G19 -> 0 | O19: Listed as active substance | P19: Listed in DSL | Q19: Registered | R19: Registered | S19: Registered in EU-REACH | T19: Not registered | U19: Listed | V19: Listed | W19: Listed | X19: Unknown | Y19: Unknown | Z19: Listed | AA19: Listed | AB19: Unknown | AC19: Unknown
F21: ='③-1 Component Composition D (E)'!G21 -> C.I. Pigment blue 36
B23: 3 | C23: ='③-1 Component Composition D (E)'!C23 -> Non | F23: ='③-1 Component Composition D (E)'!G23 -> 0 | O23: Unknown | P23: Unknown | Q23: Unknown | R23: Unknown | S23: Unknown | T23: Unknown | U23: Unknown | V23: Unknown | W23: Unknown | X23: Unknown | Y23: Unknown | Z23: Unknown | AA23: Unknown | AB23: Unknown | AC23: Unknown
F25: ='③-1 Component Composition D (E)'!G25 -> Epoxy/acid adduct resin
B27: 4 | C27: ='③-1 Component Composition D (E)'!C27 -> 108-88-3 | F27: ='③-1 Component Composition D (E)'!G27 -> 0 | O27: Listed as active substance | P27: Listed in DSL | Q27: Not registered | R27: Not registered | S27: Not registered in EU-REACH | T27: Not registered | U27: Listed | V27: Listed | W27: Listed | X27: Existing chemical substances registered | Y27: Listed | Z27: Listed | AA27: Listed | AB27: Listed | AC27: Listed
F29: ='③-1 Component Composition D (E)'!G29 -> Toluene
B31: 5 | C31: ='③-1 Component Composition D (E)'!C31 -> 103-11-7 | F31: ='③-1 Component Composition D (E)'!G31 -> 0 | O31: Listed as active substance | P31: Listed in DSL | Q31: Not registered | R31: Not registered | S31: Not registered in EU-REACH | T31: Not registered | U31: Listed | V31: Unknown | W31: Listed | X31: Existing chemical substances not registered | Y31: Listed | Z31: Listed | AA31: Listed | AB31: Listed | AC31: Listed
F33: ='③-1 Component Composition D (E)'!G33 -> Others
B35: 6 | C35: ='③-1 Component Composition D (E)'!C35 -> 7681-65-4 | F35: ='③-1 Component Composition D (E)'!G35 -> 0 | O35: Listed as active substance | P35: Listed in DSL | Q35: Not registered | R35: Not registered | S35: Not registered in EU-REACH | T35: Not registered | U35: Listed | V35: Listed | W35: Listed | X35: Existing chemical substances not registered | Y35: Listed | Z35: Listed | AA35: Listed | AB35: Unknown | AC35: Listed
F37: ='③-1 Component Composition D (E)'!G37 -> Copper iodide
B39: 7 | C39: ='③-1 Component Composition D (E)'!C39 -> 103-11-7 | F39: ='③-1 Component Composition D (E)'!G39 -> 0 | O39: Listed as active substance | P39: Not listed in DSL and NDSL | Q39: Not registered | R39: Not registered | S39: Not registered in EU-REACH | T39: Not registered | U39: Not listed | V39: Unknown | W39: Listed | X39: Existing chemical substances not registered | Y39: Unknown | Z39: Not listed | AA39: Not listed | AB39: Unknown | AC39: Unknown
F41: ='③-1 Component Composition D (E)'!G41 -> 2-Ethylhexyl acrylate
B43: 8 | C43: ='③-1 Component Composition D (E)'!C43 -> Non-disclosure | F43: ='③-1 Component Composition D (E)'!G43 -> 0 | O43: Listed as active substance | P43: Listed in DSL | Q43: Not registered | R43: Not registered | S43: Not registered in EU-REACH | T43: Not registered | U43: Listed | V43: Listed | W43: Listed | X43: Existing chemical substances registered | Y43: Listed | Z43: Listed | AA43: Listed | AB43: Listed | AC43: Listed
F45: ='③-1 Component Composition D (E)'!G45 -> Antioxidant
B47: 9 | C47: ='③-1 Component Composition D (E)'!C47 -> Non-disclosure | F47: ='③-1 Component Composition D (E)'!G47 -> 0 | O47: Listed as active substance | P47: Listed in DSL | Q47: Registered | R47: Not registered | S47: Registered in EU-REACH | T47: Pre-registered | U47: Not listed | V47: Not listed | W47: Listed | X47: Existing chemical substances registered | Y47: Listed | Z47: Listed | AA47: Not listed | AB47: Not listed | AC47: List of Hazardous Substances 5.6 Notified
F49: ='③-1 Component Composition D (E)'!G49 -> Additive
B51: 10 | C51: ='③-1 Component Composition D (E)'!C51 -> 1336-36-3 | F51: ='③-1 Component Composition D (E)'!G51 -> 0
F53: ='③-1 Component Composition D (E)'!G53 -> Polychlorobiphenyl
B55: 11 | C55: ='③-1 Component Composition D (E)'!C55 -> 0 | F55: ='③-1 Component Composition D (E)'!G55 -> 0
F57: ='③-1 Component Composition D (E)'!G57 -> 0
B59: 12 | C59: ='③-1 Component Composition D (E)'!C59 -> 0 | F59: ='③-1 Component Composition D (E)'!G59 -> 0
F61: ='③-1 Component Composition D (E)'!G61 -> 0
B63: 13 | C63: ='③-1 Component Composition D (E)'!C63 -> 0 | F63: ='③-1 Component Composition D (E)'!G63 -> 0
F65: ='③-1 Component Composition D (E)'!G65 -> 0
B67: 14 | C67: ='③-1 Component Composition D (E)'!C67 -> 0 | F67: ='③-1 Component Composition D (E)'!G67 -> 0
F69: ='③-1 Component Composition D (E)'!G69 -> 0
B71: 15 | C71: ='③-1 Component Composition D (E)'!C71 -> 0 | F71: ='③-1 Component Composition D (E)'!G71 -> 0
F73: ='③-1 Component Composition D (E)'!G73 -> 0
B76: Special Notes: please describe below any information on existing registration of chemical substances or numbers outside Japan

Sheet ④ Procurement of Minerals
C2: Status of Use of Substances in Responsible Procurement of Minerals, etc.
C4: Name of your product | G4: ='① Request for Information'!H16 -> 0
C7: Date of preparation | G7: =IF('① Request for Information'!$N$15="","",'① Request for Information'!$H$15&"."&'① Request for Information'!$L$15&'① Request for Information'!$N$15)
C8: Company name | G8: ='① Request for Information'!H18 -> 0
C9: Department | G9: ='① Request for Information'!H19 -> 0
C10: Person in charge | G10: ='① Request for Information'!H20 -> 0
C12: Request for your cooperation in survey on responsible procurement of minerals
C13: Dainichiseika Group designates the following CSR Procurement Guidelines in connection with our "Responsible Mineral Procurement". 1) Never use conflict minerals that cause the infringement on human rights, environmental destruction, and other conflicts and become the source of funding for armed groups. 2) Make efforts to procure minerals from conflict-free smelters selected by organizations such as the RMI (Responsible Minerals Initiative). 3) If, in the unlikely event that the use of conflict-minerals financing armed groups comes to light, make prompt efforts to remedy such a situation. Having said the above, we request you to cooperate in the following survey on mineral procurement as part of our Due Diligence scheme.
C19: Inquiry 1 | F19: "CMRT: 3TG (4 Minerals)" | L19: Is 3TG intentionally added or used in the products or
C20: manufacture processes of "CMRT: 3TG (4 minerals)"?
C21: Tin | L21: ※3TG：Tin, Tantalum, Tungsten, Gold
C22: Tantalum
C23: Tungsten
C24: Gold
C26: Inquiry 2 | F26: "Expanded Mineral Reporting Template" | O26: Is cobalt or natural mica intentionally added or
C27: used in the products or manufacture processes of "Expanded Mineral Reporting Template"?
C28: Cobalt | L28: *The use of only natural mica is surveyed here.
C29: Mica
C31: Inquiry 3 | F31: "other items" | J31: Is any of the following substances intentionally added or used in the products
C32: or manufacture processes of "other items"?
C33: Aluminum | L33: In view of the international trend involving the responsible procurement of minerals (with regard to ESG risks, expansion of target minerals, etc.), we are carrying out a simple, preliminary survey on these minerals in advance in addition to those minerals within the scope of CMRT and EMRT. *The survey targets only natural minerals.
C34: Copper
C35: Lithium
C36: Nickel
C37: Lead
C38: Zinc
C39: Graphite
C40: Pulp
C41: Palm oil
C43: Special Notes: Please describe any information to be noted in connection with procurement of minerals, etc.
C47: *Depending on the replies above, we may request you to further cooperate with an additional survey.

Sheet ④ Procurement of Minerals (Exp)
C2: Status of Use of Substances in Responsible Procurement of Minerals, etc.
C4: Name of your product | G4: ='① Request for Information (Exp)'!H16 -> daicolor1-123
C7: Date of preparation | G7: =IF('① Request for Information (Exp)'!$N$15="","",'① Request for Information (Exp)'!$H$15&"."&'① Request for Information (Exp)'!$L$15&'① Request for Information (Exp)'!$N$15) -> 2024.July30
C8: Company name | G8: ='① Request for Information (Exp)'!H18 -> Dainichiseika Color & Chemicals Mfg. Co., Ltd.
C9: Department | G9: ='① Request for Information (Exp)'!H19 -> Quality Products Supervisory Department, CSR/ESG Promotion Group Headquarters
C10: Person in charge | G10: ='① Request for Information (Exp)'!H20 -> Taro Dainichi
C12: Request for your cooperation in survey on responsible procurement of minerals
C13: Dainichiseika Group designates the following CSR Procurement Guidelines in connection with our "Responsible Mineral Procurement". 1) Never use conflict minerals that cause the infringement on human rights, environmental destruction, and other conflicts and become the source of funding for armed groups. 2) Make efforts to procure minerals from conflict-free smelters selected by organizations such as the RMI (Responsible Minerals Initiative). 3) If, in the unlikely event that the use of conflict-minerals financing armed groups comes to light, make prompt efforts to remedy such a situation. Having said the above, we request you to cooperate in the following survey on mineral procurement as part of our Due Diligence scheme.
C19: Inquiry 1 | F19: "CMRT: 3TG (4 Minerals)" | L19: Is 3TG intentionally added or used in the products or
C20: manufacture processes of "CMRT: 3TG (4 minerals)"?
C21: Tin | G21: No | L21: ※3TG：Tin, Tantalum, Tungsten, Gold
C22: Tantalum | G22: No
C23: Tungsten | G23: No
C24: Gold | G24: No
C26: Inquiry 2 | F26: "Expanded Mineral Reporting Template" | O26: Is cobalt or natural mica intentionally added or
C27: used in the products or manufacture processes of "Expanded Mineral Reporting Template"?
C28: Cobalt | G28: Yes | L28: *The use of only natural mica is surveyed here.
C29: Mica | G29: No
C31: Inquiry 3 | F31: "other items" | J31: Is any of the following substances intentionally added or used in the products
C32: or manufacture processes of "other items"?
C33: Aluminum | G33: No | L33: In view of the international trend involving the responsible procurement of minerals (with regard to ESG risks, expansion of target minerals, etc.), we are carrying out a simple, preliminary survey on these minerals in advance in addition to those minerals within the scope of CMRT and EMRT. *The survey targets only natural minerals.
C34: Copper | G34: Yes
C35: Lithium | G35: No
C36: Nickel | G36: No
C37: Lead | G37: No
C38: Zinc | G38: No
C39: Graphite | G39: No
C40: Pulp | G40: No
C41: Palm oil | G41: No
C43: Special Notes: Please describe any information to be noted in connection with procurement of minerals, etc.
C47: *Depending on the replies above, we may request you to further cooperate with an additional survey.
