Workbook
Name オゾン層: [1]ラベル語彙集!$BG$15:$BG$17
Name 眼: [1]ラベル語彙集!$R$15:$R$27
Name 吸引性: [1]ラベル語彙集!$AV$15:$AV$21
Name 吸入: [1]ラベル語彙集!$J$15:$J$23
Name 経口: [1]ラベル語彙集!$B$15:$B$22
Name 経皮: [1]ラベル語彙集!$F$15:$F$22
Name 呼吸器気体: [1]ラベル語彙集!$X$15:$X$22
Name 呼吸器固体液体: [1]ラベル語彙集!$V$15:$V$22
Name 授乳影響: [1]ラベル語彙集!$AH$28:$AH$29
Name 水生急: [1]ラベル語彙集!$AY$15:$AY$22
Name 水生慢性: [1]ラベル語彙集!$BC$15:$BC$23
Name 生殖細胞: [1]ラベル語彙集!$Z$15:$Z$21
Name 生殖毒性: [1]ラベル語彙集!$AH$15:$AH$23
Name 特区分３: [1]ラベル語彙集!$AP$15:$AP$22
Name 特定1単: [1]ラベル語彙集!$AL$15:$AL$20
Name 特定１反: [1]ラベル語彙集!$AR$15:$AR$21
Name 特定２単: [1]ラベル語彙集!$AO$15:$AO$20
Name 特定２反: [1]ラベル語彙集!$AS$15:$AS$21
Name 特定単３: [1]ラベル語彙集!$AP$15:$AP$21
Name 発がん性: [1]ラベル語彙集!$AD$15:$AD$24
Name 皮膚: [1]ラベル語彙集!$N$15:$N$26
Name 皮膚感作性: [1]ラベル語彙集!$Y$15:$Y$22
Name 非加成性: [1]ラベル語彙集!#REF!
Name 非加成性: [1]ラベル語彙集!#REF!
Name 非加成性: [1]ラベル語彙集!#REF!
Name 非加成性: [1]ラベル語彙集!#REF!
Name 非加成性: [1]ラベル語彙集!#REF!
Name 非加成性: [1]ラベル語彙集!#REF!

Sheet ①調査のお願い
C3: 製品情報ご提供のお願い
W5: 大日精化工業株式会社
W6: Ver8.1
C7: 大日精化グループでは、当社は川上（原材料）から川下（最終製品）までのサプライチェーンの一端を担う化学メーカーとして、またCSR活動の一環として、環境負荷低減、製品安全確保を目的とし、正しい化学物質管理を行う為に、原材料中の化学物質組成データの整備を推進しております。 原材料含有化学物質調査は、新たに供給していただく原材料だけではなく、既に供給されている原材料についても整備の対象とさせていただいています。 何卒ご理解いただき、原材料含有化学物質調査にご協力をいただきますようお願いいたします。
C14: 1．製品名／お問合せ情報
C15: 1 | D15: 本帳票作成日 | K15: 年 | M15: 月 | O15: 日
C16: 2 | D16: 貴社製品名
C18: 3 | D18: 問合せ先 | F18: 会社名
F19: 部署名
F20: 担当者名
F21: 住所
F22: 電話番号
F23: e-mail
C24: 4 | D24: 製造会社名
C27: 2．ご提出をお願いする書類
C28: 1 | D28: SDS | H28: 日本法規に準拠した日本語の最新版SDSのご提出をお願いいたします。
C30: 2 | D30: 原材料含有化学物質 調査票 | H30: このエクセルファイルの以下シートへご記入のうえ、ご提出をお願いいたします。 ① 調査のお願い ② 大日禁止物質 ③-1 組成情報 ③-2 海外インベントリ ④ 鉱物等調達
C37: 3 | D37: chemSHERPA | H37: 最新バージョンのchemSHERPAのご提出をお願いいたします。 作成に関しては以下のURLをご参照ください。
H39: https://chemsherpa.net/

Sheet ①調査のお願い (記入例)
C3: 製品情報ご提供のお願い
W5: 大日精化工業株式会社
W6: Ver8.1
C7: 大日精化グループでは、当社は川上（原材料）から川下（最終製品）までのサプライチェーンの一端を担う化学メーカーとして、またCSR活動の一環として、環境負荷低減、製品安全確保を目的とし、正しい化学物質管理を行う為に、原材料中の化学物質組成データの整備を推進しております。 原材料含有化学物質調査は、新たに供給していただく原材料だけではなく、既に供給されている原材料についても整備の対象とさせていただいています。 何卒ご理解いただき、原材料含有化学物質調査にご協力をいただきますようお願いいたします。
C14: 1．製品名／お問合せ情報
C15: 1 | D15: 本帳票作成日 | H15: 2024 | K15: 年 | L15: 7 | M15: 月 | N15: 30 | O15: 日
C16: 2 | D16: 貴社製品名 | H16: daicolor1-123
C18: 3 | D18: 問合せ先 | F18: 会社名 | H18: 大日精化工業株式会社
F19: 部署名 | H19: CSR・ESG推進本部 品質化学品統括部 化学品管理部
F20: 担当者名 | H20: 大日 太郎
F21: 住所 | H21: 東京都中央区日本橋馬喰町1-7-6
F22: 電話番号 | H22: 01-2345-6789
F23: e-mail | H23: abc@daicolor.co.jp
C24: 4 | D24: 製造会社名 | H24: 大日精化工業株式会社
C27: 2．ご提出をお願いする書類
C28: 1 | D28: SDS | H28: 日本法規に準拠した日本語の最新版SDSのご提出をお願いいたします。
C30: 2 | D30: 原材料含有化学物質 調査票 | H30: このエクセルファイルの以下シートへご記入のうえ、ご提出をお願いいたします。 ① 調査のお願い ② 大日禁止物質 ③-1 組成情報 ③-2 海外インベントリ ④ 鉱物等調達
C37: 3 | D37: chemSHERPA | H37: 最新バージョンのchemSHERPAのご提出をお願いいたします。 作成に関しては以下のURLをご参照ください。
H39: https://chemsherpa.net/

Sheet ②大日禁止物質
C2: 大日精化グループの禁止物質の含有状況
C5: 貴社製品名 | G5: =①調査のお願い!H16 -> 0
C8: 調査票作成日 | G8: =IF(①調査のお願い!$N$15="","",①調査のお願い!$H$15&①調査のお願い!$K$15&①調査のお願い!$L$15&①調査のお願い!$M$15&①調査のお願い!$N$15&①調査のお願い!$O$15)
C9: 会社名 | G9: =①調査のお願い!H18 -> 0
C10: 部署 | G10: =①調査のお願い!H19 -> 0
C11: 担当者名 | G11: =①調査のお願い!H20 -> 0
C14: 大日精化グループの禁止物質の含有状況
L16: ※回答が無い場合は購入できないことがあります。
C17: 大日精化グループの禁止物質
C18: 大日精化グループが原材料への含有を禁止する物質は、以下の法規制等に該当する物質、又は大日精化グループが自主的な取り組みで定める物質となります。法規制等で閾値が設定されている化学物質については、その閾値以上の含有を禁止します。 法規制等については、本調査票作成日における、関係省庁から出される最新の情報に従うものとします。
C22: No. | E22: 法規制等の名称 | U22: 国または地域
C24: 1 | E24: 化学物質の審査及び製造等の規制に関する法律（化審法） ・第一種特定化学物質 | U24: 日本
C26: 2 | E26: 労働安全衛生法 ・製造等が禁止される有害物質等 | U26: 日本
C28: 3 | E28: 毒物及び劇物取締法 ・特定毒物 | U28: 日本
C30: 4 | E30: RoHS指令 ・制限物質 | U30: EU
C32: 5 | E32: 大日精化工業グループが定める物質 5-1：一部のアゾ染料・顔料（特定アミンを生成する） 5-2：オゾン層破壊物質（特定物質の規制等によるオゾン層の保護に関する法律） 5-3：ポリ塩化ターフェニル類（PCT類） 5-4：放射性物質（IEC 62474 DSL ） 5-5：一部のトリブチルスズ（TBT類）、トリフェニルスズ（TPT類） ※5-1、5-3、5-5は「REACH規則 制限物質リスト 附属書XVII」による。
C39: ※各法規制等の化学物質は以下のサイト「NITE 化学物質総合情報システム（NITE-CHRIP）」を参照して下さい。
C40: https://www.chem-info.nite.go.jp/chem/chrip/chrip_search/systemTop
C42: 特記事項：特記事項や禁止物質で含有しているものがありましたら、以下に記載して下さい。

Sheet ②大日禁止物質 (記入例)
C2: 大日精化グループの禁止物質の含有状況
C5: 貴社製品名 | G5: ='①調査のお願い (記入例)'!H16 -> daicolor1-123
C8: 調査票作成日 | G8: =IF('①調査のお願い (記入例)'!$N$15="","",'①調査のお願い (記入例)'!$H$15&'①調査のお願い (記入例)'!$K$15&'①調査のお願い (記入例)'!$L$15&'①調査のお願い (記入例)'!$M$15&'①調査のお願い (記入例)'!$N$15&'①調査のお願い (記入例)'!$O$15) -> 2024年7月30日
C9: 会社名 | G9: ='①調査のお願い (記入例)'!H18 -> 大日精化工業株式会社
C10: 部署 | G10: ='①調査のお願い (記入例)'!H19 -> CSR・ESG推進本部 品質化学品統括部 化学品管理部
C11: 担当者名 | G11: ='①調査のお願い (記入例)'!H20 -> 大日 太郎
C14: 大日精化グループの禁止物質の含有状況 | L14: 意図的に使用していません
L16: ※回答が無い場合は購入できないことがあります。
C17: 大日精化グループの禁止物質
C18: 大日精化グループが原材料への含有を禁止する物質は、以下の法規制等に該当する物質、又は大日精化グループが自主的な取り組みで定める物質となります。法規制等で閾値が設定されている化学物質については、その閾値以上の含有を禁止します。 法規制等については、本調査票作成日における、関係省庁から出される最新の情報に従うものとします。
C22: No. | E22: 法規制等の名称 | U22: 国または地域
C24: 1 | E24: 化学物質の審査及び製造等の規制に関する法律（化審法） ・第一種特定化学物質 | U24: 日本
C26: 2 | E26: 労働安全衛生法 ・製造等が禁止される有害物質等 | U26: 日本
C28: 3 | E28: 毒物及び劇物取締法 ・特定毒物 | U28: 日本
C30: 4 | E30: RoHS指令 ・制限物質 | U30: EU
C32: 5 | E32: 大日精化工業グループが定める物質 5-1：一部のアゾ染料・顔料（特定アミンを生成する） 5-2：オゾン層破壊物質（特定物質の規制等によるオゾン層の保護に関する法律） 5-3：ポリ塩化ターフェニル類（PCT類） 5-4：放射性物質（IEC 62474 DSL ） 5-5：一部のトリブチルスズ（TBT類）、トリフェニルスズ（TPT類） ※5-1、5-3、5-5は「REACH規則 制限物質リスト 附属書XVII」による。
C39: ※各法規制等の化学物質は以下のサイト「NITE 化学物質総合情報システム（NITE-CHRIP）」を参照して下さい。
C40: https://www.chem-info.nite.go.jp/chem/chrip/chrip_search/systemTop
C42: 特記事項：特記事項や禁止物質で含有しているものがありましたら、以下に記載して下さい。
C43: ・不純物としてPCBを含有しています。

Sheet ③-1組成情報
B2: ="大日精化グループ：原材料含有化学物質調査票 "&①調査のお願い!$W$6 -> 大日精化グループ：原材料含有化学物質調査票 Ver8.1 | Y2: <記入にあたってのお願い> （製品中組成情報について） ①含有率について 可能な限り代表値での記入をお願いいたします。 ②大日精化グループにおける不純物について 目的とする成分以外の未反応原料、反応触媒、指示薬、副生成物（意図した反応とは異なる反応により生成したもの）等を言います。 ③複合酸化物について ２種以上の酸化物が組み合わせて、新たな結合様式を形成してできた化学物質のことを言います。 （１）CAS登録番号(CAS RN)は、単一物質として記載してください。 （２）複合酸化物に非該当の場合は「W列」、「X列」のセルは入力不要です。 （３）複合酸化物に該当する場合は、構成しているそれぞれの金属酸化物の名称と含有率を記載してください。 （成分法規制情報/既存化学物質登録情報について） 法規制情報は、物質単位での情報を記入してください。 本調査票作成日における、関係省庁から出される最新の情報に従うものとします。 化審法、安衛法等の官報公示番号や政令番号で、複数該当する場合は、カンマ区切りですべて記載してください。 化管法に該当する場合には、対象金属の金属元素含有量（換算係数）の換算係数は必須入力となります。
B4: 貴社製品名 | F4: =①調査のお願い!H16 -> 0
B6: 調査票作成日 | F6: =IF(①調査のお願い!$N$15="","",①調査のお願い!$H$15&①調査のお願い!$K$15&①調査のお願い!$L$15&①調査のお願い!$M$15&①調査のお願い!$N$15&①調査のお願い!$O$15)
B7: 会社名 | F7: =①調査のお願い!H18 -> 0
B8: 部署 | F8: =①調査のお願い!H19 -> 0
B9: 担当者名 | F9: =①調査のお願い!H20 -> 0
B11: 製品中組成情報 | Y11: 日本：成分法規制情報/既存化学物質登録情報 「赤字」：必須項目、「青字」該当がある場合に記入、「黒字」：任意項目（可能であれば記入）
C12: CAS登録番号 （CAS RN） | G12: 上段 成分名称（日本語名） 下段 成分名称（英語名） | P12: 含有率 （％） | S12: 不純物 の該当 | U12: 複合酸化物 | Y12: 日本 | AV12: 備考
U13: 該非 | W13: 金属酸化物名称 | X13: 含有率（％） | Y13: 化審法 | AB13: 安衛法 | AP13: 化管法 | AT13: 毒劇法
Y14: インベントリ | Z14: 官報公示番号 | AA14: 規制 | AB14: インベントリ | AC14: 官報公示番号 | AD14: 通知・表示対象 | AE14: 政令番号 | AF14: 変異原性が認められた化学物質 | AG14: 政令番号 | AH14: 特化則 | AI14: 政令番号 | AJ14: 有機則 | AK14: 鉛中毒予防規則 | AL14: 四アルキル鉛則 | AM14: 皮膚等障害化学物質等 | AN14: がん原性物質 | AO14: 危険物 | AP14: 規制 | AQ14: 管理番号 | AR14: 金属元素等 | AS14: 換算係数 | AT14: 規制 | AU14: 政令名称or政令番号 | AZ14: 数字だけ | BC14: 15 | BD14: 14 | BE14: 13 | BF14: 12 | BG14: 11 | BH14: 10 | BI14: 9 | BJ14: 8 | BK14: 7 | BL14: 6 | BM14: 5 | BN14: 4 | BO14: 3 | BP14: 2 | BQ14: 1 | BR14: チェック
B15: 1 | AZ15: =SUBSTITUTE(C15,"-","") | BA15: =$AZ15*1 -> #VALUE! | BB15: =IFERROR($BA15,0) -> 0 | BC15: =IFERROR(MID(TEXT($AZ15,"????????????????"),COLUMN(A1),1)*1,"") | BD15: =IFERROR(MID(TEXT($AZ15,"????????????????"),COLUMN(B1),1)*1,"") | BE15: =IFERROR(MID(TEXT($AZ15,"????????????????"),COLUMN(C1),1)*1,"") | BF15: =IFERROR(MID(TEXT($AZ15,"????????????????"),COLUMN(D1),1)*1,"") | BG15: =IFERROR(MID(TEXT($AZ15,"????????????????"),COLUMN(E1),1)*1,"") | BH15: =IFERROR(MID(TEXT($AZ15,"????????????????"),COLUMN(F1),1)*1,"") | BI15: =IFERROR(MID(TEXT($AZ15,"????????????????"),COLUMN(G1),1)*1,"") | BJ15: =IFERROR(MID(TEXT($AZ15,"????????????????"),COLUMN(H1),1)*1,"") | ... BR15: =IFERROR(MID(TEXT($AZ15,"????????????????"),COLUMN(P1),1)*1,"")
BB16: =$BB15 -> 0 | BC16: =IF(BC15="",0,BC15) -> 0 | BD16: =IF(BD15="",0,BD15) -> 0 | BE16: =IF(BE15="",0,BE15) -> 0 | BF16: =IF(BF15="",0,BF15) -> 0 | BG16: =IF(BG15="",0,BG15) -> 0 | BH16: =IF(BH15="",0,BH15) -> 0 | BI16: =IF(BI15="",0,BI15) -> 0 | BJ16: =IF(BJ15="",0,BJ15) -> 0 | ... BR16: =IF(BR15="",0,BR15) -> 0 | BS16: =($BC$14*$BC16+$BD$14*$BD16+$BE$14*$BE16+$BF$14*$BF16+$BG$14*$BG16+$BH$14*$BH16+$BI$14*$BI16+$BJ$14*$BJ16+$BK$14*$BK16+$BL$14*$BL16+$BM$14*$BM16+$BN$14*$BN16+$BO$14*$BO16+$BP$14*$BP16+$BQ$14*$BQ16)/10 -> 0 | BT16: =MOD($BS16,1) -> 0 | BU16: =$BT16*10 -> 0 | BV16: =ROUND(BU16,1) -> 0 | BW16: =IF($BB16=0,300,(IF($BR16=$BV16,100,200))) -> 300 | BX16: =BR16-BU16 -> 0
B19: 2 | AZ19: =SUBSTITUTE(C19,"-","") | BA19: =$AZ19*1 -> #VALUE! | BB19: =IFERROR($BA19,0) -> 0 | BC19: =IFERROR(MID(TEXT($AZ19,"????????????????"),COLUMN(A5),1)*1,"") | BD19: =IFERROR(MID(TEXT($AZ19,"????????????????"),COLUMN(B5),1)*1,"") | BE19: =IFERROR(MID(TEXT($AZ19,"????????????????"),COLUMN(C5),1)*1,"") | BF19: =IFERROR(MID(TEXT($AZ19,"????????????????"),COLUMN(D5),1)*1,"") | BG19: =IFERROR(MID(TEXT($AZ19,"????????????????"),COLUMN(E5),1)*1,"") | BH19: =IFERROR(MID(TEXT($AZ19,"????????????????"),COLUMN(F5),1)*1,"") | BI19: =IFERROR(MID(TEXT($AZ19,"????????????????"),COLUMN(G5),1)*1,"") | BJ19: =IFERROR(MID(TEXT($AZ19,"????????????????"),COLUMN(H5),1)*1,"") | ... BR19: =IFERROR(MID(TEXT($AZ19,"????????????????"),COLUMN(P5),1)*1,"")
BB20: =$BB19 -> 0 | BC20: =IF(BC19="",0,BC19) -> 0 | BD20: =IF(BD19="",0,BD19) -> 0 | BE20: =IF(BE19="",0,BE19) -> 0 | BF20: =IF(BF19="",0,BF19) -> 0 | BG20: =IF(BG19="",0,BG19) -> 0 | BH20: =IF(BH19="",0,BH19) -> 0 | BI20: =IF(BI19="",0,BI19) -> 0 | BJ20: =IF(BJ19="",0,BJ19) -> 0 | ... BR20: =IF(BR19="",0,BR19) -> 0 | BS20: =($BC$14*$BC20+$BD$14*$BD20+$BE$14*$BE20+$BF$14*$BF20+$BG$14*$BG20+$BH$14*$BH20+$BI$14*$BI20+$BJ$14*$BJ20+$BK$14*$BK20+$BL$14*$BL20+$BM$14*$BM20+$BN$14*$BN20+$BO$14*$BO20+$BP$14*$BP20+$BQ$14*$BQ20)/10 -> 0 | BT20: =MOD($BS20,1) -> 0 | BU20: =$BT20*10 -> 0 | BV20: =ROUND(BU20,1) -> 0 | BW20: =IF($BB20=0,300,(IF($BR20=$BV20,100,200))) -> 300 | BX20: =BR20-BU20 -> 0
B23: 3 | AZ23: =SUBSTITUTE(C23,"-","") | BA23: =$AZ23*1 -> #VALUE! | BB23: =IFERROR($BA23,0) -> 0 | BC23: =IFERROR(MID(TEXT($AZ23,"????????????????"),COLUMN(A9),1)*1,"") | BD23: =IFERROR(MID(TEXT($AZ23,"????????????????"),COLUMN(B9),1)*1,"") | BE23: =IFERROR(MID(TEXT($AZ23,"????????????????"),COLUMN(C9),1)*1,"") | BF23: =IFERROR(MID(TEXT($AZ23,"????????????????"),COLUMN(D9),1)*1,"") | BG23: =IFERROR(MID(TEXT($AZ23,"????????????????"),COLUMN(E9),1)*1,"") | BH23: =IFERROR(MID(TEXT($AZ23,"????????????????"),COLUMN(F9),1)*1,"") | BI23: =IFERROR(MID(TEXT($AZ23,"????????????????"),COLUMN(G9),1)*1,"") | BJ23: =IFERROR(MID(TEXT($AZ23,"????????????????"),COLUMN(H9),1)*1,"") | ... BR23: =IFERROR(MID(TEXT($AZ23,"????????????????"),COLUMN(P9),1)*1,"")
BB24: =$BB23 -> 0 | BC24: =IF(BC23="",0,BC23) -> 0 | BD24: =IF(BD23="",0,BD23) -> 0 | BE24: =IF(BE23="",0,BE23) -> 0 | BF24: =IF(BF23="",0,BF23) -> 0 | BG24: =IF(BG23="",0,BG23) -> 0 | BH24: =IF(BH23="",0,BH23) -> 0 | BI24: =IF(BI23="",0,BI23) -> 0 | BJ24: =IF(BJ23="",0,BJ23) -> 0 | ... BR24: =IF(BR23="",0,BR23) -> 0 | BS24: =($BC$14*$BC24+$BD$14*$BD24+$BE$14*$BE24+$BF$14*$BF24+$BG$14*$BG24+$BH$14*$BH24+$BI$14*$BI24+$BJ$14*$BJ24+$BK$14*$BK24+$BL$14*$BL24+$BM$14*$BM24+$BN$14*$BN24+$BO$14*$BO24+$BP$14*$BP24+$BQ$14*$BQ24)/10 -> 0 | BT24: =MOD($BS24,1) -> 0 | BU24: =$BT24*10 -> 0 | BV24: =ROUND(BU24,1) -> 0 | BW24: =IF($BB24=0,300,(IF($BR24=$BV24,100,200))) -> 300 | BX24: =BR24-BU24 -> 0
B27: 4 | AZ27: =SUBSTITUTE(C27,"-","") | BA27: =$AZ27*1 -> #VALUE! | BB27: =IFERROR($BA27,0) -> 0 | BC27: =IFERROR(MID(TEXT($AZ27,"????????????????"),COLUMN(A13),1)*1,"") | BD27: =IFERROR(MID(TEXT($AZ27,"????????????????"),COLUMN(B13),1)*1,"") | BE27: =IFERROR(MID(TEXT($AZ27,"????????????????"),COLUMN(C13),1)*1,"") | BF27: =IFERROR(MID(TEXT($AZ27,"????????????????"),COLUMN(D13),1)*1,"") | BG27: =IFERROR(MID(TEXT($AZ27,"????????????????"),COLUMN(E13),1)*1,"") | BH27: =IFERROR(MID(TEXT($AZ27,"????????????????"),COLUMN(F13),1)*1,"") | BI27: =IFERROR(MID(TEXT($AZ27,"????????????????"),COLUMN(G13),1)*1,"") | BJ27: =IFERROR(MID(TEXT($AZ27,"????????????????"),COLUMN(H13),1)*1,"") | ... BR27: =IFERROR(MID(TEXT($AZ27,"????????????????"),COLUMN(P13),1)*1,"")
BB28: =$BB27 -> 0 | BC28: =IF(BC27="",0,BC27) -> 0 | BD28: =IF(BD27="",0,BD27) -> 0 | BE28: =IF(BE27="",0,BE27) -> 0 | BF28: =IF(BF27="",0,BF27) -> 0 | BG28: =IF(BG27="",0,BG27) -> 0 | BH28: =IF(BH27="",0,BH27) -> 0 | BI28: =IF(BI27="",0,BI27) -> 0 | BJ28: =IF(BJ27="",0,BJ27) -> 0 | ... BR28: =IF(BR27="",0,BR27) -> 0 | BS28: =($BC$14*$BC28+$BD$14*$BD28+$BE$14*$BE28+$BF$14*$BF28+$BG$14*$BG28+$BH$14*$BH28+$BI$14*$BI28+$BJ$14*$BJ28+$BK$14*$BK28+$BL$14*$BL28+$BM$14*$BM28+$BN$14*$BN28+$BO$14*$BO28+$BP$14*$BP28+$BQ$14*$BQ28)/10 -> 0 | BT28: =MOD($BS28,1) -> 0 | BU28: =$BT28*10 -> 0 | BV28: =ROUND(BU28,1) -> 0 | BW28: =IF($BB28=0,300,(IF($BR28=$BV28,100,200))) -> 300 | BX28: =BR28-BU28 -> 0
B31: 5 | AZ31: =SUBSTITUTE(C31,"-","") | BA31: =$AZ31*1 -> #VALUE! | BB31: =IFERROR($BA31,0) -> 0 | BC31: =IFERROR(MID(TEXT($AZ31,"????????????????"),COLUMN(A17),1)*1,"") | BD31: =IFERROR(MID(TEXT($AZ31,"????????????????"),COLUMN(B17),1)*1,"") | BE31: =IFERROR(MID(TEXT($AZ31,"????????????????"),COLUMN(C17),1)*1,"") | BF31: =IFERROR(MID(TEXT($AZ31,"????????????????"),COLUMN(D17),1)*1,"") | BG31: =IFERROR(MID(TEXT($AZ31,"????????????????"),COLUMN(E17),1)*1,"") | BH31: =IFERROR(MID(TEXT($AZ31,"????????????????"),COLUMN(F17),1)*1,"") | BI31: =IFERROR(MID(TEXT($AZ31,"????????????????"),COLUMN(G17),1)*1,"") | BJ31: =IFERROR(MID(TEXT($AZ31,"????????????????"),COLUMN(H17),1)*1,"") | ... BR31: =IFERROR(MID(TEXT($AZ31,"????????????????"),COLUMN(P17),1)*1,"")
BB32: =$BB31 -> 0 | BC32: =IF(BC31="",0,BC31) -> 0 | BD32: =IF(BD31="",0,BD31) -> 0 | BE32: =IF(BE31="",0,BE31) -> 0 | BF32: =IF(BF31="",0,BF31) -> 0 | BG32: =IF(BG31="",0,BG31) -> 0 | BH32: =IF(BH31="",0,BH31) -> 0 | BI32: =IF(BI31="",0,BI31) -> 0 | BJ32: =IF(BJ31="",0,BJ31) -> 0 | ... BR32: =IF(BR31="",0,BR31) -> 0 | BS32: =($BC$14*$BC32+$BD$14*$BD32+$BE$14*$BE32+$BF$14*$BF32+$BG$14*$BG32+$BH$14*$BH32+$BI$14*$BI32+$BJ$14*$BJ32+$BK$14*$BK32+$BL$14*$BL32+$BM$14*$BM32+$BN$14*$BN32+$BO$14*$BO32+$BP$14*$BP32+$BQ$14*$BQ32)/10 -> 0 | BT32: =MOD($BS32,1) -> 0 | BU32: =$BT32*10 -> 0 | BV32: =ROUND(BU32,1) -> 0 | BW32: =IF($BB32=0,300,(IF($BR32=$BV32,100,200))) -> 300
B35: 6 | AZ35: =SUBSTITUTE(C35,"-","") | BA35: =$AZ35*1 -> #VALUE! | BB35: =IFERROR($BA35,0) -> 0 | BC35: =IFERROR(MID(TEXT($AZ35,"????????????????"),COLUMN(A21),1)*1,"") | BD35: =IFERROR(MID(TEXT($AZ35,"????????????????"),COLUMN(B21),1)*1,"") | BE35: =IFERROR(MID(TEXT($AZ35,"????????????????"),COLUMN(C21),1)*1,"") | BF35: =IFERROR(MID(TEXT($AZ35,"????????????????"),COLUMN(D21),1)*1,"") | BG35: =IFERROR(MID(TEXT($AZ35,"????????????????"),COLUMN(E21),1)*1,"") | BH35: =IFERROR(MID(TEXT($AZ35,"????????????????"),COLUMN(F21),1)*1,"") | BI35: =IFERROR(MID(TEXT($AZ35,"????????????????"),COLUMN(G21),1)*1,"") | BJ35: =IFERROR(MID(TEXT($AZ35,"????????????????"),COLUMN(H21),1)*1,"") | ... BR35: =IFERROR(MID(TEXT($AZ35,"????????????????"),COLUMN(P21),1)*1,"")
BB36: =$BB35 -> 0 | BC36: =IF(BC35="",0,BC35) -> 0 | BD36: =IF(BD35="",0,BD35) -> 0 | BE36: =IF(BE35="",0,BE35) -> 0 | BF36: =IF(BF35="",0,BF35) -> 0 | BG36: =IF(BG35="",0,BG35) -> 0 | BH36: =IF(BH35="",0,BH35) -> 0 | BI36: =IF(BI35="",0,BI35) -> 0 | BJ36: =IF(BJ35="",0,BJ35) -> 0 | ... BR36: =IF(BR35="",0,BR35) -> 0 | BS36: =($BC$14*$BC36+$BD$14*$BD36+$BE$14*$BE36+$BF$14*$BF36+$BG$14*$BG36+$BH$14*$BH36+$BI$14*$BI36+$BJ$14*$BJ36+$BK$14*$BK36+$BL$14*$BL36+$BM$14*$BM36+$BN$14*$BN36+$BO$14*$BO36+$BP$14*$BP36+$BQ$14*$BQ36)/10 -> 0 | BT36: =MOD($BS36,1) -> 0 | BU36: =$BT36*10 -> 0 | BV36: =ROUND(BU36,1) -> 0 | BW36: =IF($BB36=0,300,(IF($BR36=$BV36,100,200))) -> 300
B39: 7 | AZ39: =SUBSTITUTE(C39,"-","") | BA39: =$AZ39*1 -> #VALUE! | BB39: =IFERROR($BA39,0) -> 0 | BC39: =IFERROR(MID(TEXT($AZ39,"????????????????"),COLUMN(A25),1)*1,"") | BD39: =IFERROR(MID(TEXT($AZ39,"????????????????"),COLUMN(B25),1)*1,"") | BE39: =IFERROR(MID(TEXT($AZ39,"????????????????"),COLUMN(C25),1)*1,"") | BF39: =IFERROR(MID(TEXT($AZ39,"????????????????"),COLUMN(D25),1)*1,"") | BG39: =IFERROR(MID(TEXT($AZ39,"????????????????"),COLUMN(E25),1)*1,"") | BH39: =IFERROR(MID(TEXT($AZ39,"????????????????"),COLUMN(F25),1)*1,"") | BI39: =IFERROR(MID(TEXT($AZ39,"????????????????"),COLUMN(G25),1)*1,"") | BJ39: =IFERROR(MID(TEXT($AZ39,"????????????????"),COLUMN(H25),1)*1,"") | ... BR39: =IFERROR(MID(TEXT($AZ39,"????????????????"),COLUMN(P25),1)*1,"")
BB40: =$BB39 -> 0 | BC40: =IF(BC39="",0,BC39) -> 0 | BD40: =IF(BD39="",0,BD39) -> 0 | BE40: =IF(BE39="",0,BE39) -> 0 | BF40: =IF(BF39="",0,BF39) -> 0 | BG40: =IF(BG39="",0,BG39) -> 0 | BH40: =IF(BH39="",0,BH39) -> 0 | BI40: =IF(BI39="",0,BI39) -> 0 | BJ40: =IF(BJ39="",0,BJ39) -> 0 | ... BR40: =IF(BR39="",0,BR39) -> 0 | BS40: =($BC$14*$BC40+$BD$14*$BD40+$BE$14*$BE40+$BF$14*$BF40+$BG$14*$BG40+$BH$14*$BH40+$BI$14*$BI40+$BJ$14*$BJ40+$BK$14*$BK40+$BL$14*$BL40+$BM$14*$BM40+$BN$14*$BN40+$BO$14*$BO40+$BP$14*$BP40+$BQ$14*$BQ40)/10 -> 0 | BT40: =MOD($BS40,1) -> 0 | BU40: =$BT40*10 -> 0 | BV40: =ROUND(BU40,1) -> 0 | BW40: =IF($BB40=0,300,(IF($BR40=$BV40,100,200))) -> 300
B43: 8 | AZ43: =SUBSTITUTE(C43,"-","") | BA43: =$AZ43*1 -> #VALUE! | BB43: =IFERROR($BA43,0) -> 0 | BC43: =IFERROR(MID(TEXT($AZ43,"????????????????"),COLUMN(A29),1)*1,"") | BD43: =IFERROR(MID(TEXT($AZ43,"????????????????"),COLUMN(B29),1)*1,"") | BE43: =IFERROR(MID(TEXT($AZ43,"????????????????"),COLUMN(C29),1)*1,"") | BF43: =IFERROR(MID(TEXT($AZ43,"????????????????"),COLUMN(D29),1)*1,"") | BG43: =IFERROR(MID(TEXT($AZ43,"????????????????"),COLUMN(E29),1)*1,"") | BH43: =IFERROR(MID(TEXT($AZ43,"????????????????"),COLUMN(F29),1)*1,"") | BI43: =IFERROR(MID(TEXT($AZ43,"????????????????"),COLUMN(G29),1)*1,"") | BJ43: =IFERROR(MID(TEXT($AZ43,"????????????????"),COLUMN(H29),1)*1,"") | ... BR43: =IFERROR(MID(TEXT($AZ43,"????????????????"),COLUMN(P29),1)*1,"")
BB44: =$BB43 -> 0 | BC44: =IF(BC43="",0,BC43) -> 0 | BD44: =IF(BD43="",0,BD43) -> 0 | BE44: =IF(BE43="",0,BE43) -> 0 | BF44: =IF(BF43="",0,BF43) -> 0 | BG44: =IF(BG43="",0,BG43) -> 0 | BH44: =IF(BH43="",0,BH43) -> 0 | BI44: =IF(BI43="",0,BI43) -> 0 | BJ44: =IF(BJ43="",0,BJ43) -> 0 | ... BR44: =IF(BR43="",0,BR43) -> 0 | BS44: =($BC$14*$BC44+$BD$14*$BD44+$BE$14*$BE44+$BF$14*$BF44+$BG$14*$BG44+$BH$14*$BH44+$BI$14*$BI44+$BJ$14*$BJ44+$BK$14*$BK44+$BL$14*$BL44+$BM$14*$BM44+$BN$14*$BN44+$BO$14*$BO44+$BP$14*$BP44+$BQ$14*$BQ44)/10 -> 0 | BT44: =MOD($BS44,1) -> 0 | BU44: =$BT44*10 -> 0 | BV44: =ROUND(BU44,1) -> 0 | BW44: =IF($BB44=0,300,(IF($BR44=$BV44,100,200))) -> 300
B47: 9 | AZ47: =SUBSTITUTE(C47,"-","") | BA47: =$AZ47*1 -> #VALUE! | BB47: =IFERROR($BA47,0) -> 0 | BC47: =IFERROR(MID(TEXT($AZ47,"????????????????"),COLUMN(A33),1)*1,"") | BD47: =IFERROR(MID(TEXT($AZ47,"????????????????"),COLUMN(B33),1)*1,"") | BE47: =IFERROR(MID(TEXT($AZ47,"????????????????"),COLUMN(C33),1)*1,"") | BF47: =IFERROR(MID(TEXT($AZ47,"????????????????"),COLUMN(D33),1)*1,"") | BG47: =IFERROR(MID(TEXT($AZ47,"????????????????"),COLUMN(E33),1)*1,"") | BH47: =IFERROR(MID(TEXT($AZ47,"????????????????"),COLUMN(F33),1)*1,"") | BI47: =IFERROR(MID(TEXT($AZ47,"????????????????"),COLUMN(G33),1)*1,"") | BJ47: =IFERROR(MID(TEXT($AZ47,"????????????????"),COLUMN(H33),1)*1,"") | ... BR47: =IFERROR(MID(TEXT($AZ47,"????????????????"),COLUMN(P33),1)*1,"")
BB48: =$BB47 -> 0 | BC48: =IF(BC47="",0,BC47) -> 0 | BD48: =IF(BD47="",0,BD47) -> 0 | BE48: =IF(BE47="",0,BE47) -> 0 | BF48: =IF(BF47="",0,BF47) -> 0 | BG48: =IF(BG47="",0,BG47) -> 0 | BH48: =IF(BH47="",0,BH47) -> 0 | BI48: =IF(BI47="",0,BI47) -> 0 | BJ48: =IF(BJ47="",0,BJ47) -> 0 | ... BR48: =IF(BR47="",0,BR47) -> 0 | BS48: =($BC$14*$BC48+$BD$14*$BD48+$BE$14*$BE48+$BF$14*$BF48+$BG$14*$BG48+$BH$14*$BH48+$BI$14*$BI48+$BJ$14*$BJ48+$BK$14*$BK48+$BL$14*$BL48+$BM$14*$BM48+$BN$14*$BN48+$BO$14*$BO48+$BP$14*$BP48+$BQ$14*$BQ48)/10 -> 0 | BT48: =MOD($BS48,1) -> 0 | BU48: =$BT48*10 -> 0 | BV48: =ROUND(BU48,1) -> 0 | BW48: =IF($BB48=0,300,(IF($BR48=$BV48,100,200))) -> 300
B51: 10 | AZ51: =SUBSTITUTE(C51,"-","") | BA51: =$AZ51*1 -> #VALUE! | BB51: =IFERROR($BA51,0) -> 0 | BC51: =IFERROR(MID(TEXT($AZ51,"????????????????"),COLUMN(A37),1)*1,"") | BD51: =IFERROR(MID(TEXT($AZ51,"????????????????"),COLUMN(B37),1)*1,"") | BE51: =IFERROR(MID(TEXT($AZ51,"????????????????"),COLUMN(C37),1)*1,"") | BF51: =IFERROR(MID(TEXT($AZ51,"????????????????"),COLUMN(D37),1)*1,"") | BG51: =IFERROR(MID(TEXT($AZ51,"????????????????"),COLUMN(E37),1)*1,"") | BH51: =IFERROR(MID(TEXT($AZ51,"????????????????"),COLUMN(F37),1)*1,"") | BI51: =IFERROR(MID(TEXT($AZ51,"????????????????"),COLUMN(G37),1)*1,"") | BJ51: =IFERROR(MID(TEXT($AZ51,"????????????????"),COLUMN(H37),1)*1,"") | ... BR51: =IFERROR(MID(TEXT($AZ51,"????????????????"),COLUMN(P37),1)*1,"")
BB52: =$BB51 -> 0 | BC52: =IF(BC51="",0,BC51) -> 0 | BD52: =IF(BD51="",0,BD51) -> 0 | BE52: =IF(BE51="",0,BE51) -> 0 | BF52: =IF(BF51="",0,BF51) -> 0 | BG52: =IF(BG51="",0,BG51) -> 0 | BH52: =IF(BH51="",0,BH51) -> 0 | BI52: =IF(BI51="",0,BI51) -> 0 | BJ52: =IF(BJ51="",0,BJ51) -> 0 | ... BR52: =IF(BR51="",0,BR51) -> 0 | BS52: =($BC$14*$BC52+$BD$14*$BD52+$BE$14*$BE52+$BF$14*$BF52+$BG$14*$BG52+$BH$14*$BH52+$BI$14*$BI52+$BJ$14*$BJ52+$BK$14*$BK52+$BL$14*$BL52+$BM$14*$BM52+$BN$14*$BN52+$BO$14*$BO52+$BP$14*$BP52+$BQ$14*$BQ52)/10 -> 0 | BT52: =MOD($BS52,1) -> 0 | BU52: =$BT52*10 -> 0 | BV52: =ROUND(BU52,1) -> 0 | BW52: =IF($BB52=0,300,(IF($BR52=$BV52,100,200))) -> 300
B55: 11 | AZ55: =SUBSTITUTE(C55,"-","") | BA55: =$AZ55*1 -> #VALUE! | BB55: =IFERROR($BA55,0) -> 0 | BC55: =IFERROR(MID(TEXT($AZ55,"????????????????"),COLUMN(A41),1)*1,"") | BD55: =IFERROR(MID(TEXT($AZ55,"????????????????"),COLUMN(B41),1)*1,"") | BE55: =IFERROR(MID(TEXT($AZ55,"????????????????"),COLUMN(C41),1)*1,"") | BF55: =IFERROR(MID(TEXT($AZ55,"????????????????"),COLUMN(D41),1)*1,"") | BG55: =IFERROR(MID(TEXT($AZ55,"????????????????"),COLUMN(E41),1)*1,"") | BH55: =IFERROR(MID(TEXT($AZ55,"????????????????"),COLUMN(F41),1)*1,"") | BI55: =IFERROR(MID(TEXT($AZ55,"????????????????"),COLUMN(G41),1)*1,"") | BJ55: =IFERROR(MID(TEXT($AZ55,"????????????????"),COLUMN(H41),1)*1,"") | ... BR55: =IFERROR(MID(TEXT($AZ55,"????????????????"),COLUMN(P41),1)*1,"")
BB56: =$BB55 -> 0 | BC56: =IF(BC55="",0,BC55) -> 0 | BD56: =IF(BD55="",0,BD55) -> 0 | BE56: =IF(BE55="",0,BE55) -> 0 | BF56: =IF(BF55="",0,BF55) -> 0 | BG56: =IF(BG55="",0,BG55) -> 0 | BH56: =IF(BH55="",0,BH55) -> 0 | BI56: =IF(BI55="",0,BI55) -> 0 | BJ56: =IF(BJ55="",0,BJ55) -> 0 | ... BR56: =IF(BR55="",0,BR55) -> 0 | BS56: =($BC$14*$BC56+$BD$14*$BD56+$BE$14*$BE56+$BF$14*$BF56+$BG$14*$BG56+$BH$14*$BH56+$BI$14*$BI56+$BJ$14*$BJ56+$BK$14*$BK56+$BL$14*$BL56+$BM$14*$BM56+$BN$14*$BN56+$BO$14*$BO56+$BP$14*$BP56+$BQ$14*$BQ56)/10 -> 0 | BT56: =MOD($BS56,1) -> 0 | BU56: =$BT56*10 -> 0 | BV56: =ROUND(BU56,1) -> 0 | BW56: =IF($BB56=0,300,(IF($BR56=$BV56,100,200))) -> 300
B59: 12 | AZ59: =SUBSTITUTE(C59,"-","") | BA59: =$AZ59*1 -> #VALUE! | BB59: =IFERROR($BA59,0) -> 0 | BC59: =IFERROR(MID(TEXT($AZ59,"????????????????"),COLUMN(A45),1)*1,"") | BD59: =IFERROR(MID(TEXT($AZ59,"????????????????"),COLUMN(B45),1)*1,"") | BE59: =IFERROR(MID(TEXT($AZ59,"????????????????"),COLUMN(C45),1)*1,"") | BF59: =IFERROR(MID(TEXT($AZ59,"????????????????"),COLUMN(D45),1)*1,"") | BG59: =IFERROR(MID(TEXT($AZ59,"????????????????"),COLUMN(E45),1)*1,"") | BH59: =IFERROR(MID(TEXT($AZ59,"????????????????"),COLUMN(F45),1)*1,"") | BI59: =IFERROR(MID(TEXT($AZ59,"????????????????"),COLUMN(G45),1)*1,"") | BJ59: =IFERROR(MID(TEXT($AZ59,"????????????????"),COLUMN(H45),1)*1,"") | ... BR59: =IFERROR(MID(TEXT($AZ59,"????????????????"),COLUMN(P45),1)*1,"")
BB60: =$BB59 -> 0 | BC60: =IF(BC59="",0,BC59) -> 0 | BD60: =IF(BD59="",0,BD59) -> 0 | BE60: =IF(BE59="",0,BE59) -> 0 | BF60: =IF(BF59="",0,BF59) -> 0 | BG60: =IF(BG59="",0,BG59) -> 0 | BH60: =IF(BH59="",0,BH59) -> 0 | BI60: =IF(BI59="",0,BI59) -> 0 | BJ60: =IF(BJ59="",0,BJ59) -> 0 | ... BR60: =IF(BR59="",0,BR59) -> 0 | BS60: =($BC$14*$BC60+$BD$14*$BD60+$BE$14*$BE60+$BF$14*$BF60+$BG$14*$BG60+$BH$14*$BH60+$BI$14*$BI60+$BJ$14*$BJ60+$BK$14*$BK60+$BL$14*$BL60+$BM$14*$BM60+$BN$14*$BN60+$BO$14*$BO60+$BP$14*$BP60+$BQ$14*$BQ60)/10 -> 0 | BT60: =MOD($BS60,1) -> 0 | BU60: =$BT60*10 -> 0 | BV60: =ROUND(BU60,1) -> 0 | BW60: =IF($BB60=0,300,(IF($BR60=$BV60,100,200))) -> 300
B63: 13 | AZ63: =SUBSTITUTE(C63,"-","") | BA63: =$AZ63*1 -> #VALUE! | BB63: =IFERROR($BA63,0) -> 0 | BC63: =IFERROR(MID(TEXT($AZ63,"????????????????"),COLUMN(A49),1)*1,"") | BD63: =IFERROR(MID(TEXT($AZ63,"????????????????"),COLUMN(B49),1)*1,"") | BE63: =IFERROR(MID(TEXT($AZ63,"????????????????"),COLUMN(C49),1)*1,"") | BF63: =IFERROR(MID(TEXT($AZ63,"????????????????"),COLUMN(D49),1)*1,"") | BG63: =IFERROR(MID(TEXT($AZ63,"????????????????"),COLUMN(E49),1)*1,"") | BH63: =IFERROR(MID(TEXT($AZ63,"????????????????"),COLUMN(F49),1)*1,"") | BI63: =IFERROR(MID(TEXT($AZ63,"????????????????"),COLUMN(G49),1)*1,"") | BJ63: =IFERROR(MID(TEXT($AZ63,"????????????????"),COLUMN(H49),1)*1,"") | ... BR63: =IFERROR(MID(TEXT($AZ63,"????????????????"),COLUMN(P49),1)*1,"")
BB64: =$BB63 -> 0 | BC64: =IF(BC63="",0,BC63) -> 0 | BD64: =IF(BD63="",0,BD63) -> 0 | BE64: =IF(BE63="",0,BE63) -> 0 | BF64: =IF(BF63="",0,BF63) -> 0 | BG64: =IF(BG63="",0,BG63) -> 0 | BH64: =IF(BH63="",0,BH63) -> 0 | BI64: =IF(BI63="",0,BI63) -> 0 | BJ64: =IF(BJ63="",0,BJ63) -> 0 | ... BR64: =IF(BR63="",0,BR63) -> 0 | BS64: =($BC$14*$BC64+$BD$14*$BD64+$BE$14*$BE64+$BF$14*$BF64+$BG$14*$BG64+$BH$14*$BH64+$BI$14*$BI64+$BJ$14*$BJ64+$BK$14*$BK64+$BL$14*$BL64+$BM$14*$BM64+$BN$14*$BN64+$BO$14*$BO64+$BP$14*$BP64+$BQ$14*$BQ64)/10 -> 0 | BT64: =MOD($BS64,1) -> 0 | BU64: =$BT64*10 -> 0 | BV64: =ROUND(BU64,1) -> 0 | BW64: =IF($BB64=0,300,(IF($BR64=$BV64,100,200))) -> 300
B67: 14 | AZ67: =SUBSTITUTE(C67,"-","") | BA67: =$AZ67*1 -> #VALUE! | BB67: =IFERROR($BA67,0) -> 0 | BC67: =IFERROR(MID(TEXT($AZ67,"????????????????"),COLUMN(A53),1)*1,"") | BD67: =IFERROR(MID(TEXT($AZ67,"????????????????"),COLUMN(B53),1)*1,"") | BE67: =IFERROR(MID(TEXT($AZ67,"????????????????"),COLUMN(C53),1)*1,"") | BF67: =IFERROR(MID(TEXT($AZ67,"????????????????"),COLUMN(D53),1)*1,"") | BG67: =IFERROR(MID(TEXT($AZ67,"????????????????"),COLUMN(E53),1)*1,"") | BH67: =IFERROR(MID(TEXT($AZ67,"????????????????"),COLUMN(F53),1)*1,"") | BI67: =IFERROR(MID(TEXT($AZ67,"????????????????"),COLUMN(G53),1)*1,"") | BJ67: =IFERROR(MID(TEXT($AZ67,"????????????????"),COLUMN(H53),1)*1,"") | ... BR67: =IFERROR(MID(TEXT($AZ67,"????????????????"),COLUMN(P53),1)*1,"")
BB68: =$BB67 -> 0 | BC68: =IF(BC67="",0,BC67) -> 0 | BD68: =IF(BD67="",0,BD67) -> 0 | BE68: =IF(BE67="",0,BE67) -> 0 | BF68: =IF(BF67="",0,BF67) -> 0 | BG68: =IF(BG67="",0,BG67) -> 0 | BH68: =IF(BH67="",0,BH67) -> 0 | BI68: =IF(BI67="",0,BI67) -> 0 | BJ68: =IF(BJ67="",0,BJ67) -> 0 | ... BR68: =IF(BR67="",0,BR67) -> 0 | BS68: =($BC$14*$BC68+$BD$14*$BD68+$BE$14*$BE68+$BF$14*$BF68+$BG$14*$BG68+$BH$14*$BH68+$BI$14*$BI68+$BJ$14*$BJ68+$BK$14*$BK68+$BL$14*$BL68+$BM$14*$BM68+$BN$14*$BN68+$BO$14*$BO68+$BP$14*$BP68+$BQ$14*$BQ68)/10 -> 0 | BT68: =MOD($BS68,1) -> 0 | BU68: =$BT68*10 -> 0 | BV68: =ROUND(BU68,1) -> 0 | BW68: =IF($BB68=0,300,(IF($BR68=$BV68,100,200))) -> 300
B71: 15 | AZ71: =SUBSTITUTE(C71,"-","") | BA71: =$AZ71*1 -> #VALUE! | BB71: =IFERROR($BA71,0) -> 0 | BC71: =IFERROR(MID(TEXT($AZ71,"????????????????"),COLUMN(A57),1)*1,"") | BD71: =IFERROR(MID(TEXT($AZ71,"????????????????"),COLUMN(B57),1)*1,"") | BE71: =IFERROR(MID(TEXT($AZ71,"????????????????"),COLUMN(C57),1)*1,"") | BF71: =IFERROR(MID(TEXT($AZ71,"????????????????"),COLUMN(D57),1)*1,"") | BG71: =IFERROR(MID(TEXT($AZ71,"????????????????"),COLUMN(E57),1)*1,"") | BH71: =IFERROR(MID(TEXT($AZ71,"????????????????"),COLUMN(F57),1)*1,"") | BI71: =IFERROR(MID(TEXT($AZ71,"????????????????"),COLUMN(G57),1)*1,"") | BJ71: =IFERROR(MID(TEXT($AZ71,"????????????????"),COLUMN(H57),1)*1,"") | ... BR71: =IFERROR(MID(TEXT($AZ71,"????????????????"),COLUMN(P57),1)*1,"")
BB72: =$BB71 -> 0 | BC72: =IF(BC71="",0,BC71) -> 0 | BD72: =IF(BD71="",0,BD71) -> 0 | BE72: =IF(BE71="",0,BE71) -> 0 | BF72: =IF(BF71="",0,BF71) -> 0 | BG72: =IF(BG71="",0,BG71) -> 0 | BH72: =IF(BH71="",0,BH71) -> 0 | BI72: =IF(BI71="",0,BI71) -> 0 | BJ72: =IF(BJ71="",0,BJ71) -> 0 | ... BR72: =IF(BR71="",0,BR71) -> 0 | BS72: =($BC$14*$BC72+$BD$14*$BD72+$BE$14*$BE72+$BF$14*$BF72+$BG$14*$BG72+$BH$14*$BH72+$BI$14*$BI72+$BJ$14*$BJ72+$BK$14*$BK72+$BL$14*$BL72+$BM$14*$BM72+$BN$14*$BN72+$BO$14*$BO72+$BP$14*$BP72+$BQ$14*$BQ72)/10 -> 0 | BT72: =MOD($BS72,1) -> 0 | BU72: =$BT72*10 -> 0 | BV72: =ROUND(BU72,1) -> 0 | BW72: =IF($BB72=0,300,(IF($BR72=$BV72,100,200))) -> 300
B75: 《合計100％となるように記載してください》 | P75: =SUM(P15:R74) -> 0 | S75: %
B77: 特記事項：特記事項がありましたら、以下に記載して下さい。

Sheet ③-1組成情報 (記入例)
B2: ="大日精化グループ：原材料含有化学物質調査票 "&①調査のお願い!$W$6 -> 大日精化グループ：原材料含有化学物質調査票 Ver8.1 | Y2: <記入にあたってのお願い> （製品中組成情報について） ①含有率について 可能な限り代表値での記入をお願いいたします。 ②大日精化グループにおける不純物について 目的とする成分以外の未反応原料、反応触媒、指示薬、副生成物（意図した反応とは異なる反応により生成したもの）等を言います。 ③複合酸化物について ２種以上の酸化物が組み合わせて、新たな結合様式を形成してできた化学物質のことを言います。 （１）CAS登録番号(CAS RN)は、単一物質として記載してください。 （２）複合酸化物に非該当の場合は「W列」、「X列」のセルは入力不要です。 （３）複合酸化物に該当する場合は、構成しているそれぞれの金属酸化物の名称と含有率を記載してください。 （成分法規制情報/既存化学物質登録情報について） 法規制情報は、物質単位での情報を記入してください。 本調査票作成日における、関係省庁から出される最新の情報に従うものとします。 化審法、安衛法等の官報公示番号や政令番号で、複数該当する場合は、カンマ区切りですべて記載してください。 化管法に該当する場合には、対象金属の金属元素含有量（換算係数）の換算係数は必須入力となります。
B4: 貴社製品名 | F4: ='①調査のお願い (記入例)'!H16 -> daicolor1-123
B6: 調査票作成日 | F6: =IF('①調査のお願い (記入例)'!$N$15="","",'①調査のお願い (記入例)'!$H$15&'①調査のお願い (記入例)'!$K$15&'①調査のお願い (記入例)'!$L$15&'①調査のお願い (記入例)'!$M$15&'①調査のお願い (記入例)'!$N$15&'①調査のお願い (記入例)'!$O$15) -> 2024年7月30日
B7: 会社名 | F7: ='①調査のお願い (記入例)'!H18 -> 大日精化工業株式会社
B8: 部署 | F8: ='①調査のお願い (記入例)'!H19 -> CSR・ESG推進本部 品質化学品統括部 化学品管理部
B9: 担当者名 | F9: ='①調査のお願い (記入例)'!H20 -> 大日 太郎
B11: 製品中組成情報 | Y11: 日本：成分法規制情報/既存化学物質登録情報 「赤字」：必須項目、「青字」該当がある場合に記入、「黒字」：任意項目（可能であれば記入）
C12: CAS登録番号 （CAS RN） | G12: 上段 成分名称（日本語名） 下段 成分名称（英語名） | P12: 含有率 （％） | S12: 不純物 の該当 | U12: 複合酸化物 | Y12: 日本 | AV12: 備考
U13: 該非 | W13: 金属酸化物名称 | X13: 含有率（％） | Y13: 化審法 | AB13: 安衛法 | AP13: 化管法 | AT13: 毒劇法
Y14: インベントリ | Z14: 官報公示番号 | AA14: 規制 | AB14: インベントリ | AC14: 官報公示番号 | AD14: 通知・表示対象 | AE14: 政令番号 | AF14: 変異原性が認められた化学物質 | AG14: 政令番号 | AH14: 特化則 | AI14: 政令番号 | AJ14: 有機則 | AK14: 鉛中毒予防規則 | AL14: 四アルキル鉛則 | AM14: 皮膚等障害化学物質等 | AN14: がん原性物質 | AO14: 危険物 | AP14: 規制 | AQ14: 管理番号 | AR14: 金属元素等 | AS14: 換算係数 | AT14: 規制 | AU14: 政令名称or政令番号 | AZ14: 数字だけ | BC14: 15 | BD14: 14 | BE14: 13 | BF14: 12 | BG14: 11 | BH14: 10 | BI14: 9 | BJ14: 8 | BK14: 7 | BL14: 6 | BM14: 5 | BN14: 4 | BO14: 3 | BP14: 2 | BQ14: 1 | BR14: チェック
B15: 1 | C15: 1309-64-4 | G15: 酸化アンチモン(III) | P15: 40 | U15: 非該当 | Y15: 既存化学物質 | Z15: 1-543 | AA15: 第一種特定化学物質 | AB15: 既存化学物質 | AC15: 1-543 | AD15: 該当 | AE15: 9-38 | AF15: 非該当 | AH15: 第２類 | AI15: 15-2 | AJ15: 非該当 | AK15: 非該当 | AL15: 非該当 | AM15: 非該当 | AN15: 非該当 | AO15: 非該当 | AP15: 第一種指定化学物質 | AQ15: 31 | AR15: Sb | AS15: 0.835 | AT15: 劇物 | AU15: 7 | AZ15: =SUBSTITUTE(C15,"-","") -> 1309644 | BA15: =$AZ15*1 -> 1309644 | BB15: =IFERROR($BA15,0) -> 1309644 | BC15: =IFERROR(MID(TEXT($AZ15,"????????????????"),COLUMN(A1),1)*1,"") | BD15: =IFERROR(MID(TEXT($AZ15,"????????????????"),COLUMN(B1),1)*1,"") | BE15: =IFERROR(MID(TEXT($AZ15,"????????????????"),COLUMN(C1),1)*1,"") | BF15: =IFERROR(MID(TEXT($AZ15,"????????????????"),COLUMN(D1),1)*1,"") | BG15: =IFERROR(MID(TEXT($AZ15,"????????????????"),COLUMN(E1),1)*1,"") | BH15: =IFERROR(MID(TEXT($AZ15,"????????????????"),COLUMN(F1),1)*1,"") | BI15: =IFERROR(MID(TEXT($AZ15,"????????????????"),COLUMN(G1),1)*1,"") | BJ15: =IFERROR(MID(TEXT($AZ15,"????????????????"),COLUMN(H1),1)*1,"") | ... BR15: =IFERROR(MID(TEXT($AZ15,"????????????????"),COLUMN(P1),1)*1,"") -> 4
BB16: =$BB15 -> 1309644 | BC16: =IF(BC15="",0,BC15) -> 0 | BD16: =IF(BD15="",0,BD15) -> 0 | BE16: =IF(BE15="",0,BE15) -> 0 | BF16: =IF(BF15="",0,BF15) -> 0 | BG16: =IF(BG15="",0,BG15) -> 0 | BH16: =IF(BH15="",0,BH15) -> 0 | BI16: =IF(BI15="",0,BI15) -> 0 | BJ16: =IF(BJ15="",0,BJ15) -> 0 | ... BR16: =IF(BR15="",0,BR15) -> 4 | BS16: =($BC$14*$BC16+$BD$14*$BD16+$BE$14*$BE16+$BF$14*$BF16+$BG$14*$BG16+$BH$14*$BH16+$BI$14*$BI16+$BJ$14*$BJ16+$BK$14*$BK16+$BL$14*$BL16+$BM$14*$BM16+$BN$14*$BN16+$BO$14*$BO16+$BP$14*$BP16+$BQ$14*$BQ16)/10 -> 6.4 | BT16: =MOD($BS16,1) -> 0.4 | BU16: =$BT16*10 -> 4 | BV16: =ROUND(BU16,1) -> 4 | BW16: =IF($BB16=0,300,(IF($BR16=$BV16,100,200))) -> 100 | BX16: =BR16-BU16 -> 0
G17: Diantimony trioxide
B19: 2 | C19: 68187-11-1 | G19: コバルト、アルミ、クロムの複合酸化物 | P19: 20 | U19: 該当 | W19: 酸化アルミニウム | X19: 18.9 | Y19: 既存化学物質 | Z19: 1-23,1-267,1-284 | AA19: 一般化学物質 | AB19: 既存化学物質 | AC19: 1-23,1-267,1-284 | AD19: 該当 | AF19: 非該当 | AJ19: 非該当 | AK19: 非該当 | AL19: 非該当 | AM19: 非該当 | AN19: 非該当 | AO19: 非該当 | AP19: 第一種指定化学物質 | AQ19: 132 | AR19: Co | AS19: 0.294 | AT19: 非該当 | AZ19: =SUBSTITUTE(C19,"-","") -> 68187111 | BA19: =$AZ19*1 -> 68187111 | BB19: =IFERROR($BA19,0) -> 68187111 | BC19: =IFERROR(MID(TEXT($AZ19,"????????????????"),COLUMN(A5),1)*1,"") | BD19: =IFERROR(MID(TEXT($AZ19,"????????????????"),COLUMN(B5),1)*1,"") | BE19: =IFERROR(MID(TEXT($AZ19,"????????????????"),COLUMN(C5),1)*1,"") | BF19: =IFERROR(MID(TEXT($AZ19,"????????????????"),COLUMN(D5),1)*1,"") | BG19: =IFERROR(MID(TEXT($AZ19,"????????????????"),COLUMN(E5),1)*1,"") | BH19: =IFERROR(MID(TEXT($AZ19,"????????????????"),COLUMN(F5),1)*1,"") | BI19: =IFERROR(MID(TEXT($AZ19,"????????????????"),COLUMN(G5),1)*1,"") | BJ19: =IFERROR(MID(TEXT($AZ19,"????????????????"),COLUMN(H5),1)*1,"") | ... BR19: =IFERROR(MID(TEXT($AZ19,"????????????????"),COLUMN(P5),1)*1,"") -> 1
W20: 酸化コバルト | X20: 37.6 | AE20: 9-172 | AH20: 第２類 | AI20: 13-2 | AP20: 第一種指定化学物質 | AQ20: 87 | AR20: Cr | AS20: 0.249 | BB20: =$BB19 -> 68187111 | BC20: =IF(BC19="",0,BC19) -> 0 | BD20: =IF(BD19="",0,BD19) -> 0 | BE20: =IF(BE19="",0,BE19) -> 0 | BF20: =IF(BF19="",0,BF19) -> 0 | BG20: =IF(BG19="",0,BG19) -> 0 | BH20: =IF(BH19="",0,BH19) -> 0 | BI20: =IF(BI19="",0,BI19) -> 0 | BJ20: =IF(BJ19="",0,BJ19) -> 0 | ... BR20: =IF(BR19="",0,BR19) -> 1 | BS20: =($BC$14*$BC20+$BD$14*$BD20+$BE$14*$BE20+$BF$14*$BF20+$BG$14*$BG20+$BH$14*$BH20+$BI$14*$BI20+$BJ$14*$BJ20+$BK$14*$BK20+$BL$14*$BL20+$BM$14*$BM20+$BN$14*$BN20+$BO$14*$BO20+$BP$14*$BP20+$BQ$14*$BQ20)/10 -> 15.1 | BT20: =MOD($BS20,1) -> 0.1 | BU20: =$BT20*10 -> 1 | BV20: =ROUND(BU20,1) -> 1 | BW20: =IF($BB20=0,300,(IF($BR20=$BV20,100,200))) -> 100 | BX20: =BR20-BU20 -> 3.5527137e-15
G21: C.I. Pigment blue 36 | W21: 酸化クロム | X21: 43.5 | AE21: 9-142
B23: 3 | C23: 登録なし | G23: エポキシ・酸付加物樹脂 | P23: 15 | U23: 非該当 | Y23: 既存化学物質 | Z23: 登録あり | AA23: 一般化学物質 | AB23: 既存化学物質 | AC23: 非開示 | AD23: 非該当 | AF23: 非該当 | AH23: 非該当 | AJ23: 非該当 | AK23: 非該当 | AL23: 非該当 | AM23: 非該当 | AN23: 非該当 | AO23: 非該当 | AP23: 非該当 | AT23: 非該当 | AZ23: =SUBSTITUTE(C23,"-","") -> 登録なし | BA23: =$AZ23*1 -> #VALUE! | BB23: =IFERROR($BA23,0) -> 0 | BC23: =IFERROR(MID(TEXT($AZ23,"????????????????"),COLUMN(A9),1)*1,"") | BD23: =IFERROR(MID(TEXT($AZ23,"????????????????"),COLUMN(B9),1)*1,"") | BE23: =IFERROR(MID(TEXT($AZ23,"????????????????"),COLUMN(C9),1)*1,"") | BF23: =IFERROR(MID(TEXT($AZ23,"????????????????"),COLUMN(D9),1)*1,"") | BG23: =IFERROR(MID(TEXT($AZ23,"????????????????"),COLUMN(E9),1)*1,"") | BH23: =IFERROR(MID(TEXT($AZ23,"????????????????"),COLUMN(F9),1)*1,"") | BI23: =IFERROR(MID(TEXT($AZ23,"????????????????"),COLUMN(G9),1)*1,"") | BJ23: =IFERROR(MID(TEXT($AZ23,"????????????????"),COLUMN(H9),1)*1,"") | ... BR23: =IFERROR(MID(TEXT($AZ23,"????????????????"),COLUMN(P9),1)*1,"")
BB24: =$BB23 -> 0 | BC24: =IF(BC23="",0,BC23) -> 0 | BD24: =IF(BD23="",0,BD23) -> 0 | BE24: =IF(BE23="",0,BE23) -> 0 | BF24: =IF(BF23="",0,BF23) -> 0 | BG24: =IF(BG23="",0,BG23) -> 0 | BH24: =IF(BH23="",0,BH23) -> 0 | BI24: =IF(BI23="",0,BI23) -> 0 | BJ24: =IF(BJ23="",0,BJ23) -> 0 | ... BR24: =IF(BR23="",0,BR23) -> 0 | BS24: =($BC$14*$BC24+$BD$14*$BD24+$BE$14*$BE24+$BF$14*$BF24+$BG$14*$BG24+$BH$14*$BH24+$BI$14*$BI24+$BJ$14*$BJ24+$BK$14*$BK24+$BL$14*$BL24+$BM$14*$BM24+$BN$14*$BN24+$BO$14*$BO24+$BP$14*$BP24+$BQ$14*$BQ24)/10 -> 0 | BT24: =MOD($BS24,1) -> 0 | BU24: =$BT24*10 -> 0 | BV24: =ROUND(BU24,1) -> 0 | BW24: =IF($BB24=0,300,(IF($BR24=$BV24,100,200))) -> 300 | BX24: =BR24-BU24 -> 0
G25: Epoxy/acid adduct resin
B27: 4 | C27: 108-88-3 | G27: トルエン | P27: 11.997999 | U27: 非該当 | Y27: 既存化学物質 | Z27: 3-2,3-60 | AA27: 一般化学物質 | AB27: 既存化学物質 | AC27: 3-2,3-60 | AD27: 該当 | AE27: 9-407 | AF27: 非該当 | AH27: 非該当 | AJ27: 第２種有機溶剤 | AK27: 非該当 | AL27: 非該当 | AM27: 該当 | AN27: 非該当 | AO27: 引火性 | AP27: 第一種指定化学物質 | AQ27: 300 | AT27: 劇物 | AU27: 76-2 | AZ27: =SUBSTITUTE(C27,"-","") -> 108883 | BA27: =$AZ27*1 -> 108883 | BB27: =IFERROR($BA27,0) -> 108883 | BC27: =IFERROR(MID(TEXT($AZ27,"????????????????"),COLUMN(A13),1)*1,"") | BD27: =IFERROR(MID(TEXT($AZ27,"????????????????"),COLUMN(B13),1)*1,"") | BE27: =IFERROR(MID(TEXT($AZ27,"????????????????"),COLUMN(C13),1)*1,"") | BF27: =IFERROR(MID(TEXT($AZ27,"????????????????"),COLUMN(D13),1)*1,"") | BG27: =IFERROR(MID(TEXT($AZ27,"????????????????"),COLUMN(E13),1)*1,"") | BH27: =IFERROR(MID(TEXT($AZ27,"????????????????"),COLUMN(F13),1)*1,"") | BI27: =IFERROR(MID(TEXT($AZ27,"????????????????"),COLUMN(G13),1)*1,"") | BJ27: =IFERROR(MID(TEXT($AZ27,"????????????????"),COLUMN(H13),1)*1,"") | ... BR27: =IFERROR(MID(TEXT($AZ27,"????????????????"),COLUMN(P13),1)*1,"") -> 3
BB28: =$BB27 -> 108883 | BC28: =IF(BC27="",0,BC27) -> 0 | BD28: =IF(BD27="",0,BD27) -> 0 | BE28: =IF(BE27="",0,BE27) -> 0 | BF28: =IF(BF27="",0,BF27) -> 0 | BG28: =IF(BG27="",0,BG27) -> 0 | BH28: =IF(BH27="",0,BH27) -> 0 | BI28: =IF(BI27="",0,BI27) -> 0 | BJ28: =IF(BJ27="",0,BJ27) -> 0 | ... BR28: =IF(BR27="",0,BR27) -> 3 | BS28: =($BC$14*$BC28+$BD$14*$BD28+$BE$14*$BE28+$BF$14*$BF28+$BG$14*$BG28+$BH$14*$BH28+$BI$14*$BI28+$BJ$14*$BJ28+$BK$14*$BK28+$BL$14*$BL28+$BM$14*$BM28+$BN$14*$BN28+$BO$14*$BO28+$BP$14*$BP28+$BQ$14*$BQ28)/10 -> 5.3 | BT28: =MOD($BS28,1) -> 0.3 | BU28: =$BT28*10 -> 3 | BV28: =ROUND(BU28,1) -> 3 | BW28: =IF($BB28=0,300,(IF($BR28=$BV28,100,200))) -> 100 | BX28: =BR28-BU28 -> 0
G29: Toluene
B31: 5 | C31: 非開示 | G31: その他 | P31: 6 | U31: 非該当 | Y31: 既存化学物質 | Z31: 非開示 | AA31: 一般化学物質 | AB31: 既存化学物質 | AC31: 非開示 | AD31: 非該当 | AF31: 非該当 | AH31: 非該当 | AJ31: 非該当 | AK31: 非該当 | AL31: 非該当 | AM31: 非該当 | AN31: 非該当 | AO31: 非該当 | AP31: 非該当 | AT31: 非該当 | AZ31: =SUBSTITUTE(C31,"-","") -> 非開示 | BA31: =$AZ31*1 -> #VALUE! | BB31: =IFERROR($BA31,0) -> 0 | BC31: =IFERROR(MID(TEXT($AZ31,"????????????????"),COLUMN(A17),1)*1,"") | BD31: =IFERROR(MID(TEXT($AZ31,"????????????????"),COLUMN(B17),1)*1,"") | BE31: =IFERROR(MID(TEXT($AZ31,"????????????????"),COLUMN(C17),1)*1,"") | BF31: =IFERROR(MID(TEXT($AZ31,"????????????????"),COLUMN(D17),1)*1,"") | BG31: =IFERROR(MID(TEXT($AZ31,"????????????????"),COLUMN(E17),1)*1,"") | BH31: =IFERROR(MID(TEXT($AZ31,"????????????????"),COLUMN(F17),1)*1,"") | BI31: =IFERROR(MID(TEXT($AZ31,"????????????????"),COLUMN(G17),1)*1,"") | BJ31: =IFERROR(MID(TEXT($AZ31,"????????????????"),COLUMN(H17),1)*1,"") | ... BR31: =IFERROR(MID(TEXT($AZ31,"????????????????"),COLUMN(P17),1)*1,"")
BB32: =$BB31 -> 0 | BC32: =IF(BC31="",0,BC31) -> 0 | BD32: =IF(BD31="",0,BD31) -> 0 | BE32: =IF(BE31="",0,BE31) -> 0 | BF32: =IF(BF31="",0,BF31) -> 0 | BG32: =IF(BG31="",0,BG31) -> 0 | BH32: =IF(BH31="",0,BH31) -> 0 | BI32: =IF(BI31="",0,BI31) -> 0 | BJ32: =IF(BJ31="",0,BJ31) -> 0 | ... BR32: =IF(BR31="",0,BR31) -> 0 | BS32: =($BC$14*$BC32+$BD$14*$BD32+$BE$14*$BE32+$BF$14*$BF32+$BG$14*$BG32+$BH$14*$BH32+$BI$14*$BI32+$BJ$14*$BJ32+$BK$14*$BK32+$BL$14*$BL32+$BM$14*$BM32+$BN$14*$BN32+$BO$14*$BO32+$BP$14*$BP32+$BQ$14*$BQ32)/10 -> 0 | BT32: =MOD($BS32,1) -> 0 | BU32: =$BT32*10 -> 0 | BV32: =ROUND(BU32,1) -> 0 | BW32: =IF($BB32=0,300,(IF($BR32=$BV32,100,200))) -> 300
G33: Others
B35: 6 | C35: 7681-65-4 | G35: ヨウ化銅 | P35: 5 | U35: 非該当 | Y35: 既存化学物質 | Z35: 1-295 | AA35: 一般化学物質 | AB35: 既存化学物質 | AC35: 1-295 | AD35: 該当 | AE35: 9-379 | AF35: 非該当 | AH35: 非該当 | AJ35: 非該当 | AK35: 非該当 | AL35: 非該当 | AM35: 非該当 | AN35: 非該当 | AO35: 非該当 | AT35: 劇物 | AU35: 無機銅塩類 | AZ35: =SUBSTITUTE(C35,"-","") -> 7681654 | BA35: =$AZ35*1 -> 7681654 | BB35: =IFERROR($BA35,0) -> 7681654 | BC35: =IFERROR(MID(TEXT($AZ35,"????????????????"),COLUMN(A21),1)*1,"") | BD35: =IFERROR(MID(TEXT($AZ35,"????????????????"),COLUMN(B21),1)*1,"") | BE35: =IFERROR(MID(TEXT($AZ35,"????????????????"),COLUMN(C21),1)*1,"") | BF35: =IFERROR(MID(TEXT($AZ35,"????????????????"),COLUMN(D21),1)*1,"") | BG35: =IFERROR(MID(TEXT($AZ35,"????????????????"),COLUMN(E21),1)*1,"") | BH35: =IFERROR(MID(TEXT($AZ35,"????????????????"),COLUMN(F21),1)*1,"") | BI35: =IFERROR(MID(TEXT($AZ35,"????????????????"),COLUMN(G21),1)*1,"") | BJ35: =IFERROR(MID(TEXT($AZ35,"????????????????"),COLUMN(H21),1)*1,"") | ... BR35: =IFERROR(MID(TEXT($AZ35,"????????????????"),COLUMN(P21),1)*1,"") -> 4
AE36: 9-605 | BB36: =$BB35 -> 7681654 | BC36: =IF(BC35="",0,BC35) -> 0 | BD36: =IF(BD35="",0,BD35) -> 0 | BE36: =IF(BE35="",0,BE35) -> 0 | BF36: =IF(BF35="",0,BF35) -> 0 | BG36: =IF(BG35="",0,BG35) -> 0 | BH36: =IF(BH35="",0,BH35) -> 0 | BI36: =IF(BI35="",0,BI35) -> 0 | BJ36: =IF(BJ35="",0,BJ35) -> 0 | ... BR36: =IF(BR35="",0,BR35) -> 4 | BS36: =($BC$14*$BC36+$BD$14*$BD36+$BE$14*$BE36+$BF$14*$BF36+$BG$14*$BG36+$BH$14*$BH36+$BI$14*$BI36+$BJ$14*$BJ36+$BK$14*$BK36+$BL$14*$BL36+$BM$14*$BM36+$BN$14*$BN36+$BO$14*$BO36+$BP$14*$BP36+$BQ$14*$BQ36)/10 -> 12.4 | BT36: =MOD($BS36,1) -> 0.4 | BU36: =$BT36*10 -> 4 | BV36: =ROUND(BU36,1) -> 4 | BW36: =IF($BB36=0,300,(IF($BR36=$BV36,100,200))) -> 100
G37: Copper iodide
B39: 7 | C39: 103-11-7 | G39: アクリル酸２－エチルヘキシル | P39: 1.1 | S39: 不純物 | U39: 非該当 | Y39: 既存化学物質 | Z39: 2-990 | AA39: 一般化学物質 | AB39: 既存化学物質 | AC39: 2-990 | AD39: 非該当 | AF39: 非該当 | AH39: 非該当 | AJ39: 非該当 | AK39: 非該当 | AL39: 非該当 | AM39: 該当 | AN39: 非該当 | AO39: 非該当 | AP39: 第一種指定化学物質 | AQ39: 564 | AT39: 非該当 | AZ39: =SUBSTITUTE(C39,"-","") -> 103117 | BA39: =$AZ39*1 -> 103117 | BB39: =IFERROR($BA39,0) -> 103117 | BC39: =IFERROR(MID(TEXT($AZ39,"????????????????"),COLUMN(A25),1)*1,"") | BD39: =IFERROR(MID(TEXT($AZ39,"????????????????"),COLUMN(B25),1)*1,"") | BE39: =IFERROR(MID(TEXT($AZ39,"????????????????"),COLUMN(C25),1)*1,"") | BF39: =IFERROR(MID(TEXT($AZ39,"????????????????"),COLUMN(D25),1)*1,"") | BG39: =IFERROR(MID(TEXT($AZ39,"????????????????"),COLUMN(E25),1)*1,"") | BH39: =IFERROR(MID(TEXT($AZ39,"????????????????"),COLUMN(F25),1)*1,"") | BI39: =IFERROR(MID(TEXT($AZ39,"????????????????"),COLUMN(G25),1)*1,"") | BJ39: =IFERROR(MID(TEXT($AZ39,"????????????????"),COLUMN(H25),1)*1,"") | ... BR39: =IFERROR(MID(TEXT($AZ39,"????????????????"),COLUMN(P25),1)*1,"") -> 7
BB40: =$BB39 -> 103117 | BC40: =IF(BC39="",0,BC39) -> 0 | BD40: =IF(BD39="",0,BD39) -> 0 | BE40: =IF(BE39="",0,BE39) -> 0 | BF40: =IF(BF39="",0,BF39) -> 0 | BG40: =IF(BG39="",0,BG39) -> 0 | BH40: =IF(BH39="",0,BH39) -> 0 | BI40: =IF(BI39="",0,BI39) -> 0 | BJ40: =IF(BJ39="",0,BJ39) -> 0 | ... BR40: =IF(BR39="",0,BR39) -> 7 | BS40: =($BC$14*$BC40+$BD$14*$BD40+$BE$14*$BE40+$BF$14*$BF40+$BG$14*$BG40+$BH$14*$BH40+$BI$14*$BI40+$BJ$14*$BJ40+$BK$14*$BK40+$BL$14*$BL40+$BM$14*$BM40+$BN$14*$BN40+$BO$14*$BO40+$BP$14*$BP40+$BQ$14*$BQ40)/10 -> 1.7 | BT40: =MOD($BS40,1) -> 0.7 | BU40: =$BT40*10 -> 7 | BV40: =ROUND(BU40,1) -> 7 | BW40: =IF($BB40=0,300,(IF($BR40=$BV40,100,200))) -> 100
G41: 2-Ethylhexyl acrylate
B43: 8 | C43: 非開示 | G43: 酸化防止剤 | P43: 0.9 | U43: 非該当 | Y43: 既存化学物質 | Z43: 非開示 | AA43: 一般化学物質 | AB43: 既存化学物質 | AC43: 非開示 | AD43: 該当 | AE43: 非開示 | AF43: 非該当 | AH43: 非該当 | AJ43: 非該当 | AK43: 非該当 | AL43: 非該当 | AM43: 非該当 | AN43: 非該当 | AO43: 非該当 | AP43: 非該当 | AT43: 非該当 | AV43: 安衛法(通知、表示)→閾値未満 | AZ43: =SUBSTITUTE(C43,"-","") -> 非開示 | BA43: =$AZ43*1 -> #VALUE! | BB43: =IFERROR($BA43,0) -> 0 | BC43: =IFERROR(MID(TEXT($AZ43,"????????????????"),COLUMN(A29),1)*1,"") | BD43: =IFERROR(MID(TEXT($AZ43,"????????????????"),COLUMN(B29),1)*1,"") | BE43: =IFERROR(MID(TEXT($AZ43,"????????????????"),COLUMN(C29),1)*1,"") | BF43: =IFERROR(MID(TEXT($AZ43,"????????????????"),COLUMN(D29),1)*1,"") | BG43: =IFERROR(MID(TEXT($AZ43,"????????????????"),COLUMN(E29),1)*1,"") | BH43: =IFERROR(MID(TEXT($AZ43,"????????????????"),COLUMN(F29),1)*1,"") | BI43: =IFERROR(MID(TEXT($AZ43,"????????????????"),COLUMN(G29),1)*1,"") | BJ43: =IFERROR(MID(TEXT($AZ43,"????????????????"),COLUMN(H29),1)*1,"") | ... BR43: =IFERROR(MID(TEXT($AZ43,"????????????????"),COLUMN(P29),1)*1,"")
BB44: =$BB43 -> 0 | BC44: =IF(BC43="",0,BC43) -> 0 | BD44: =IF(BD43="",0,BD43) -> 0 | BE44: =IF(BE43="",0,BE43) -> 0 | BF44: =IF(BF43="",0,BF43) -> 0 | BG44: =IF(BG43="",0,BG43) -> 0 | BH44: =IF(BH43="",0,BH43) -> 0 | BI44: =IF(BI43="",0,BI43) -> 0 | BJ44: =IF(BJ43="",0,BJ43) -> 0 | ... BR44: =IF(BR43="",0,BR43) -> 0 | BS44: =($BC$14*$BC44+$BD$14*$BD44+$BE$14*$BE44+$BF$14*$BF44+$BG$14*$BG44+$BH$14*$BH44+$BI$14*$BI44+$BJ$14*$BJ44+$BK$14*$BK44+$BL$14*$BL44+$BM$14*$BM44+$BN$14*$BN44+$BO$14*$BO44+$BP$14*$BP44+$BQ$14*$BQ44)/10 -> 0 | BT44: =MOD($BS44,1) -> 0 | BU44: =$BT44*10 -> 0 | BV44: =ROUND(BU44,1) -> 0 | BW44: =IF($BB44=0,300,(IF($BR44=$BV44,100,200))) -> 300
G45: Antioxidants
B47: 9 | C47: 非開示 | G47: 添加剤 | P47: 0.002 | U47: 非該当 | Y47: 既存化学物質 | Z47: 非開示 | AA47: 一般化学物質 | AB47: 既存化学物質 | AC47: 非開示 | AD47: 該当 | AE47: 非開示 | AF47: 非該当 | AH47: 非該当 | AJ47: 非該当 | AK47: 非該当 | AL47: 非該当 | AM47: 非該当 | AN47: 非該当 | AO47: 引火性 | AP47: 非該当 | AT47: 非該当 | AV47: 安衛法(通知、表示)→閾値未満 | AZ47: =SUBSTITUTE(C47,"-","") -> 非開示 | BA47: =$AZ47*1 -> #VALUE! | BB47: =IFERROR($BA47,0) -> 0 | BC47: =IFERROR(MID(TEXT($AZ47,"????????????????"),COLUMN(A33),1)*1,"") | BD47: =IFERROR(MID(TEXT($AZ47,"????????????????"),COLUMN(B33),1)*1,"") | BE47: =IFERROR(MID(TEXT($AZ47,"????????????????"),COLUMN(C33),1)*1,"") | BF47: =IFERROR(MID(TEXT($AZ47,"????????????????"),COLUMN(D33),1)*1,"") | BG47: =IFERROR(MID(TEXT($AZ47,"????????????????"),COLUMN(E33),1)*1,"") | BH47: =IFERROR(MID(TEXT($AZ47,"????????????????"),COLUMN(F33),1)*1,"") | BI47: =IFERROR(MID(TEXT($AZ47,"????????????????"),COLUMN(G33),1)*1,"") | BJ47: =IFERROR(MID(TEXT($AZ47,"????????????????"),COLUMN(H33),1)*1,"") | ... BR47: =IFERROR(MID(TEXT($AZ47,"????????????????"),COLUMN(P33),1)*1,"")
BB48: =$BB47 -> 0 | BC48: =IF(BC47="",0,BC47) -> 0 | BD48: =IF(BD47="",0,BD47) -> 0 | BE48: =IF(BE47="",0,BE47) -> 0 | BF48: =IF(BF47="",0,BF47) -> 0 | BG48: =IF(BG47="",0,BG47) -> 0 | BH48: =IF(BH47="",0,BH47) -> 0 | BI48: =IF(BI47="",0,BI47) -> 0 | BJ48: =IF(BJ47="",0,BJ47) -> 0 | ... BR48: =IF(BR47="",0,BR47) -> 0 | BS48: =($BC$14*$BC48+$BD$14*$BD48+$BE$14*$BE48+$BF$14*$BF48+$BG$14*$BG48+$BH$14*$BH48+$BI$14*$BI48+$BJ$14*$BJ48+$BK$14*$BK48+$BL$14*$BL48+$BM$14*$BM48+$BN$14*$BN48+$BO$14*$BO48+$BP$14*$BP48+$BQ$14*$BQ48)/10 -> 0 | BT48: =MOD($BS48,1) -> 0 | BU48: =$BT48*10 -> 0 | BV48: =ROUND(BU48,1) -> 0 | BW48: =IF($BB48=0,300,(IF($BR48=$BV48,100,200))) -> 300
G49: Additive
B51: 10 | C51: 1336-36-3 | G51: ポリ塩化ビフェニル | P51: 1e-06 | S51: 不純物 | U51: 非該当 | Y51: 既存化学物質 | Z51: - | AA51: 第一種特定化学物質 | AB51: 既存化学物質 | AC51: - | AD51: 該当 | AE51: 3-1-3 | AF51: 非該当 | AH51: 第１類 | AI51: 3 | AJ51: 非該当 | AK51: 非該当 | AL51: 非該当 | AM51: 該当 | AN51: 該当 | AO51: 非該当 | AP51: 特定第一種指定化学物質 | AQ51: 406 | AT51: 非該当 | AV51: BAT申請済 | AZ51: =SUBSTITUTE(C51,"-","") -> 1336363 | BA51: =$AZ51*1 -> 1336363 | BB51: =IFERROR($BA51,0) -> 1336363 | BC51: =IFERROR(MID(TEXT($AZ51,"????????????????"),COLUMN(A37),1)*1,"") | BD51: =IFERROR(MID(TEXT($AZ51,"????????????????"),COLUMN(B37),1)*1,"") | BE51: =IFERROR(MID(TEXT($AZ51,"????????????????"),COLUMN(C37),1)*1,"") | BF51: =IFERROR(MID(TEXT($AZ51,"????????????????"),COLUMN(D37),1)*1,"") | BG51: =IFERROR(MID(TEXT($AZ51,"????????????????"),COLUMN(E37),1)*1,"") | BH51: =IFERROR(MID(TEXT($AZ51,"????????????????"),COLUMN(F37),1)*1,"") | BI51: =IFERROR(MID(TEXT($AZ51,"????????????????"),COLUMN(G37),1)*1,"") | BJ51: =IFERROR(MID(TEXT($AZ51,"????????????????"),COLUMN(H37),1)*1,"") | ... BR51: =IFERROR(MID(TEXT($AZ51,"????????????????"),COLUMN(P37),1)*1,"") -> 3
BB52: =$BB51 -> 1336363 | BC52: =IF(BC51="",0,BC51) -> 0 | BD52: =IF(BD51="",0,BD51) -> 0 | BE52: =IF(BE51="",0,BE51) -> 0 | BF52: =IF(BF51="",0,BF51) -> 0 | BG52: =IF(BG51="",0,BG51) -> 0 | BH52: =IF(BH51="",0,BH51) -> 0 | BI52: =IF(BI51="",0,BI51) -> 0 | BJ52: =IF(BJ51="",0,BJ51) -> 0 | ... BR52: =IF(BR51="",0,BR51) -> 3 | BS52: =($BC$14*$BC52+$BD$14*$BD52+$BE$14*$BE52+$BF$14*$BF52+$BG$14*$BG52+$BH$14*$BH52+$BI$14*$BI52+$BJ$14*$BJ52+$BK$14*$BK52+$BL$14*$BL52+$BM$14*$BM52+$BN$14*$BN52+$BO$14*$BO52+$BP$14*$BP52+$BQ$14*$BQ52)/10 -> 6.3 | BT52: =MOD($BS52,1) -> 0.3 | BU52: =$BT52*10 -> 3 | BV52: =ROUND(BU52,1) -> 3 | BW52: =IF($BB52=0,300,(IF($BR52=$BV52,100,200))) -> 100
G53: Polychlorobiphenyl
B55: 11 | AZ55: =SUBSTITUTE(C55,"-","") | BA55: =$AZ55*1 -> #VALUE! | BB55: =IFERROR($BA55,0) -> 0 | BC55: =IFERROR(MID(TEXT($AZ55,"????????????????"),COLUMN(A41),1)*1,"") | BD55: =IFERROR(MID(TEXT($AZ55,"????????????????"),COLUMN(B41),1)*1,"") | BE55: =IFERROR(MID(TEXT($AZ55,"????????????????"),COLUMN(C41),1)*1,"") | BF55: =IFERROR(MID(TEXT($AZ55,"????????????????"),COLUMN(D41),1)*1,"") | BG55: =IFERROR(MID(TEXT($AZ55,"????????????????"),COLUMN(E41),1)*1,"") | BH55: =IFERROR(MID(TEXT($AZ55,"????????????????"),COLUMN(F41),1)*1,"") | BI55: =IFERROR(MID(TEXT($AZ55,"????????????????"),COLUMN(G41),1)*1,"") | BJ55: =IFERROR(MID(TEXT($AZ55,"????????????????"),COLUMN(H41),1)*1,"") | ... BR55: =IFERROR(MID(TEXT($AZ55,"????????????????"),COLUMN(P41),1)*1,"")
BB56: =$BB55 -> 0 | BC56: =IF(BC55="",0,BC55) -> 0 | BD56: =IF(BD55="",0,BD55) -> 0 | BE56: =IF(BE55="",0,BE55) -> 0 | BF56: =IF(BF55="",0,BF55) -> 0 | BG56: =IF(BG55="",0,BG55) -> 0 | BH56: =IF(BH55="",0,BH55) -> 0 | BI56: =IF(BI55="",0,BI55) -> 0 | BJ56: =IF(BJ55="",0,BJ55) -> 0 | ... BR56: =IF(BR55="",0,BR55) -> 0 | BS56: =($BC$14*$BC56+$BD$14*$BD56+$BE$14*$BE56+$BF$14*$BF56+$BG$14*$BG56+$BH$14*$BH56+$BI$14*$BI56+$BJ$14*$BJ56+$BK$14*$BK56+$BL$14*$BL56+$BM$14*$BM56+$BN$14*$BN56+$BO$14*$BO56+$BP$14*$BP56+$BQ$14*$BQ56)/10 -> 0 | BT56: =MOD($BS56,1) -> 0 | BU56: =$BT56*10 -> 0 | BV56: =ROUND(BU56,1) -> 0 | BW56: =IF($BB56=0,300,(IF($BR56=$BV56,100,200))) -> 300
B59: 12 | AZ59: =SUBSTITUTE(C59,"-","") | BA59: =$AZ59*1 -> #VALUE! | BB59: =IFERROR($BA59,0) -> 0 | BC59: =IFERROR(MID(TEXT($AZ59,"????????????????"),COLUMN(A45),1)*1,"") | BD59: =IFERROR(MID(TEXT($AZ59,"????????????????"),COLUMN(B45),1)*1,"") | BE59: =IFERROR(MID(TEXT($AZ59,"????????????????"),COLUMN(C45),1)*1,"") | BF59: =IFERROR(MID(TEXT($AZ59,"????????????????"),COLUMN(D45),1)*1,"") | BG59: =IFERROR(MID(TEXT($AZ59,"????????????????"),COLUMN(E45),1)*1,"") | BH59: =IFERROR(MID(TEXT($AZ59,"????????????????"),COLUMN(F45),1)*1,"") | BI59: =IFERROR(MID(TEXT($AZ59,"????????????????"),COLUMN(G45),1)*1,"") | BJ59: =IFERROR(MID(TEXT($AZ59,"????????????????"),COLUMN(H45),1)*1,"") | ... BR59: =IFERROR(MID(TEXT($AZ59,"????????????????"),COLUMN(P45),1)*1,"")
BB60: =$BB59 -> 0 | BC60: =IF(BC59="",0,BC59) -> 0 | BD60: =IF(BD59="",0,BD59) -> 0 | BE60: =IF(BE59="",0,BE59) -> 0 | BF60: =IF(BF59="",0,BF59) -> 0 | BG60: =IF(BG59="",0,BG59) -> 0 | BH60: =IF(BH59="",0,BH59) -> 0 | BI60: =IF(BI59="",0,BI59) -> 0 | BJ60: =IF(BJ59="",0,BJ59) -> 0 | ... BR60: =IF(BR59="",0,BR59) -> 0 | BS60: =($BC$14*$BC60+$BD$14*$BD60+$BE$14*$BE60+$BF$14*$BF60+$BG$14*$BG60+$BH$14*$BH60+$BI$14*$BI60+$BJ$14*$BJ60+$BK$14*$BK60+$BL$14*$BL60+$BM$14*$BM60+$BN$14*$BN60+$BO$14*$BO60+$BP$14*$BP60+$BQ$14*$BQ60)/10 -> 0 | BT60: =MOD($BS60,1) -> 0 | BU60: =$BT60*10 -> 0 | BV60: =ROUND(BU60,1) -> 0 | BW60: =IF($BB60=0,300,(IF($BR60=$BV60,100,200))) -> 300
B63: 13 | AZ63: =SUBSTITUTE(C63,"-","") | BA63: =$AZ63*1 -> #VALUE! | BB63: =IFERROR($BA63,0) -> 0 | BC63: =IFERROR(MID(TEXT($AZ63,"????????????????"),COLUMN(A49),1)*1,"") | BD63: =IFERROR(MID(TEXT($AZ63,"????????????????"),COLUMN(B49),1)*1,"") | BE63: =IFERROR(MID(TEXT($AZ63,"????????????????"),COLUMN(C49),1)*1,"") | BF63: =IFERROR(MID(TEXT($AZ63,"????????????????"),COLUMN(D49),1)*1,"") | BG63: =IFERROR(MID(TEXT($AZ63,"????????????????"),COLUMN(E49),1)*1,"") | BH63: =IFERROR(MID(TEXT($AZ63,"????????????????"),COLUMN(F49),1)*1,"") | BI63: =IFERROR(MID(TEXT($AZ63,"????????????????"),COLUMN(G49),1)*1,"") | BJ63: =IFERROR(MID(TEXT($AZ63,"????????????????"),COLUMN(H49),1)*1,"") | ... BR63: =IFERROR(MID(TEXT($AZ63,"????????????????"),COLUMN(P49),1)*1,"")
BB64: =$BB63 -> 0 | BC64: =IF(BC63="",0,BC63) -> 0 | BD64: =IF(BD63="",0,BD63) -> 0 | BE64: =IF(BE63="",0,BE63) -> 0 | BF64: =IF(BF63="",0,BF63) -> 0 | BG64: =IF(BG63="",0,BG63) -> 0 | BH64: =IF(BH63="",0,BH63) -> 0 | BI64: =IF(BI63="",0,BI63) -> 0 | BJ64: =IF(BJ63="",0,BJ63) -> 0 | ... BR64: =IF(BR63="",0,BR63) -> 0 | BS64: =($BC$14*$BC64+$BD$14*$BD64+$BE$14*$BE64+$BF$14*$BF64+$BG$14*$BG64+$BH$14*$BH64+$BI$14*$BI64+$BJ$14*$BJ64+$BK$14*$BK64+$BL$14*$BL64+$BM$14*$BM64+$BN$14*$BN64+$BO$14*$BO64+$BP$14*$BP64+$BQ$14*$BQ64)/10 -> 0 | BT64: =MOD($BS64,1) -> 0 | BU64: =$BT64*10 -> 0 | BV64: =ROUND(BU64,1) -> 0 | BW64: =IF($BB64=0,300,(IF($BR64=$BV64,100,200))) -> 300
B67: 14 | AZ67: =SUBSTITUTE(C67,"-","") | BA67: =$AZ67*1 -> #VALUE! | BB67: =IFERROR($BA67,0) -> 0 | BC67: =IFERROR(MID(TEXT($AZ67,"????????????????"),COLUMN(A53),1)*1,"") | BD67: =IFERROR(MID(TEXT($AZ67,"????????????????"),COLUMN(B53),1)*1,"") | BE67: =IFERROR(MID(TEXT($AZ67,"????????????????"),COLUMN(C53),1)*1,"") | BF67: =IFERROR(MID(TEXT($AZ67,"????????????????"),COLUMN(D53),1)*1,"") | BG67: =IFERROR(MID(TEXT($AZ67,"????????????????"),COLUMN(E53),1)*1,"") | BH67: =IFERROR(MID(TEXT($AZ67,"????????????????"),COLUMN(F53),1)*1,"") | BI67: =IFERROR(MID(TEXT($AZ67,"????????????????"),COLUMN(G53),1)*1,"") | BJ67: =IFERROR(MID(TEXT($AZ67,"????????????????"),COLUMN(H53),1)*1,"") | ... BR67: =IFERROR(MID(TEXT($AZ67,"????????????????"),COLUMN(P53),1)*1,"")
BB68: =$BB67 -> 0 | BC68: =IF(BC67="",0,BC67) -> 0 | BD68: =IF(BD67="",0,BD67) -> 0 | BE68: =IF(BE67="",0,BE67) -> 0 | BF68: =IF(BF67="",0,BF67) -> 0 | BG68: =IF(BG67="",0,BG67) -> 0 | BH68: =IF(BH67="",0,BH67) -> 0 | BI68: =IF(BI67="",0,BI67) -> 0 | BJ68: =IF(BJ67="",0,BJ67) -> 0 | ... BR68: =IF(BR67="",0,BR67) -> 0 | BS68: =($BC$14*$BC68+$BD$14*$BD68+$BE$14*$BE68+$BF$14*$BF68+$BG$14*$BG68+$BH$14*$BH68+$BI$14*$BI68+$BJ$14*$BJ68+$BK$14*$BK68+$BL$14*$BL68+$BM$14*$BM68+$BN$14*$BN68+$BO$14*$BO68+$BP$14*$BP68+$BQ$14*$BQ68)/10 -> 0 | BT68: =MOD($BS68,1) -> 0 | BU68: =$BT68*10 -> 0 | BV68: =ROUND(BU68,1) -> 0 | BW68: =IF($BB68=0,300,(IF($BR68=$BV68,100,200))) -> 300
B71: 15 | AZ71: =SUBSTITUTE(C71,"-","") | BA71: =$AZ71*1 -> #VALUE! | BB71: =IFERROR($BA71,0) -> 0 | BC71: =IFERROR(MID(TEXT($AZ71,"????????????????"),COLUMN(A57),1)*1,"") | BD71: =IFERROR(MID(TEXT($AZ71,"????????????????"),COLUMN(B57),1)*1,"") | BE71: =IFERROR(MID(TEXT($AZ71,"????????????????"),COLUMN(C57),1)*1,"") | BF71: =IFERROR(MID(TEXT($AZ71,"????????????????"),COLUMN(D57),1)*1,"") | BG71: =IFERROR(MID(TEXT($AZ71,"????????????????"),COLUMN(E57),1)*1,"") | BH71: =IFERROR(MID(TEXT($AZ71,"????????????????"),COLUMN(F57),1)*1,"") | BI71: =IFERROR(MID(TEXT($AZ71,"????????????????"),COLUMN(G57),1)*1,"") | BJ71: =IFERROR(MID(TEXT($AZ71,"????????????????"),COLUMN(H57),1)*1,"") | ... BR71: =IFERROR(MID(TEXT($AZ71,"????????????????"),COLUMN(P57),1)*1,"")
BB72: =$BB71 -> 0 | BC72: =IF(BC71="",0,BC71) -> 0 | BD72: =IF(BD71="",0,BD71) -> 0 | BE72: =IF(BE71="",0,BE71) -> 0 | BF72: =IF(BF71="",0,BF71) -> 0 | BG72: =IF(BG71="",0,BG71) -> 0 | BH72: =IF(BH71="",0,BH71) -> 0 | BI72: =IF(BI71="",0,BI71) -> 0 | BJ72: =IF(BJ71="",0,BJ71) -> 0 | ... BR72: =IF(BR71="",0,BR71) -> 0 | BS72: =($BC$14*$BC72+$BD$14*$BD72+$BE$14*$BE72+$BF$14*$BF72+$BG$14*$BG72+$BH$14*$BH72+$BI$14*$BI72+$BJ$14*$BJ72+$BK$14*$BK72+$BL$14*$BL72+$BM$14*$BM72+$BN$14*$BN72+$BO$14*$BO72+$BP$14*$BP72+$BQ$14*$BQ72)/10 -> 0 | BT72: =MOD($BS72,1) -> 0 | BU72: =$BT72*10 -> 0 | BV72: =ROUND(BU72,1) -> 0 | BW72: =IF($BB72=0,300,(IF($BR72=$BV72,100,200))) -> 300
B75: 《合計100％となるように記載してください》 | P75: =SUM(P15:R74) -> 100 | S75: %
B77: 特記事項：特記事項がありましたら、以下に記載して下さい。

Sheet ③-2海外インベントリ
B2: ="大日精化グループ：原材料含有化学物質調査票 "&①調査のお願い!$W$6 -> 大日精化グループ：原材料含有化学物質調査票 Ver8.1
B4: 貴社製品名 | F4: =①調査のお願い!H16 -> 0 | S4: <記入にあたってのお願い> （成分法規制情報/既存化学物質登録情報について） 本調査票作成日における、関係省庁から出される最新の情報に従うものとします。 海外の情報について不明な場合は「不明」を選択してください。 ベトナム及びタイでは正式なインベントリが未公表の為、本調査票作成日における情報を記載してください。
B6: 調査票作成日 | F6: =IF(①調査のお願い!$N$15="","",①調査のお願い!$H$15&①調査のお願い!$K$15&①調査のお願い!$L$15&①調査のお願い!$M$15&①調査のお願い!$N$15&①調査のお願い!$O$15)
B7: 会社名 | F7: =①調査のお願い!H18 -> 0
B8: 部署 | F8: =①調査のお願い!H19 -> 0
B9: 担当者名 | F9: =①調査のお願い!H20 -> 0
B11: 製品中組成情報 | O11: 海外：既存化学物質登録情報 ：任意項目（可能であれば記入）
C12: CAS登録番号 （CAS RN） | F12: 上段 成分名称（日本語名） 下段 成分名称（英語名） | O12: 米国 | P12: カナダ | Q12: EU | R12: 英国 | S12: スイス | T12: トルコ | U12: オーストラリア | V12: ニュージーランド | W12: 中国 | X12: 韓国 | Z12: 台湾 | AA12: フィリピン | AB12: ベトナム | AC12: タイ
O13: TSCA | P13: CEPA 1999 | Q13: REACH | R13: UK-REACH | S13: Chem O | T13: KKDIK | U13: 2019 ICA | V13: HSNO | W13: 新規化学物質 環境管理登録弁法 | X13: K-REACH | Y13: 産安法 | Z13: TCCSCA | AA13: RA No.6969 | AB13: 化学品法 | AC13: 有害物質法
P14: DSL/NDSL | U14: AIIC | V14: NZLoC | W14: IECSC | Z14: TCSI | AA14: PICCS | AB14: VNECI
B15: 1 | C15: ='③-1組成情報'!C15 -> 0 | F15: ='③-1組成情報'!G15 -> 0
F17: ='③-1組成情報'!G17 -> 0
B19: 2 | C19: ='③-1組成情報'!C19 -> 0 | F19: ='③-1組成情報'!G19 -> 0
F21: ='③-1組成情報'!G21 -> 0
B23: 3 | C23: ='③-1組成情報'!C23 -> 0 | F23: ='③-1組成情報'!G23 -> 0
F25: ='③-1組成情報'!G25 -> 0
B27: 4 | C27: ='③-1組成情報'!C27 -> 0 | F27: ='③-1組成情報'!G27 -> 0
F29: ='③-1組成情報'!G29 -> 0
B31: 5 | C31: ='③-1組成情報'!C31 -> 0 | F31: ='③-1組成情報'!G31 -> 0
F33: ='③-1組成情報'!G33 -> 0
B35: 6 | C35: ='③-1組成情報'!C35 -> 0 | F35: ='③-1組成情報'!G35 -> 0
F37: ='③-1組成情報'!G37 -> 0
B39: 7 | C39: ='③-1組成情報'!C39 -> 0 | F39: ='③-1組成情報'!G39 -> 0
F41: ='③-1組成情報'!G41 -> 0
B43: 8 | C43: ='③-1組成情報'!C43 -> 0 | F43: ='③-1組成情報'!G43 -> 0
F45: ='③-1組成情報'!G45 -> 0
B47: 9 | C47: ='③-1組成情報'!C47 -> 0 | F47: ='③-1組成情報'!G47 -> 0
F49: ='③-1組成情報'!G49 -> 0
B51: 10 | C51: ='③-1組成情報'!C51 -> 0 | F51: ='③-1組成情報'!G51 -> 0
F53: ='③-1組成情報'!G53 -> 0
B55: 11 | C55: ='③-1組成情報'!C55 -> 0 | F55: ='③-1組成情報'!G55 -> 0
F57: ='③-1組成情報'!G57 -> 0
B59: 12 | C59: ='③-1組成情報'!C59 -> 0 | F59: ='③-1組成情報'!G59 -> 0
F61: ='③-1組成情報'!G61 -> 0
B63: 13 | C63: ='③-1組成情報'!C63 -> 0 | F63: ='③-1組成情報'!G63 -> 0
F65: ='③-1組成情報'!G65 -> 0
B67: 14 | C67: ='③-1組成情報'!C67 -> 0 | F67: ='③-1組成情報'!G67 -> 0
F69: ='③-1組成情報'!G69 -> 0
B71: 15 | C71: ='③-1組成情報'!C71 -> 0 | F71: ='③-1組成情報'!G71 -> 0
F73: ='③-1組成情報'!G73 -> 0
B76: 特記事項：海外の既存化学物質登録情報に関する特記事項や既存物質No.等がありましたら、以下に記載して下さい。

Sheet ③-2海外インベントリ (記入例)
B2: ="大日精化グループ：原材料含有化学物質調査票 "&①調査のお願い!$W$6 -> 大日精化グループ：原材料含有化学物質調査票 Ver8.1
B4: 貴社製品名 | F4: ='①調査のお願い (記入例)'!H16 -> daicolor1-123 | S4: <記入にあたってのお願い> （成分法規制情報/既存化学物質登録情報について） 本調査票作成日における、関係省庁から出される最新の情報に従うものとします。 海外の情報について不明な場合は「不明」を選択してください。 ベトナム及びタイでは正式なインベントリが未公表の為、本調査票作成日における情報を記載してください。
B6: 調査票作成日 | F6: =IF('①調査のお願い (記入例)'!$N$15="","",'①調査のお願い (記入例)'!$H$15&'①調査のお願い (記入例)'!$K$15&'①調査のお願い (記入例)'!$L$15&'①調査のお願い (記入例)'!$M$15&'①調査のお願い (記入例)'!$N$15&'①調査のお願い (記入例)'!$O$15) -> 2024年7月30日
B7: 会社名 | F7: ='①調査のお願い (記入例)'!H18 -> 大日精化工業株式会社
B8: 部署 | F8: ='①調査のお願い (記入例)'!H19 -> CSR・ESG推進本部 品質化学品統括部 化学品管理部
B9: 担当者名 | F9: ='①調査のお願い (記入例)'!H20 -> 大日 太郎
B11: 製品中組成情報 | O11: 海外：既存化学物質登録情報 ：任意項目（可能であれば記入）
C12: CAS登録番号 （CAS RN） | F12: 上段 成分名称（日本語名） 下段 成分名称（英語名） | O12: 米国 | P12: カナダ | Q12: EU | R12: 英国 | S12: スイス | T12: トルコ | U12: オーストラリア | V12: ニュージーランド | W12: 中国 | X12: 韓国 | Z12: 台湾 | AA12: フィリピン | AB12: ベトナム | AC12: タイ
O13: TSCA | P13: CEPA 1999 | Q13: REACH | R13: UK-REACH | S13: Chem O | T13: KKDIK | U13: 2019 ICA | V13: HSNO | W13: 新規化学物質 環境管理登録弁法 | X13: K-REACH | Y13: 産安法 | Z13: TCCSCA | AA13: RA No.6969 | AB13: 化学品法 | AC13: 有害物質法
P14: DSL/NDSL | U14: AIIC | V14: NZLoC | W14: IECSC | Z14: TCSI | AA14: PICCS | AB14: VNECI
B15: 1 | C15: ='③-1組成情報 (記入例)'!C15 -> 1309-64-4 | F15: ='③-1組成情報 (記入例)'!G15 -> 酸化アンチモン(III) | O15: 収載（active物質） | P15: DSL収載 | Q15: 登録済 | R15: 登録済 | S15: EU-REACH登録済 | T15: 予備登録済 | U15: 収載 | V15: 収載 | W15: 収載 | X15: 既存化学物質登録済 | Y15: 収載 | Z15: 収載 | AA15: 収載 | AB15: 未収載 | AC15: 収載
F17: ='③-1組成情報 (記入例)'!G17 -> Diantimony trioxide
B19: 2 | C19: ='③-1組成情報 (記入例)'!C19 -> 68187-11-1 | F19: ='③-1組成情報 (記入例)'!G19 -> コバルト、アルミ、クロムの複合酸化物 | O19: 収載（active物質） | P19: DSL収載 | Q19: 登録済 | R19: 登録済 | S19: EU-REACH登録済 | T19: 未登録 | U19: 収載 | V19: 収載 | W19: 収載 | X19: 既存化学物質登録済 | Y19: 収載 | Z19: 収載 | AA19: 不明 | AB19: 不明 | AC19: 収載
F21: ='③-1組成情報 (記入例)'!G21 -> C.I. Pigment blue 36
B23: 3 | C23: ='③-1組成情報 (記入例)'!C23 -> 登録なし | F23: ='③-1組成情報 (記入例)'!G23 -> エポキシ・酸付加物樹脂 | O23: 不明 | P23: 不明 | Q23: 不明 | R23: 不明 | S23: 不明 | T23: 不明 | U23: 不明 | V23: 不明 | W23: 不明 | X23: 不明 | Y23: 不明 | Z23: 不明 | AA23: 不明 | AB23: 不明 | AC23: 不明
F25: ='③-1組成情報 (記入例)'!G25 -> Epoxy/acid adduct resin
B27: 4 | C27: ='③-1組成情報 (記入例)'!C27 -> 108-88-3 | F27: ='③-1組成情報 (記入例)'!G27 -> トルエン | O27: 収載（active物質） | P27: DSL収載 | Q27: 未登録 | R27: 未登録 | S27: EU-REACH未登録 | T27: 未登録 | U27: 収載 | V27: 収載 | W27: 収載 | X27: 既存化学物質登録済 | Y27: 収載 | Z27: 収載 | AA27: 収載 | AB27: 収載 | AC27: 収載
F29: ='③-1組成情報 (記入例)'!G29 -> Toluene
B31: 5 | C31: ='③-1組成情報 (記入例)'!C31 -> 非開示 | F31: ='③-1組成情報 (記入例)'!G31 -> その他 | O31: 収載（active物質） | P31: DSL収載 | Q31: 未登録 | R31: 未登録 | S31: EU-REACH未登録 | T31: 未登録 | U31: 収載 | V31: 不明 | W31: 収載 | X31: 既存化学物質未登録 | Y31: 収載 | Z31: 収載 | AA31: 収載 | AB31: 収載 | AC31: 収載
F33: ='③-1組成情報 (記入例)'!G33 -> Others
B35: 6 | C35: ='③-1組成情報 (記入例)'!C35 -> 7681-65-4 | F35: ='③-1組成情報 (記入例)'!G35 -> ヨウ化銅 | O35: 収載（active物質） | P35: DSL収載 | Q35: 未登録 | R35: 未登録 | S35: EU-REACH未登録 | T35: 未登録 | U35: 収載 | V35: 収載 | W35: 収載 | X35: 既存化学物質未登録 | Y35: 収載 | Z35: 収載 | AA35: 収載 | AB35: 不明 | AC35: 収載
F37: ='③-1組成情報 (記入例)'!G37 -> Copper iodide
B39: 7 | C39: ='③-1組成情報 (記入例)'!C39 -> 103-11-7 | F39: ='③-1組成情報 (記入例)'!G39 -> アクリル酸２－エチルヘキシル | O39: 収載（active物質） | P39: DSL収載 | Q39: 未登録 | R39: 未登録 | S39: EU-REACH未登録 | T39: 未登録 | U39: 未収載 | V39: 不明 | W39: 収載 | X39: 新規化学物質未登録 | Y39: 不明 | Z39: 未収載 | AA39: 未収載 | AB39: 不明 | AC39: 不明
F41: ='③-1組成情報 (記入例)'!G41 -> 2-Ethylhexyl acrylate
B43: 8 | C43: ='③-1組成情報 (記入例)'!C43 -> 非開示 | F43: ='③-1組成情報 (記入例)'!G43 -> 酸化防止剤 | O43: 収載（active物質） | P43: DSL収載 | Q43: 未登録 | R43: 未登録 | S43: EU-REACH未登録 | T43: 未登録 | U43: 収載 | V43: 収載 | W43: 収載 | X43: 既存化学物質登録済 | Y43: 収載 | Z43: 収載 | AA43: 収載 | AB43: 収載 | AC43: 収載
F45: ='③-1組成情報 (記入例)'!G45 -> Antioxidants
B47: 9 | C47: ='③-1組成情報 (記入例)'!C47 -> 非開示 | F47: ='③-1組成情報 (記入例)'!G47 -> 添加剤 | O47: 収載（active物質） | P47: DSL収載 | Q47: 登録済 | R47: 未登録 | S47: EU-REACH登録済 | T47: 予備登録済 | U47: 未収載 | V47: 未収載 | W47: 収載 | X47: 既存化学物質登録済 | Y47: 収載 | Z47: 収載 | AA47: 未収載 | AB47: 未収載 | AC47: 有害物質リスト5.6届出済
F49: ='③-1組成情報 (記入例)'!G49 -> Additive
B51: 10 | C51: ='③-1組成情報 (記入例)'!C51 -> 1336-36-3 | F51: ='③-1組成情報 (記入例)'!G51 -> ポリ塩化ビフェニル
F53: ='③-1組成情報 (記入例)'!G53 -> Polychlorobiphenyl
B55: 11 | C55: ='③-1組成情報 (記入例)'!C55 -> 0 | F55: ='③-1組成情報 (記入例)'!G55 -> 0
F57: ='③-1組成情報 (記入例)'!G57 -> 0
B59: 12 | C59: ='③-1組成情報 (記入例)'!C59 -> 0 | F59: ='③-1組成情報 (記入例)'!G59 -> 0
F61: ='③-1組成情報 (記入例)'!G61 -> 0
B63: 13 | C63: ='③-1組成情報 (記入例)'!C63 -> 0 | F63: ='③-1組成情報 (記入例)'!G63 -> 0
F65: ='③-1組成情報 (記入例)'!G65 -> 0
B67: 14 | C67: ='③-1組成情報 (記入例)'!C67 -> 0 | F67: ='③-1組成情報 (記入例)'!G67 -> 0
F69: ='③-1組成情報 (記入例)'!G69 -> 0
B71: 15 | C71: ='③-1組成情報 (記入例)'!C71 -> 0 | F71: ='③-1組成情報 (記入例)'!G71 -> 0
F73: ='③-1組成情報 (記入例)'!G73 -> 0
B76: 特記事項：海外の既存化学物質登録情報に関する特記事項や既存物質No.等がありましたら、以下に記載して下さい。

Sheet ④鉱物等調達
F2: 責任ある鉱物等調達における物質の含有状況
C4: 貴社製品名 | G4: =①調査のお願い!H16 -> 0
C7: 調査票作成日 | G7: =IF(①調査のお願い!$N$15="","",①調査のお願い!$H$15&①調査のお願い!$K$15&①調査のお願い!$L$15&①調査のお願い!$M$15&①調査のお願い!$N$15&①調査のお願い!$O$15)
C8: 会社名 | G8: =①調査のお願い!H18 -> 0
C9: 部署 | G9: =①調査のお願い!H19 -> 0
C10: 担当者名 | G10: =①調査のお願い!H20 -> 0
C12: 責任ある鉱物調達調査へのご協力のお願い
C13: 大日精化グループでは、「責任ある鉱物調達」に関して以下の内容をCSR調達基準に設定しています。 1）人権侵害、環境破壊等を引き起こし武装勢力の資金源となっている紛争鉱物を使用しないこと。 2）RMIなどが選定した紛争フリー精錬業者から調達するよう取り組むこと。 3）万一、武装勢力の資金源となっている紛争鉱物の使用が判明した場合は、是正に向けた取り組みを迅速に進めること。 つきましては、ご多忙の折、大変ご面倒をおかけ致しますが、デュー・ディリジェンスの一環として、以下、責任ある鉱物調達調査を依頼させて頂きたく、何卒ご協力の程、お願いいたします。
C19: 設問１ 「CMRT：3TG（4鉱物）」 製品自体や製造過程で、３TGが意図的に添加又は使用されていますか？
C21: スズ | L21: ※3TG：Tin, Tantalum, Tungsten, Gold
C22: タンタル
C23: タングステン
C24: 金
C26: 設問２ 「EMRT：拡張鉱物」 製品自体や製造過程で、コバルト又は天然マイカが意図的に添加又は使用されていますか？
C28: コバルト | L28: ※マイカは天然マイカのみを対象としております。
C29: マイカ
C31: 設問３ 「その他」 製品自体や製造過程で、以下の鉱物等が意図的に添加又は使用されていますか？
C33: アルミニウム | L33: ※責任ある鉱物等調達を取り巻く国際動向（ESGリスク、対象鉱物の 拡大等）を考慮の上、CMRT・EMRT対象鉱物に加え、予め今後の 調査対象となりそうな上記鉱物等の簡易的な事前調査（使用有無） も行なわせて頂きます。 ※これらの鉱物等は天然のもののみを対象としております。
C34: 銅
C35: リチウム
C36: ニッケル
C37: 鉛
C38: 亜鉛
C39: グラファイト
C40: パルプ
C41: パーム油
C43: 特記事項：鉱物等調達における特記事項がありましたら、以下に記載して下さい。
C47: ※上記回答内容により、改めて追加調査を行わせて頂く場合がございます。

Sheet ④鉱物等調達 (記入例)
F2: 責任ある鉱物等調達における物質の含有状況
C4: 貴社製品名 | G4: ='①調査のお願い (記入例)'!H16 -> daicolor1-123
C7: 調査票作成日 | G7: =IF('①調査のお願い (記入例)'!$N$15="","",'①調査のお願い (記入例)'!$H$15&'①調査のお願い (記入例)'!$K$15&'①調査のお願い (記入例)'!$L$15&'①調査のお願い (記入例)'!$M$15&'①調査のお願い (記入例)'!$N$15&'①調査のお願い (記入例)'!$O$15) -> 2024年7月30日
C8: 会社名 | G8: ='①調査のお願い (記入例)'!H18 -> 大日精化工業株式会社
C9: 部署 | G9: ='①調査のお願い (記入例)'!H19 -> CSR・ESG推進本部 品質化学品統括部 化学品管理部
C10: 担当者名 | G10: ='①調査のお願い (記入例)'!H20 -> 大日 太郎
C12: 責任ある鉱物調達調査へのご協力のお願い
C13: 大日精化グループでは、「責任ある鉱物調達」に関して以下の内容をCSR調達基準に設定しています。 1）人権侵害、環境破壊等を引き起こし武装勢力の資金源となっている紛争鉱物を使用しないこと。 2）RMIなどが選定した紛争フリー精錬業者から調達するよう取り組むこと。 3）万一、武装勢力の資金源となっている紛争鉱物の使用が判明した場合は、是正に向けた取り組みを迅速に進めること。 つきましては、ご多忙の折、大変ご面倒をおかけ致しますが、デュー・ディリジェンスの一環として、以下、責任ある鉱物調達調査を依頼させて頂きたく、何卒ご協力の程、お願いいたします。
C19: 設問１ 「CMRT：3TG（4鉱物）」 製品自体や製造過程で、３TGが意図的に添加又は使用されていますか？
C21: スズ | G21: No | L21: ※3TG：Tin, Tantalum, Tungsten, Gold
C22: タンタル | G22: No
C23: タングステン | G23: No
C24: 金 | G24: No
C26: 設問２ 「EMRT：拡張鉱物」 製品自体や製造過程で、コバルト又は天然マイカが意図的に添加又は使用されていますか？
C28: コバルト | G28: Yes | L28: ※マイカは天然マイカのみを対象としております。
C29: マイカ | G29: No
C31: 設問３ 「その他」 製品自体や製造過程で、以下の鉱物等が意図的に添加又は使用されていますか？
C33: アルミニウム | G33: No | L33: ※責任ある鉱物等調達を取り巻く国際動向（ESGリスク、対象鉱物の 拡大等）を考慮の上、CMRT・EMRT対象鉱物に加え、予め今後の 調査対象となりそうな上記鉱物等の簡易的な事前調査（使用有無） も行なわせて頂きます。 ※これらの鉱物等は天然のもののみを対象としております。
C34: 銅 | G34: Yes
C35: リチウム | G35: No
C36: ニッケル | G36: No
C37: 鉛 | G37: No
C38: 亜鉛 | G38: No
C39: グラファイト | G39: No
C40: パルプ | G40: No
C41: パーム油 | G41: No
C43: 特記事項：鉱物等調達における特記事項がありましたら、以下に記載して下さい。
C47: ※上記回答内容により、改めて追加調査を行わせて頂く場合がございます。
